BEGIN:VCALENDAR
VERSION:2.0
PRODID:-//Patriot Guard Riders - ECPv5.3.2.1//NONSGML v1.0//EN
CALSCALE:GREGORIAN
METHOD:PUBLISH
X-WR-CALNAME:Patriot Guard Riders
X-ORIGINAL-URL:https://www.patriotguard.org
X-WR-CALDESC:Events for Patriot Guard Riders
BEGIN:VTIMEZONE
TZID:America/New_York
BEGIN:DAYLIGHT
TZOFFSETFROM:-0500
TZOFFSETTO:-0400
TZNAME:EDT
DTSTART:20170312T070000
END:DAYLIGHT
BEGIN:STANDARD
TZOFFSETFROM:-0400
TZOFFSETTO:-0500
TZNAME:EST
DTSTART:20171105T060000
END:STANDARD
END:VTIMEZONE
BEGIN:VEVENT
DTSTART;TZID=America/New_York:20171106T184500
DTEND;TZID=America/New_York:20171106T204500
DTSTAMP:20210402T021716
CREATED:20171106T234500Z
LAST-MODIFIED:20191201T040855Z
UID:355519-1509993900-1510001100@www.patriotguard.org
SUMMARY:State Mission Request for 06 Nov 2017 from New York - Richard F. Nilsen
DESCRIPTION:Submitted by: \n\nMember Name: Ray Sestak\nPosition: Ride Captain\nCity\, State: Glenmont\, New York\nUser Name: PGRNYMods\nEmail: pgrnymod@gmail.com\n\nEmail Subject Line Setup\n[HR][/HR]Prefix to Use – Honor\nSubject Line – SHORT NOTICE –  Richard F. Nilsen \, Veteran\, USA – Korea\,  MULTI-CITY\, New York  – 06 Nov 2017\n[HR][/HR] \n\nSHORT NOTICE!\nMULTI-CITY! See Mod Instructions for Details\n\nMod Instructions: \n\n\n++++++++ Copy the Information above this line++++++++++ \n\nHonor Mission\n*** DO NOT REPLY ***  \nRichard F. Nilsen\, Veteran\nUSA  – Korea\nMULTI-CITY\, New York – 06 Nov 2017\n\n\n[HR][/HR]\nABOUT THE MISSION: \n\nKorean War Veteran Pfc Nilsen\, 2nd Division infantry drove a deuce & a half ferrying supplies and troops\, He had a roll over in a truck and was probably eligible for the PH but did not receive it. He served in the Pusan area and was awarded the Korean Service medal and UN Service medal.\n\n\nPRIMARY STAGING DETAILS:  06 Nov 2017\nPrimary Staging Time: 6:45 P.M. \n\nBryants Funeral Home\nOld Town Rd.\nS. Seatauket\, New York –\n\n\nRide Captain: \n\nPete Jepson\ndoublejli@optonline.net\n631-922-6330\n\n\nSpecial Instructions: \n\nViewing is 7 -9 pm. Bring your flags as there is a limited of PGR flags. In bad weather funeral home allows us to stand line inside.\n\n\nFlags & Water: \n\nFlags Will NOT Be Provided\, Please Bring Your Own.\nLarge Bike Flags will NOT be needed.\nWater WILL NOT be provided\, please bring your own.\n\n[HR][/HR]STAGING #2 DETAILS: 07 Nov\, 2017\nStaging #2 Time: 10:45 A.M. \n\nSt. Gerard Majella RC Church\n300 Terryville Rd.\nPort Jefferson Sta.\, New York –\n\n\nRide Captain: \n\nRich Pinnavaia\nrichpinn@optonline.net\n631-807-5946\n\n\nSpecial Instructions: \n\nEscort will occur if weather is all right so respond at staging time. If the weather is inclement then members should respond directly to Holy Sepulchre Cemetery \, Granny Rd. & Route 112 \, Coram at 12 noon by administration.\n\n\nFlags & Water: \n\nFlags Will NOT Be Provided\, Please Bring Your Own.\nLarge Bike Flags will be needed\nWater WILL NOT be provided\, please bring your own.\n\n\nSubmitted By: Ray Sestak\nPosition: Ride Captain\n[HR][/HR]Note:\nYou do not have to own/ride a motorcycle or be a Veteran to join and membership is Free. The only requirement is RESPECT! To join\, simply go to www.PatriotGuard.org and click on Register. Membership is Free. \nTo subscribe to receive mission notices\, log into the National Site and click on the Mission Tab at the top. Select the Subscribe to Missions option.
URL:https://www.patriotguard.org/mission/state-mission-request-for-06-nov-2017-from-new-york-richard-f-nilsen/
CATEGORIES:Archive
END:VEVENT
END:VCALENDAR