BEGIN:VCALENDAR
VERSION:2.0
PRODID:-//Patriot Guard Riders - ECPv5.3.2.1//NONSGML v1.0//EN
CALSCALE:GREGORIAN
METHOD:PUBLISH
X-WR-CALNAME:Patriot Guard Riders
X-ORIGINAL-URL:https://www.patriotguard.org
X-WR-CALDESC:Events for Patriot Guard Riders
BEGIN:VTIMEZONE
TZID:America/New_York
BEGIN:DAYLIGHT
TZOFFSETFROM:-0500
TZOFFSETTO:-0400
TZNAME:EDT
DTSTART:20170312T070000
END:DAYLIGHT
BEGIN:STANDARD
TZOFFSETFROM:-0400
TZOFFSETTO:-0500
TZNAME:EST
DTSTART:20171105T060000
END:STANDARD
END:VTIMEZONE
BEGIN:VEVENT
DTSTART;TZID=America/New_York:20171106T110000
DTEND;TZID=America/New_York:20171106T130000
DTSTAMP:20210403T005259
CREATED:20171106T160000Z
LAST-MODIFIED:20191201T040940Z
UID:355861-1509966000-1509973200@www.patriotguard.org
SUMMARY:State Mission Request for 06 Nov 2017 from Nevada - Bill Maltman
DESCRIPTION:Submitted by: \n\nMember Name: William Drummond\nPosition: Assistant State Captain\nCity\, State: Reno\, Nevada\nUser Name: willdrum50\nEmail: willdrum50@gmail.com\n\nEmail Subject Line Setup\n[HR][/HR]Prefix to Use – Honor\nSubject Line –  Bill Maltman \, Veteran\, USA – Vietnam\,  Fernley\, Nevada  – 06 Nov 2017\n[HR][/HR] \n\n\nMod Instructions: \n\n\n++++++++ Copy the Information above this line++++++++++ \n\nHonor Mission\n*** DO NOT REPLY ***  \nBill Maltman\, Veteran\nUSA  – Vietnam\nFernley\, Nevada – 06 Nov 2017\n\n\n[HR][/HR]\nABOUT THE MISSION: \n\nOur PGR will post our Flag Line to honor this Hero at his interment service\n\n\nPRIMARY STAGING DETAILS:  06 Nov 2017\nPrimary Staging Time: 11:00 A.M. \n\nVeterans Memorial Cemetery\n14 Veterans Way\nFernley\, Nevada –\n\n\nRide Captain: \n\nBob Arroyo\n775-750-3474\n\n\nSpecial Instructions: \n\n\n\nFlags & Water: \n\nFlags Will NOT Be Provided\, Please Bring Your Own.\nIf you have large bike flags\, please bring them.\nWater will be provided.\n\nSubmitted By: William Drummond\nPosition: Assistant State Captain\n[HR][/HR]Note:\nYou do not have to own/ride a motorcycle or be a Veteran to join and membership is Free. The only requirement is RESPECT! To join\, simply go to www.PatriotGuard.org and click on Register. Membership is Free. \nTo subscribe to receive mission notices\, log into the National Site and click on the Mission Tab at the top. Select the Subscribe to Missions option.
URL:https://www.patriotguard.org/mission/state-mission-request-for-06-nov-2017-from-nevada-bill-maltman/
LOCATION:Aubrey Neal Frick
CATEGORIES:Archive
END:VEVENT
END:VCALENDAR