BEGIN:VCALENDAR
VERSION:2.0
PRODID:-//Patriot Guard Riders - ECPv5.3.2.1//NONSGML v1.0//EN
CALSCALE:GREGORIAN
METHOD:PUBLISH
X-WR-CALNAME:Patriot Guard Riders
X-ORIGINAL-URL:https://www.patriotguard.org
X-WR-CALDESC:Events for Patriot Guard Riders
BEGIN:VTIMEZONE
TZID:America/New_York
BEGIN:DAYLIGHT
TZOFFSETFROM:-0500
TZOFFSETTO:-0400
TZNAME:EDT
DTSTART:20170312T070000
END:DAYLIGHT
BEGIN:STANDARD
TZOFFSETFROM:-0400
TZOFFSETTO:-0500
TZNAME:EST
DTSTART:20171105T060000
END:STANDARD
END:VTIMEZONE
BEGIN:VEVENT
DTSTART;TZID=America/New_York:20171106T114500
DTEND;TZID=America/New_York:20171106T134500
DTSTAMP:20210405T180025
CREATED:20171106T164500Z
LAST-MODIFIED:20191201T040906Z
UID:355612-1509968700-1509975900@www.patriotguard.org
SUMMARY:State Mission Request for 06 Nov 2017 from Alabama - John Pearson Beard
DESCRIPTION:Submitted by: \n\nMember Name: Lloyd Pursley\nPosition: Ride Captain\nCity\, State: Mobile\, Alabama\nUser Name: lpursley46\nEmail: lloydpursley@gmail.com\n\nEmail Subject Line Setup\n[HR][/HR]Prefix to Use – Honor\nSubject Line – SHORT NOTICE –  John Pearson Beard \, Veteran\, USMC \, USMCR  –  Mobile\, Alabama  – 06 Nov 2017\n[HR][/HR] \n\nSHORT NOTICE!\n\nMod Instructions: \n\n\n++++++++ Copy the Information above this line++++++++++ \n\nHonor Mission\n*** DO NOT REPLY ***  \nJohn Pearson Beard\, Veteran\nUSMC USMCR\nMobile\, Alabama – 06 Nov 2017\n\n\n[HR][/HR]\nABOUT THE MISSION: \n\n6 November 2017\nMonday\nCpl John Pearson Beard\nUS Marine Corps\nMobile\, Alabama \nFellow Riders\, \nIt is with a heavy heart that I must inform you that America has lost another True American HERO.  The family of Cpl John Pearson Beard has invited the Patriot Guard Riders to stand for their loved one.\nCpl John Pearson Beard served in the U. S. Marine Corps for 3 years and 1 month.  His awards and Commendations include National Defense Service Medal\, and an Honorable Discharge. \nVisitation:  N/A\nFuneral Service: 11:30 p.m. – Small’s Funeral Home\, 950 South Broad St.\, Mobile\, AL\nWe will arrive after the Funeral Service begins and render hand salute when he is placed into hearse.\nCommittal:  1:30 p.m. – ASVMC\nUpon completion of the Funeral Service we will ESCORT Mr. Beard\, family and friends to Alabama State Veterans Memorial Cemetery and Stand a Silent Flag Line at Spanish Fort\, AL for committal at 1:30 p.m.\nLEO (Constables) will escort us to ASVMC. \nMr. Pearson stood many a hard day and night so that we might be safe and free.  Now it is our turn to stand and honor him for his service and sacrifice.  Ride safely!\n \n\nPRIMARY STAGING DETAILS:  06 Nov 2017\nPrimary Staging Time: 11:45 A.M. \n\nSaucy Barbeque\n1111 Government St.\nMobile\, Alabama – 36604\n\n\nRide Captain: \n\nEd Driver\nededriver43@gmail.com\n(251) 454-8162\n\n\nSpecial Instructions: \n\nMobile and Baldwin County Staging:\nTime:  11:45 a.m.\n(Come at 11:00 a.m. if you want to eat before mission)\nBriefing:  12:00 p.m.\nKSU: 12:10 p.m.\nFlags provided at Committal Shelter\n\n\nFlags & Water: \n\nFlags Will NOT Be Provided\, Please Bring Your Own.\nIf you have large bike flags\, please bring them.\nWater WILL NOT be provided\, please bring your own.\n\nSubmitted By: Lloyd Pursley\nPosition: Ride Captain\n[HR][/HR]Note:\nYou do not have to own/ride a motorcycle or be a Veteran to join and membership is Free. The only requirement is RESPECT! To join\, simply go to www.PatriotGuard.org and click on Register. Membership is Free. \nTo subscribe to receive mission notices\, log into the National Site and click on the Mission Tab at the top. Select the Subscribe to Missions option.
URL:https://www.patriotguard.org/mission/state-mission-request-for-06-nov-2017-from-alabama-john-pearson-beard/
CATEGORIES:Archive
END:VEVENT
END:VCALENDAR