BEGIN:VCALENDAR
VERSION:2.0
PRODID:-//Patriot Guard Riders - ECPv5.3.2.1//NONSGML v1.0//EN
CALSCALE:GREGORIAN
METHOD:PUBLISH
X-WR-CALNAME:Patriot Guard Riders
X-ORIGINAL-URL:https://www.patriotguard.org
X-WR-CALDESC:Events for Patriot Guard Riders
BEGIN:VTIMEZONE
TZID:America/New_York
BEGIN:DAYLIGHT
TZOFFSETFROM:-0500
TZOFFSETTO:-0400
TZNAME:EDT
DTSTART:20170312T070000
END:DAYLIGHT
BEGIN:STANDARD
TZOFFSETFROM:-0400
TZOFFSETTO:-0500
TZNAME:EST
DTSTART:20171105T060000
END:STANDARD
END:VTIMEZONE
BEGIN:VEVENT
DTSTART;TZID=America/New_York:20170506T094500
DTEND;TZID=America/New_York:20170506T114500
DTSTAMP:20210404T143714
CREATED:20170506T134500Z
LAST-MODIFIED:20191201T043228Z
UID:367422-1494063900-1494071100@www.patriotguard.org
SUMMARY:State Mission Request for 06 May 2017 from Alabama - Trannie Haskell Compton
DESCRIPTION:Submitted by:\nMember Name:   John Cooper\nPosition:   Ride Captain\nCity\, State:   Huntsville\, Alabama\nUser Name:   John Cooper\nEmail:   pgrcoop@gmail.com\n \nEmail Subject Line Setup\n\nPrefix to Use – Honor\nSubject Line – SHORT NOTICE –  Trannie Haskell Compton \, Veteran\, USA – Korea\,  Hamilton\, Alabama  – 06 May 2017\n\n\nSHORT NOTICE!\n\n\n\n\n\n \n\nMod Instructions:\nPlease post statewide for Al.\n\n++++++++ Copy the Information above this line++++++++++\n\n \nHonor Mission\n\n*** DO NOT REPLY *** \nThis is an automated message sent to you because you have subscribed to this State’s Mission thread. For current details on this mission\, please follow the link below. \nTrannie Haskell Compton\, Veteran \nUSA  – Korea\nHamilton\, Alabama – 06 May 2017\n \n\n\nABOUT THE MISSION:\nThe family of Trannie Haskell Compton has asked the Patriot Guard to honor their loved one by standing a flag line at his Visitation and Funeral Service and escort to his final resting place. \nWe will be Honored to do so. \nMr. Compton stood for us….Now is the time to stand for him. \n\nMr. Compton (84) was in the U.S. Army in Korea and served with distinction.\n\nPRIMARY STAGING DETAILS:  06 May 2017\n\nPrimary Staging Time:  09:45 A.M.\nHamilton Funeral Chapel\n151 Falcon Cir.\nHamilton\, Alabama – 35570\n  \n\nRide Captain:\nRCIC:  T.C. Dawson\nTcdawson5@gmail.com\n256-577-6577 \n\nFlag Captain: Danny Smith\nvadannie@bellsouth.net\n256-710-5323\n\nSpecial Instructions:\nEstablish flag line at 10:00\nFuneral to follow at 11:00\nEscort to\nGalbreath Cemetery\n\nFlags & Water:\nFlags Will Be Provided\nIf you have large bike flags\, please bring them.\nWater WILL NOT be provided\, please bring your own. \nSubmitted By:  John Cooper\nPosition:  Ride Captain \n\nNote:\nYou do not have to own/ride a motorcycle or be a Veteran to join and membership is Free. The only requirement is RESPECT! To join\, simply go to www.PatriotGuard.org and click on Register. Membership is Free. \nTo subscribe to receive mission notices\, log into the National Site and click on the Mission Tab at the top. Select Upcoming Missions by State. Scroll to the state(s) you would like to receive notices for and click on the green check mark. Detailed instructions are also located in the FAQs on the site by clicking on the Quick Links Tab and selecting FAQs.
URL:https://www.patriotguard.org/mission/state-mission-request-for-06-may-2017-from-alabama-trannie-haskell-compton/
LOCATION:Frank Novobilski
CATEGORIES:Archive
END:VEVENT
END:VCALENDAR