BEGIN:VCALENDAR
VERSION:2.0
PRODID:-//Patriot Guard Riders - ECPv5.3.2.1//NONSGML v1.0//EN
CALSCALE:GREGORIAN
METHOD:PUBLISH
X-WR-CALNAME:Patriot Guard Riders
X-ORIGINAL-URL:https://www.patriotguard.org
X-WR-CALDESC:Events for Patriot Guard Riders
BEGIN:VTIMEZONE
TZID:America/New_York
BEGIN:DAYLIGHT
TZOFFSETFROM:-0500
TZOFFSETTO:-0400
TZNAME:EDT
DTSTART:20170312T070000
END:DAYLIGHT
BEGIN:STANDARD
TZOFFSETFROM:-0400
TZOFFSETTO:-0500
TZNAME:EST
DTSTART:20171105T060000
END:STANDARD
END:VTIMEZONE
BEGIN:VEVENT
DTSTART;TZID=America/New_York:20170306T153000
DTEND;TZID=America/New_York:20170306T173000
DTSTAMP:20210405T230656
CREATED:20170306T203000Z
LAST-MODIFIED:20191201T044016Z
UID:371230-1488814200-1488821400@www.patriotguard.org
SUMMARY:State Mission Request for 06 Mar 2017 from Tennessee - Steven Eugene Castleberry
DESCRIPTION:Submitted by:\nMember Name:   Thonda Farmer\nPosition:   Assistant State Captain\nCity\, State:   Crossville\, Tennessee\nUser Name:   Thonda\nEmail:   thondapgrfarmer@outlook.com\n \nEmail Subject Line Setup\n\nPrefix to Use – Memorial\nSubject Line – SHORT NOTICE –  Steven Eugene Castleberry \, Veteran\, USA – Vietnam\,  Knoxville\, Tennessee  – 06 Mar 2017\n\n\nSHORT NOTICE!\nSTATEWIDE REQUIRED!\n\n\n\n\n \n\nMod Instructions:\n\n\n++++++++ Copy the Information above this line++++++++++\n\n \nMemorial Mission\n\n*** DO NOT REPLY *** \nThis is an automated message sent to you because you have subscribed to this State’s Mission thread. For current details on this mission\, please follow the link below. \nSteven Eugene Castleberry\, Veteran \nUSA  – Vietnam\nKnoxville\, Tennessee – 06 Mar 2017\n \n\n\nABOUT THE MISSION:\nSpec 4 Steven Eugene Castleberry\, 68; passed away March 2m 2017. He was a veteran a the U.S. Army and served our country in the Big Red One during the Vietnam era.\nHis family has asked us to help pay tribute to their hero and it will be our honor to do so.\nVisitation:\nMarch 6\, 2017 Monday\n4-7 P.M.\n\nPRIMARY STAGING DETAILS:  06 Mar 2017\n\nPrimary Staging Time:  3:30 P.M.\nAt the funeral Home.\nMynatt Funeral Home\n4131 Emory Rd.\nKnoxville\, Tennessee – 37938\n  \n\nRide Captain:\nTRCIC: Vickie Litterell\n901–598-0205\n\nSpecial Instructions:\nStage at 3:30\n\nFlags & Water:\nFlags Will Be Provided\nIf you have large bike flags\, please bring them.\nWater will be provided. \nSubmitted By:  Thonda Farmer\nPosition:  Assistant State Captain \n\nNote:\nYou do not have to own/ride a motorcycle or be a Veteran to join and membership is Free. The only requirement is RESPECT! To join\, simply go to Patriot Guard website and click on Register. Membership is Free. \nTo subscribe to receive mission notices\, log into the National Site and click on the Mission Tab at the top. Select Upcoming Missions by State. Scroll to the state(s) you would like to receive notices for and click on the green check mark. Detailed instructions are also located in the FAQs on the site by clicking on the Quick Links Tab and selecting FAQs.
URL:https://www.patriotguard.org/mission/state-mission-request-for-06-mar-2017-from-tennessee-steven-eugene-castleberry/
CATEGORIES:Archive
END:VEVENT
END:VCALENDAR