BEGIN:VCALENDAR
VERSION:2.0
PRODID:-//Patriot Guard Riders - ECPv5.3.2.1//NONSGML v1.0//EN
CALSCALE:GREGORIAN
METHOD:PUBLISH
X-WR-CALNAME:Patriot Guard Riders
X-ORIGINAL-URL:https://www.patriotguard.org
X-WR-CALDESC:Events for Patriot Guard Riders
BEGIN:VTIMEZONE
TZID:America/New_York
BEGIN:DAYLIGHT
TZOFFSETFROM:-0500
TZOFFSETTO:-0400
TZNAME:EDT
DTSTART:20170312T070000
END:DAYLIGHT
BEGIN:STANDARD
TZOFFSETFROM:-0400
TZOFFSETTO:-0500
TZNAME:EST
DTSTART:20171105T060000
END:STANDARD
END:VTIMEZONE
BEGIN:VEVENT
DTSTART;TZID=America/New_York:20170706T151500
DTEND;TZID=America/New_York:20170706T171500
DTSTAMP:20210404T183206
CREATED:20170706T191500Z
LAST-MODIFIED:20191201T042454Z
UID:363695-1499354100-1499361300@www.patriotguard.org
SUMMARY:State Mission Request for 06 Jul 2017 from Missouri - Karl Wayne Spry
DESCRIPTION:Submitted by:\nMember Name:   Bill Stucker\nPosition:   Ride Captain\nCity\, State:   Columbia\, Missouri\nUser Name:   westucker45\nEmail:   westucker45@gmail.com\n \nEmail Subject Line Setup\n\nPrefix to Use – Honor\nSubject Line –   Karl Wayne Spry \, Retired\, USA \, USAR \, LEO – Vietnam\, GW/ODS\, WoT\,  Columbia\, Missouri  – 06 Jul 2017\n\n\n\n\n\n\n\n\n \n\nMod Instructions:\nThe mission will be escort only from funeral home to cemetery in the city limits of Columbia\, MO. Approximately 9 mile escort.  Flags will be posted at grave site to fall in on for abbreviated Military Honors .\n\n++++++++ Copy the Information above this line++++++++++\n\n \nHonor Mission\n\n*** DO NOT REPLY *** \nThis is an automated message sent to you because you have subscribed to this State’s Mission thread. For current details on this mission\, please follow the link below. \nKarl Wayne Spry\, Retired \nUSA USAR LEO  – Vietnam\, GW/ODS\, WoT\nColumbia\, Missouri – 06 Jul 2017\n \n\n\nABOUT THE MISSION:\nSergeant Major Karl Spry served in the US Army and US Army Reserve from 1970 to 2009\, retiring with 39 years service.  He served on Active Duty during Vietnam\, the Persian Gulf War\, and the Kosovo Peacekeeping mission.  He had short tours in Okinawa Japan\, Macedonia\, Germany/England and Holland as an Individual Mobilization Augmentation member with 9 deployments. \nSGM Spry also served as a Reserve Officer in the Columbia\, Missouri Police Department and was employed by the Harry S. Truman Veterans Hospital\, Columbia\, MO.  He was a member of the Veterans of Foreign Wars and the Shriners.\n\nPRIMARY STAGING DETAILS:  06 Jul 2017\n\nPrimary Staging Time:  1215 P.M.\nNilson Funeral Home\n5611 E. St Charles Road\nColumbia\, Missouri – 65202\n  \n\nRide Captain:\nWilliam E (Bill) Stucker\nwestucker45@gmail.com\n573-680-9494 \nAlternate email:  westucker45@aol.com\n\nSpecial Instructions:\nNo flag line at funeral home.   Escort begins at approximately 1300 hours (1:00 PM)\n\nFlags & Water:\nFlags Will Be Provided\nIf you have large bike flags\, please bring them.\nWater WILL NOT be provided\, please bring your own. \nSubmitted By:  Bill Stucker\nPosition:  Ride Captain \n\nNote:\nYou do not have to own/ride a motorcycle or be a Veteran to join and membership is Free. The only requirement is RESPECT! To join\, simply go to www.PatriotGuard.org and click on Register. Membership is Free. \nTo subscribe to receive mission notices\, log into the National Site and click on the Mission Tab at the top. Select Upcoming Missions by State. Scroll to the state(s) you would like to receive notices for and click on the green check mark. Detailed instructions are also located in the FAQs on the site by clicking on the Quick Links Tab and selecting FAQs.
URL:https://www.patriotguard.org/mission/state-mission-request-for-06-jul-2017-from-missouri-karl-wayne-spry/
CATEGORIES:Archive
END:VEVENT
END:VCALENDAR