BEGIN:VCALENDAR
VERSION:2.0
PRODID:-//Patriot Guard Riders - ECPv5.3.2.1//NONSGML v1.0//EN
CALSCALE:GREGORIAN
METHOD:PUBLISH
X-WR-CALNAME:Patriot Guard Riders
X-ORIGINAL-URL:https://www.patriotguard.org
X-WR-CALDESC:Events for Patriot Guard Riders
BEGIN:VTIMEZONE
TZID:America/New_York
BEGIN:DAYLIGHT
TZOFFSETFROM:-0500
TZOFFSETTO:-0400
TZNAME:EDT
DTSTART:20170312T070000
END:DAYLIGHT
BEGIN:STANDARD
TZOFFSETFROM:-0400
TZOFFSETTO:-0500
TZNAME:EST
DTSTART:20171105T060000
END:STANDARD
END:VTIMEZONE
BEGIN:VEVENT
DTSTART;TZID=America/New_York:20170406T092000
DTEND;TZID=America/New_York:20170406T112000
DTSTAMP:20210403T054119
CREATED:20170406T132000Z
LAST-MODIFIED:20191201T043634Z
UID:369425-1491470400-1491477600@www.patriotguard.org
SUMMARY:State Mission Request for 06 Apr 2017 from Missouri - SCPO John W. Teall
DESCRIPTION:Submitted by:\nMember Name:   Mary O’Brien\nPosition:   Ride Captain\nCity\, State:   Saint Charles\, Missouri\nUser Name:   Thefinnagain\nEmail:   Thefinnagain@gmail.com\n \nEmail Subject Line Setup\n\nPrefix to Use – Honor\nSubject Line – SHORT NOTICE –  SCPO John W. Teall \, Retired\, USN  –  Wentzville\, Missouri  – 06 Apr 2017\n\n\nSHORT NOTICE!\nSTATEWIDE REQUIRED!\n\n\n\n\n \n\nMod Instructions:\nThere is NO second staging area.\nI  could not erase what showed up in the #2  boxes.\nplease disregard and delete anything form #2 boxes.  thank you.\n\n++++++++ Copy the Information above this line++++++++++\n\n \nHonor Mission\n\n*** DO NOT REPLY *** \nThis is an automated message sent to you because you have subscribed to this State’s Mission thread. For current details on this mission\, please follow the link below. \nSCPO John W. Teall\, Retired \nUSN \nWentzville\, Missouri – 06 Apr 2017\n \n\n\nABOUT THE MISSION:\nThe family of John Walter Teall\, 72\, requests the Patriot Guard Riders to stand a flag line honoring their Hero and Loved One and to escort him to his final resting place at Jefferson Barracks National Cemetery.  SCPO Teall proudly served in the United States Navy 1964 – 1988.  His many decorations include: Navy Achievement Medal\, Sixth Navy Good Conduct Medal\, Meritorious Unit Commendation\, National Defense Service Medal\, Battle “E” Ribbon\, Sea Service Deployment Ribbon.  He will be greatly missed by his family and all who knew him.\n\nPRIMARY STAGING DETAILS:  06 Apr 2017\n\nPrimary Staging Time:  9:20 A.M.\nSt. Patrick Catholic Church\n405 S. Church Street\nWentzville\, Missouri – 63385\n  \n\nRide Captain:\nFlags& Support:\nDanny “Wolfman” Reinbold\, Wentzville\nRick “Curly” Kroeger\, Jefferson Barracks\nR.C.: Mary “Sister Mary” O’Brien  636.922.4818 thefinnagain@gmail.com \nForecast: Mid-30s to low 50s. Chance of Precipitation early.  Cages always welcome.\n\nSpecial Instructions:\nThursday\, 6 April\nService: 1000 hrs.\nJ.B.: 1130 hrs.\n\nFlags & Water:\nFlags Will Be Provided\nIf you have large bike flags\, please bring them.\nWater WILL NOT be provided\, please bring your own. \nSubmitted By:  Mary O’Brien\nPosition:  Ride Captain \n\nNote:\nYou do not have to own/ride a motorcycle or be a Veteran to join and membership is Free. The only requirement is RESPECT! To join\, simply go to www.PatriotGuard.org and click on Register. Membership is Free. \nTo subscribe to receive mission notices\, log into the National Site and click on the Mission Tab at the top. Select Upcoming Missions by State. Scroll to the state(s) you would like to receive notices for and click on the green check mark. Detailed instructions are also located in the FAQs on the site by clicking on the Quick Links Tab and selecting FAQs.
URL:https://www.patriotguard.org/mission/state-mission-request-for-06-apr-2017-from-missouri-scpo-john-w-teall/
CATEGORIES:Archive
END:VEVENT
END:VCALENDAR