BEGIN:VCALENDAR
VERSION:2.0
PRODID:-//Patriot Guard Riders - ECPv5.3.2.1//NONSGML v1.0//EN
CALSCALE:GREGORIAN
METHOD:PUBLISH
X-WR-CALNAME:Patriot Guard Riders
X-ORIGINAL-URL:https://www.patriotguard.org
X-WR-CALDESC:Events for Patriot Guard Riders
BEGIN:VTIMEZONE
TZID:America/New_York
BEGIN:DAYLIGHT
TZOFFSETFROM:-0500
TZOFFSETTO:-0400
TZNAME:EDT
DTSTART:20170312T070000
END:DAYLIGHT
BEGIN:STANDARD
TZOFFSETFROM:-0400
TZOFFSETTO:-0500
TZNAME:EST
DTSTART:20171105T060000
END:STANDARD
END:VTIMEZONE
BEGIN:VEVENT
DTSTART;TZID=America/New_York:20170406T093000
DTEND;TZID=America/New_York:20170406T113000
DTSTAMP:20210401T211107
CREATED:20170406T133000Z
LAST-MODIFIED:20191201T043637Z
UID:369449-1491471000-1491478200@www.patriotguard.org
SUMMARY:State Mission Request for 06 Apr 2017 from Missouri - Howard Osborne
DESCRIPTION:Submitted by:\nMember Name:   Robert Smith\nPosition:   Ride Captain\nCity\, State:   Foley\, Missouri\nUser Name:   bobsmith\nEmail:   bobsmithesq4@gmail.com\n \nEmail Subject Line Setup\n\nPrefix to Use – Honor\nSubject Line –   Howard Osborne \, Veteran\, USN – Korea\,  Troy\, Missouri  – 06 Apr 2017\n\n\n\nSTATEWIDE REQUIRED!\n\n\n\n\n \n\nMod Instructions:\nMods  thanks for all you do\n\n++++++++ Copy the Information above this line++++++++++\n\n \nHonor Mission\n\n*** DO NOT REPLY *** \nThis is an automated message sent to you because you have subscribed to this State’s Mission thread. For current details on this mission\, please follow the link below. \nHoward Osborne\, Veteran \nUSN  – Korea\nTroy\, Missouri – 06 Apr 2017\n \n\n\nABOUT THE MISSION:\nThe family of Howard Osborne\, 85\, has honored the Patriot Guard by requesting we escort their loved one to the Hallowed Grounds of Jefferson Barracks National Cemetery and stand a flag line of Honor at the funeral service.\nMr. Osborne served our great nation in the US Navy from 1948 to 1952 aboard the USS Coral Sea with tours in Korea.\nMr Osborne was a member of American Legion Post 226\, Elsberry Mo\n\nPRIMARY STAGING DETAILS:  06 Apr 2017\n\nPrimary Staging Time:  1030 A.M.\nMcCoy-Blossom Funeral and Cremation Center\n1304 Boone St.\nTroy\, Missouri – 63379\n  \n\nRide Captain:\nRobert Smith   bobsmithesq4@gmail.com\nFlag Support TBD\n\nSpecial Instructions:\nNo flag line at Funeral Home\, we will escort Mr Osborne to Jefferson Barracks N.C. (60 miles\, top your tanks) after family assembles.\n1300 appointment time at JBNC\nWeather projected to be 37-56 with 30% chance of rain. Dress Wisely and\nHYDRATE   HYDRATE   HYDRATE.\nCages always welcome\n\nFlags & Water:\nFlags Will Be Provided\nIf you have large bike flags\, please bring them.\nWater WILL NOT be provided\, please bring your own. \nSubmitted By:  Robert Smith\nPosition:  Ride Captain \n\nNote:\nYou do not have to own/ride a motorcycle or be a Veteran to join and membership is Free. The only requirement is RESPECT! To join\, simply go to www.PatriotGuard.org and click on Register. Membership is Free. \nTo subscribe to receive mission notices\, log into the National Site and click on the Mission Tab at the top. Select Upcoming Missions by State. Scroll to the state(s) you would like to receive notices for and click on the green check mark. Detailed instructions are also located in the FAQs on the site by clicking on the Quick Links Tab and selecting FAQs.
URL:https://www.patriotguard.org/mission/state-mission-request-for-06-apr-2017-from-missouri-howard-osborne/
CATEGORIES:Archive
END:VEVENT
END:VCALENDAR