BEGIN:VCALENDAR
VERSION:2.0
PRODID:-//Patriot Guard Riders - ECPv5.3.2.1//NONSGML v1.0//EN
CALSCALE:GREGORIAN
METHOD:PUBLISH
X-WR-CALNAME:Patriot Guard Riders
X-ORIGINAL-URL:https://www.patriotguard.org
X-WR-CALDESC:Events for Patriot Guard Riders
BEGIN:VTIMEZONE
TZID:America/New_York
BEGIN:DAYLIGHT
TZOFFSETFROM:-0500
TZOFFSETTO:-0400
TZNAME:EDT
DTSTART:20170312T070000
END:DAYLIGHT
BEGIN:STANDARD
TZOFFSETFROM:-0400
TZOFFSETTO:-0500
TZNAME:EST
DTSTART:20171105T060000
END:STANDARD
END:VTIMEZONE
BEGIN:VEVENT
DTSTART;TZID=America/New_York:20171005T090000
DTEND;TZID=America/New_York:20171005T110000
DTSTAMP:20210405T201550
CREATED:20171005T130000Z
LAST-MODIFIED:20191201T041312Z
UID:357721-1507194000-1507201200@www.patriotguard.org
SUMMARY:State Mission Request for 05 Oct 2017 from Virginia - Mr. Ezra Barnes
DESCRIPTION:Submitted by: \n\nMember Name: James Wampler\nPosition: Assistant State Captain\nCity\, State: Christiansburg\, Virginia\nUser Name: mrwamp\nEmail: jamie.wampler@virginiapatriotguard.org\n\nEmail Subject Line Setup\n[HR][/HR]Prefix to Use – Honor\nSubject Line – SHORT NOTICE –  Mr. Ezra Barnes \, Retired\, USA – Vietnam\,  Martinsville\, Virginia  – 05 Oct 2017\n[HR][/HR] \n\nSHORT NOTICE!\n\nMod Instructions: \n\n\n++++++++ Copy the Information above this line++++++++++ \n\nHonor Mission\n*** DO NOT REPLY ***  \nMr. Ezra Barnes\, Retired\nUSA  – Vietnam\nMartinsville\, Virginia – 05 Oct 2017\n\n\n[HR][/HR]\nABOUT THE MISSION: \n\nMr. Barnes served this great nation and our freedoms in the US Army during the Vietnam conflict. The recipient of TWO purple hearts\, he was all about family and everything to support our nations veterans. Please come out and honor this very deserved hero if possible.\nAll services are same day\, location\, and are back to back. Flagline at the funeral home for visitation and service beginning at 10. Mr. Barnes is to be interred on the grounds of Roselawn.\n\n\nPRIMARY STAGING DETAILS:  05 Oct 2017\nPrimary Staging Time: 9 A.M. \n\nRoselawn Funeral Home\n103 Clearview Dr\,\nMartinsville\, VA 24112\nMartinsville\, Virginia – 24112\nhttps://www.google.com/maps/place/Roselawn+Chapel+Funeral+Home/@36.7060798\,-79.8736352\,15z/data=!4m5\n\n\nRide Captain: \n\nBob Thurman\npastorbobthurman@gmail.com\n\n\nSpecial Instructions: \n\nStaging is 9 am. Set up flagline by 9:15 to receive family prior to services.\n\n\nFlags & Water: \n\nFlags Will NOT Be Provided\, Please Bring Your Own.\nLarge Bike Flags will NOT be needed.\nWater WILL NOT be provided\, please bring your own.\n\nSubmitted By: James Wampler\nPosition: Assistant State Captain\n[HR][/HR]Note:\nYou do not have to own/ride a motorcycle or be a Veteran to join and membership is Free. The only requirement is RESPECT! To join\, simply go to www.PatriotGuard.org and click on Register. Membership is Free. \nTo subscribe to receive mission notices\, log into the National Site and click on the Mission Tab at the top. Select the Subscribe to Missions option.
URL:https://www.patriotguard.org/mission/state-mission-request-for-05-oct-2017-from-virginia-mr-ezra-barnes/
CATEGORIES:Archive
END:VEVENT
END:VCALENDAR