BEGIN:VCALENDAR
VERSION:2.0
PRODID:-//Patriot Guard Riders - ECPv5.3.2.1//NONSGML v1.0//EN
CALSCALE:GREGORIAN
METHOD:PUBLISH
X-WR-CALNAME:Patriot Guard Riders
X-ORIGINAL-URL:https://www.patriotguard.org
X-WR-CALDESC:Events for Patriot Guard Riders
BEGIN:VTIMEZONE
TZID:America/New_York
BEGIN:DAYLIGHT
TZOFFSETFROM:-0500
TZOFFSETTO:-0400
TZNAME:EDT
DTSTART:20170312T070000
END:DAYLIGHT
BEGIN:STANDARD
TZOFFSETFROM:-0400
TZOFFSETTO:-0500
TZNAME:EST
DTSTART:20171105T060000
END:STANDARD
END:VTIMEZONE
BEGIN:VEVENT
DTSTART;TZID=America/New_York:20171005T084500
DTEND;TZID=America/New_York:20171005T104500
DTSTAMP:20210405T235236
CREATED:20171005T124500Z
LAST-MODIFIED:20191201T041304Z
UID:357659-1507193100-1507200300@www.patriotguard.org
SUMMARY:State Mission Request for 05 Oct 2017 from Pennsylvania - Robert E Mattai
DESCRIPTION:Submitted by: \n\nMember Name: Dale McGinnis\nPosition: Ride Captain\nCity\, State: York\, Pennsylvania\nUser Name: solomookie\nEmail: pgrpa.vetrep.east@gmail.com\n\nEmail Subject Line Setup\n[HR][/HR]Prefix to Use – Honor\nSubject Line – SHORT NOTICE –  Robert E Mattai \, Veteran\, USMC – WWII\,  Newtown Square\, Pennsylvania  – 05 Oct 2017\n[HR][/HR] \n\nSHORT NOTICE!\n\nMod Instructions: \n\nPlease post and send link.  Thanks.\n\n++++++++ Copy the Information above this line++++++++++ \n\nHonor Mission\n*** DO NOT REPLY ***  \nRobert E Mattai\, Veteran\nUSMC  – WWII\nNewtown Square\, Pennsylvania – 05 Oct 2017\n\n\n[HR][/HR]\nABOUT THE MISSION: \n\nThe family of World War 2 Marine Veteran Robert E. Mattai has requested the Patriot Guard Riders stand to honor his service to our nation during his funeral and interment ceremony Thursday\, October 5th.  Bob served in the South Pacific during World War 2.  Following the funeral service\, the PGR will escort Bob to the St. Peter & Paul Cemetery for inurnment with full military honors.  Robert Mattai is a patriot who served our country with honor and now it’s our turn to stand and honor him.\n\n\nPRIMARY STAGING DETAILS:  05 Oct 2017\nPrimary Staging Time: 0945 A.M. \n\nSt. Anastasia Church\n3301 West Chester Pike\nNewtown Square\, Pennsylvania – 19073\nhttps://goo.gl/maps/SAZ4LjVYwL92\n\n\nRide Captain: \n\nRCIC: John Ferry\, Region 6\nEmail:  jferryjr@verizon.net\n\n\nSpecial Instructions: \n\nStaging: 0945 HRS\nAt the Church \nEscort to follow service approximately 4 miles\n \n\nFlags & Water: \n\nFlags Will NOT Be Provided\, Please Bring Your Own.\nIf you have large bike flags\, please bring them.\nWater WILL NOT be provided\, please bring your own.\n\nSubmitted By: Dale McGinnis\nPosition: Ride Captain\n[HR][/HR]Note:\nYou do not have to own/ride a motorcycle or be a Veteran to join and membership is Free. The only requirement is RESPECT! To join\, simply go to www.PatriotGuard.org and click on Register. Membership is Free. \nTo subscribe to receive mission notices\, log into the National Site and click on the Mission Tab at the top. Select the Subscribe to Missions option.
URL:https://www.patriotguard.org/mission/state-mission-request-for-05-oct-2017-from-pennsylvania-robert-e-mattai/
LOCATION:Snowball Express – Welcome Home
CATEGORIES:Archive
END:VEVENT
END:VCALENDAR