BEGIN:VCALENDAR
VERSION:2.0
PRODID:-//Patriot Guard Riders - ECPv5.3.2.1//NONSGML v1.0//EN
CALSCALE:GREGORIAN
METHOD:PUBLISH
X-WR-CALNAME:Patriot Guard Riders
X-ORIGINAL-URL:https://www.patriotguard.org
X-WR-CALDESC:Events for Patriot Guard Riders
BEGIN:VTIMEZONE
TZID:America/New_York
BEGIN:DAYLIGHT
TZOFFSETFROM:-0500
TZOFFSETTO:-0400
TZNAME:EDT
DTSTART:20170312T070000
END:DAYLIGHT
BEGIN:STANDARD
TZOFFSETFROM:-0400
TZOFFSETTO:-0500
TZNAME:EST
DTSTART:20171105T060000
END:STANDARD
END:VTIMEZONE
BEGIN:VEVENT
DTSTART;TZID=America/New_York:20171005T163000
DTEND;TZID=America/New_York:20171005T183000
DTSTAMP:20210405T203444
CREATED:20171005T203000Z
LAST-MODIFIED:20191201T041314Z
UID:357732-1507221000-1507228200@www.patriotguard.org
SUMMARY:State Mission Request for 05 Oct 2017 from Missouri - Paul Douglas (Doug) West
DESCRIPTION:Submitted by: \n\nMember Name: Bill Weldon\nPosition: Ride Captain\nCity\, State: Mexico\, Missouri\nUser Name: stub\nEmail: searchdog@rocketmail.com\n\nEmail Subject Line Setup\n[HR][/HR]Prefix to Use – Honor\nSubject Line –  Paul Douglas (Doug) West \, Veteran\, USA  –  Mexico\, Missouri  – 05 Oct 2017\n[HR][/HR] \n\n\nMod Instructions: \n\n\n++++++++ Copy the Information above this line++++++++++ \n\nHonor Mission\n*** DO NOT REPLY ***  \nPaul Douglas (Doug) West\, Veteran\nUSA\nMexico\, Missouri – 05 Oct 2017\n\n\n[HR][/HR]\nABOUT THE MISSION: \n\nThe family of Paul Douglas (Doug) West has respectfully requested the Patriot Guard Riders assist with the Memorial Service of their loved one by Standing a Tall and Silent Flag Line of Honor and Respect. \nDoug was a Vietnam veteran\,U.S. Army UH-1 Helicopter Mechanic/Crew Chief ( “Huey” ) and was honorable discharged in 1967.He retired from A.P. Green Brick Refractory and was a part time employee of American Auto Supply\,Mexico\,MO. \nHe was a collector of model cars and truck having several hundred in his collection.\n \n\nPRIMARY STAGING DETAILS:  05 Oct 2017\nPrimary Staging Time: 4:30 P.M. \n\nArnold Funeral Home\n425 South Jefferson Street\nMexico\, Missouri – 65265\n\n\nRide Captain: \n\nBill Weldon\n573-253-5918\nbillweldon1@gmail.com\n\n\nSpecial Instructions: \n\nThis will be a Memorial Visitation flag line only. Internment with full military honors will be at a later date.Visitation is from 5:00-7:00\nPM.\n\n\nFlags & Water: \n\nFlags Will Be Provided\nLarge Bike Flags will NOT be needed.\nWater will be provided.\n\nSubmitted By: Bill Weldon\nPosition: Ride Captain\n[HR][/HR]Note:\nYou do not have to own/ride a motorcycle or be a Veteran to join and membership is Free. The only requirement is RESPECT! To join\, simply go to www.PatriotGuard.org and click on Register. Membership is Free. \nTo subscribe to receive mission notices\, log into the National Site and click on the Mission Tab at the top. Select the Subscribe to Missions option.
URL:https://www.patriotguard.org/mission/state-mission-request-for-05-oct-2017-from-missouri-paul-douglas-doug-west/
CATEGORIES:Archive
END:VEVENT
END:VCALENDAR