BEGIN:VCALENDAR
VERSION:2.0
PRODID:-//Patriot Guard Riders - ECPv5.3.2.1//NONSGML v1.0//EN
CALSCALE:GREGORIAN
METHOD:PUBLISH
X-WR-CALNAME:Patriot Guard Riders
X-ORIGINAL-URL:https://www.patriotguard.org
X-WR-CALDESC:Events for Patriot Guard Riders
BEGIN:VTIMEZONE
TZID:America/New_York
BEGIN:DAYLIGHT
TZOFFSETFROM:-0500
TZOFFSETTO:-0400
TZNAME:EDT
DTSTART:20170312T070000
END:DAYLIGHT
BEGIN:STANDARD
TZOFFSETFROM:-0400
TZOFFSETTO:-0500
TZNAME:EST
DTSTART:20171105T060000
END:STANDARD
END:VTIMEZONE
BEGIN:VEVENT
DTSTART;TZID=America/New_York:20171005T093000
DTEND;TZID=America/New_York:20171005T113000
DTSTAMP:20210404T113452
CREATED:20171005T133000Z
LAST-MODIFIED:20191201T040953Z
UID:355954-1507195800-1507203000@www.patriotguard.org
SUMMARY:State Mission Request for 05 Oct 2017 from Illinois - Survivor Outreach Services Remrmbrance
DESCRIPTION:Submitted by: \n\nMember Name: David Gier\nPosition: Ride Captain\nCity\, State: Crestwood\, Illinois\nUser Name: Bike Dave\nEmail: davidbgier@sbcglobal.net\n\nEmail Subject Line Setup\n[HR][/HR]Prefix to Use – Memorial\nSubject Line –  Survivor Outreach Services Remrmbrance  –  Darien\, Illinois  – 05 Oct 2017\n[HR][/HR] \n\n\nMod Instructions: \n\nthanks\n\n++++++++ Copy the Information above this line++++++++++ \n\nMemorial Mission\n*** DO NOT REPLY ***  \nSurvivor Outreach Services Remrmbrance\n\nDarien\, Illinois – 05 Oct 2017\n\n\n[HR][/HR]\nABOUT THE MISSION: \n\n5 NOV 17\nThe Patriot Guard has been invited to stand a flag line to welcome our Gold Star families as they arrive this event. And during the Service of Remembrance for their Fallen Heroes.\n\n\nPRIMARY STAGING DETAILS:  05 Oct 2017\nPrimary Staging Time: 1030 A.M. \n\nSt. John’s Lutheran Church\n7214 S. Cass Ave.\nDarien\, Illinois –\n\n\nRide Captain: \n\nSRC: bigDave 312 405-2692\n\n\nSpecial Instructions: \n\n\n\nFlags & Water: \n\nFlags Will Be Provided\nLarge Bike Flags will NOT be needed.\nWater WILL NOT be provided\, please bring your own.\n\nSubmitted By: David Gier\nPosition: Ride Captain\n[HR][/HR]Note:\nYou do not have to own/ride a motorcycle or be a Veteran to join and membership is Free. The only requirement is RESPECT! To join\, simply go to www.PatriotGuard.org and click on Register. Membership is Free. \nTo subscribe to receive mission notices\, log into the National Site and click on the Mission Tab at the top. Select the Subscribe to Missions option.
URL:https://www.patriotguard.org/mission/state-mission-request-for-05-oct-2017-from-illinois-survivor-outreach-services-remrmbrance/
CATEGORIES:Archive
END:VEVENT
END:VCALENDAR