BEGIN:VCALENDAR
VERSION:2.0
PRODID:-//Patriot Guard Riders - ECPv5.3.2.1//NONSGML v1.0//EN
CALSCALE:GREGORIAN
METHOD:PUBLISH
X-WR-CALNAME:Patriot Guard Riders
X-ORIGINAL-URL:https://www.patriotguard.org
X-WR-CALDESC:Events for Patriot Guard Riders
BEGIN:VTIMEZONE
TZID:America/New_York
BEGIN:DAYLIGHT
TZOFFSETFROM:-0500
TZOFFSETTO:-0400
TZNAME:EDT
DTSTART:20170312T070000
END:DAYLIGHT
BEGIN:STANDARD
TZOFFSETFROM:-0400
TZOFFSETTO:-0500
TZNAME:EST
DTSTART:20171105T060000
END:STANDARD
END:VTIMEZONE
BEGIN:VEVENT
DTSTART;TZID=America/New_York:20171105T113000
DTEND;TZID=America/New_York:20171105T133000
DTSTAMP:20210403T095651
CREATED:20171105T163000Z
LAST-MODIFIED:20191201T040913Z
UID:355666-1509881400-1509888600@www.patriotguard.org
SUMMARY:State Mission Request for 05 Nov 2017 from New York - US Postal Veterans Day Ceremony
DESCRIPTION:Submitted by: \n\nMember Name: Ray Sestak\nPosition: Ride Captain\nCity\, State: Glenmont\, New York\nUser Name: PGRNYMods\nEmail: pgrnymod@gmail.com\n\nEmail Subject Line Setup\n[HR][/HR]Prefix to Use – HOTH\nSubject Line – SHORT NOTICE –  US Postal Veterans Day Ceremony  –  Melville\, New York  – 05 Nov 2017\n[HR][/HR] \n\nSHORT NOTICE!\n\nMod Instructions: \n\n\n++++++++ Copy the Information above this line++++++++++ \n\nHOTH Mission\n*** DO NOT REPLY ***  \nUS Postal Veterans Day Ceremony\n\nMelville\, New York – 05 Nov 2017\n\n\n[HR][/HR]\nABOUT THE MISSION: \n\nWe have been asked by VVA#11 to stand a flag line at their Veterans Day ceremony.\n\n\nPRIMARY STAGING DETAILS:  05 Nov 2017\nPrimary Staging Time: 11:30 A.M. \n\nUSPS Mid Island Processing center\n160 Duryea Rd.\nMelville\, New York – 11747\n\n\nRide Captain: \n\nPete Jepson\ndoublejli@optonline.net\n631-922-6330\n\n\nSpecial Instructions: \n\nCeremony starts at 12 noon and will be about 45 minutes. We will then respond to LINC for their ceremony which is close by.\n\n\nFlags & Water: \n\nFlags Will NOT Be Provided\, Please Bring Your Own.\nLarge Bike Flags will NOT be needed.\nWater WILL NOT be provided\, please bring your own.\n\nSubmitted By: Ray Sestak\nPosition: Ride Captain\n[HR][/HR]Note:\nYou do not have to own/ride a motorcycle or be a Veteran to join and membership is Free. The only requirement is RESPECT! To join\, simply go to www.PatriotGuard.org and click on Register. Membership is Free. \nTo subscribe to receive mission notices\, log into the National Site and click on the Mission Tab at the top. Select the Subscribe to Missions option.
URL:https://www.patriotguard.org/mission/state-mission-request-for-05-nov-2017-from-new-york-us-postal-veterans-day-ceremony/
CATEGORIES:Archive
END:VEVENT
END:VCALENDAR