BEGIN:VCALENDAR
VERSION:2.0
PRODID:-//Patriot Guard Riders - ECPv5.3.2.1//NONSGML v1.0//EN
CALSCALE:GREGORIAN
METHOD:PUBLISH
X-WR-CALNAME:Patriot Guard Riders
X-ORIGINAL-URL:https://www.patriotguard.org
X-WR-CALDESC:Events for Patriot Guard Riders
BEGIN:VTIMEZONE
TZID:America/New_York
BEGIN:DAYLIGHT
TZOFFSETFROM:-0500
TZOFFSETTO:-0400
TZNAME:EDT
DTSTART:20170312T070000
END:DAYLIGHT
BEGIN:STANDARD
TZOFFSETFROM:-0400
TZOFFSETTO:-0500
TZNAME:EST
DTSTART:20171105T060000
END:STANDARD
END:VTIMEZONE
BEGIN:VEVENT
DTSTART;TZID=America/New_York:20170505T100000
DTEND;TZID=America/New_York:20170505T120000
DTSTAMP:20210401T212922
CREATED:20170505T140000Z
LAST-MODIFIED:20191201T043255Z
UID:367626-1493978400-1493985600@www.patriotguard.org
SUMMARY:State Mission Request for 05 May 2017 from Illinois - James “Red” Alvin Roberts
DESCRIPTION:Submitted by:\nMember Name:   David Gier\nPosition:   Ride Captain\nCity\, State:   Crestwood\, Illinois\nUser Name:   Bike Dave\nEmail:   davidbgier@sbcglobal.net\n \nEmail Subject Line Setup\n\nPrefix to Use – Honor\nSubject Line –   James “Red” Alvin Roberts \, Veteran\, USA  –  Danville\, Illinois  – 05 May 2017\n\n\n\n\n\n\n\n\n \n\nMod Instructions:\nplease post\n\n++++++++ Copy the Information above this line++++++++++\n\n \nHonor Mission\n\n*** DO NOT REPLY *** \nThis is an automated message sent to you because you have subscribed to this State’s Mission thread. For current details on this mission\, please follow the link below. \nJames “Red” Alvin Roberts\, Veteran \nUSA \nDanville\, Illinois – 05 May 2017\n \n\n\nABOUT THE MISSION:\nThe Patriot Guard Riders and the American Legion Riders are invited to assist with the Visitation\, Funeral Service\, Escort and Grave Side Services for James Alvin Roberts.  James served two hitches in the United States Army.\n\nPRIMARY STAGING DETAILS:  05 May 2017\n\nPrimary Staging Time:  10:00 A.M.\nPape Funeral Home\n10 E Williams St\nDanville\, Illinois –\n  \n\nRide Captain:\nRide Captains:\nPete Powell 217-304-1967\nMike Longfellow 217-260-4794\n\nSpecial Instructions:\nWe will establish our flag line Following the briefing. \nThe Funeral Service will Start at 1200 hrs (Noon) At the conclusion of the Service we will escort our Brother and his family to Resurrection Cemetery for Grave Side Service and Military Honors Rendered by the Westville American Legion\, Post 51.\n\nFlags & Water:\nFlags Will Be Provided\nIf you have large bike flags\, please bring them.\nWater will be provided. \nSubmitted By:  David Gier\nPosition:  Ride Captain \n\nNote:\nYou do not have to own/ride a motorcycle or be a Veteran to join and membership is Free. The only requirement is RESPECT! To join\, simply go to www.PatriotGuard.org and click on Register. Membership is Free. \nTo subscribe to receive mission notices\, log into the National Site and click on the Mission Tab at the top. Select Upcoming Missions by State. Scroll to the state(s) you would like to receive notices for and click on the green check mark. Detailed instructions are also located in the FAQs on the site by clicking on the Quick Links Tab and selecting FAQs.
URL:https://www.patriotguard.org/mission/state-mission-request-for-05-may-2017-from-illinois-james-red-alvin-roberts/
CATEGORIES:Archive
END:VEVENT
END:VCALENDAR