BEGIN:VCALENDAR
VERSION:2.0
PRODID:-//Patriot Guard Riders - ECPv5.3.2.1//NONSGML v1.0//EN
CALSCALE:GREGORIAN
METHOD:PUBLISH
X-WR-CALNAME:Patriot Guard Riders
X-ORIGINAL-URL:https://www.patriotguard.org
X-WR-CALDESC:Events for Patriot Guard Riders
BEGIN:VTIMEZONE
TZID:America/New_York
BEGIN:DAYLIGHT
TZOFFSETFROM:-0500
TZOFFSETTO:-0400
TZNAME:EDT
DTSTART:20170312T070000
END:DAYLIGHT
BEGIN:STANDARD
TZOFFSETFROM:-0400
TZOFFSETTO:-0500
TZNAME:EST
DTSTART:20171105T060000
END:STANDARD
END:VTIMEZONE
BEGIN:VEVENT
DTSTART;TZID=America/New_York:20170505T104500
DTEND;TZID=America/New_York:20170505T124500
DTSTAMP:20210405T233240
CREATED:20170505T144500Z
LAST-MODIFIED:20191201T043241Z
UID:367529-1493981100-1493988300@www.patriotguard.org
SUMMARY:State Mission Request for 05 May 2017 from Alabama - Robert Earl Blanks
DESCRIPTION:Submitted by:\nMember Name:   Lloyd Pursley\nPosition:   Ride Captain\nCity\, State:   Mobile\, Alabama\nUser Name:   lpursley46\nEmail:   lloydpursley@gmail.com\n \nEmail Subject Line Setup\n\nPrefix to Use – Honor\nSubject Line – SHORT NOTICE –  Robert Earl Blanks \, Retired\, Veteran\, USA – Vietnam\,  Prichard\, Alabama  – 05 May 2017\n\n\nSHORT NOTICE!\n\n\n\n\n\n \n\nMod Instructions:\n\n\n++++++++ Copy the Information above this line++++++++++\n\n \nHonor Mission\n\n*** DO NOT REPLY *** \nThis is an automated message sent to you because you have subscribed to this State’s Mission thread. For current details on this mission\, please follow the link below. \nRobert Earl Blanks\, Retired\, Veteran \nUSA  – Vietnam\nPrichard\, Alabama – 05 May 2017\n \n\n\nABOUT THE MISSION:\nSHORT NOTICE\n5 May 2017\nFriday\nSFC. Robert Earl Blanks\nUS Army – Vietnam\nASVMC at Spanish Fort\, AL \nFellow Riders\,\nIt is with heavy heart that I must inform you that America has lost another True American Hero. The family of SFC Robert Earl Blanks\, who passed away at the age of 65\, has requested the Patriot Guard Riders to stand in honor of their loved one. Mr. Blanks served in the US Army for 26 years.  His awards\, decorations\, medals and badges are numerous. Some include Meritorious Service Medal\, Army Commendation Medal\, Army Achievement Medal\, Good Conduct Medal (6th Award)\, NDSM (1 bronze star)\, Armed Forces Expeditionary Medal\, VSM (2 bronze stars)\, Army Service Ribbon\, Oversea service ribbon (3rd award)\, Republic of Vietnam Gallantry Cross Unit Citation w/ Palm\, VCM\, Sharpshooter (M16)\, Parachutist Badge\, Drill Sergeant Identification Badge\,  and many others.  He was Honorably Discharged. \nVisitation: 11:30 – 12:00 p.m. – True Light Missionary Baptist Church\, 2001 West Main Street\, Prichard\, AL 36610\nFuneral Service: 12:00 p.m. – True Light Missionary Baptist Church\, 2001 West Main Street \, Prichard\, AL 36610\nCommittal:  2:30 p.m. – ASVMC in Spanish Fort\, AL \nMs. Blanks stood for us many a hard day and night so that we might be safe and free— Now it is our honor to stand for her.  Ride Safely!!\n\nPRIMARY STAGING DETAILS:  05 May 2017\n\nPrimary Staging Time:  10:45 A.M.\nBelt 45 Shopping Center Parking Lot\n(Intersection Hwy 45 & I-65) under big oak\nS. Bessemer Ave.\nPrichard\, Alabama – 36610\n  \n\nRide Captain:\nPhil Brown\nphilqst@yahoo.com\n(251)402-0720\n\nSpecial Instructions:\nMobile & Baldwin County Staging:\nTime: 10:45 a.m.\nBriefing:  11:00 a.m.\nKSU:  11:15 a.m.\nFlags Supplied by:   Lloyd Pursley lloydpursley@gmail.com  (251) 422-0696\nHonor Guard: Yes; Escort: Yes\n\nFlags & Water:\nFlags Will Be Provided\nIf you have large bike flags\, please bring them.\nWater will be provided. \nSubmitted By:  Lloyd Pursley\nPosition:  Ride Captain \n\nNote:\nYou do not have to own/ride a motorcycle or be a Veteran to join and membership is Free. The only requirement is RESPECT! To join\, simply go to www.PatriotGuard.org and click on Register. Membership is Free. \nTo subscribe to receive mission notices\, log into the National Site and click on the Mission Tab at the top. Select Upcoming Missions by State. Scroll to the state(s) you would like to receive notices for and click on the green check mark. Detailed instructions are also located in the FAQs on the site by clicking on the Quick Links Tab and selecting FAQs.
URL:https://www.patriotguard.org/mission/state-mission-request-for-05-may-2017-from-alabama-robert-earl-blanks/
LOCATION:William J. Trautman
CATEGORIES:Archive
END:VEVENT
END:VCALENDAR