BEGIN:VCALENDAR
VERSION:2.0
PRODID:-//Patriot Guard Riders - ECPv5.3.2.1//NONSGML v1.0//EN
CALSCALE:GREGORIAN
METHOD:PUBLISH
X-WR-CALNAME:Patriot Guard Riders
X-ORIGINAL-URL:https://www.patriotguard.org
X-WR-CALDESC:Events for Patriot Guard Riders
BEGIN:VTIMEZONE
TZID:America/New_York
BEGIN:DAYLIGHT
TZOFFSETFROM:-0500
TZOFFSETTO:-0400
TZNAME:EDT
DTSTART:20170312T070000
END:DAYLIGHT
BEGIN:STANDARD
TZOFFSETFROM:-0400
TZOFFSETTO:-0500
TZNAME:EST
DTSTART:20171105T060000
END:STANDARD
END:VTIMEZONE
BEGIN:VEVENT
DTSTART;TZID=America/New_York:20170805T161000
DTEND;TZID=America/New_York:20170805T181000
DTSTAMP:20210403T110250
CREATED:20170805T201000Z
LAST-MODIFIED:20191201T042047Z
UID:361638-1501949400-1501956600@www.patriotguard.org
SUMMARY:State Mission Request for 05 Aug 2017 from Texas - James L. "Jim" McCoy
DESCRIPTION:Submitted by:\nMember Name:   M. B. Ingersoll\nPosition:   Ride Captain\nCity\, State:   Waxahachie\, Texas\nUser Name:   BluHog\nEmail:   bluhog@gmail.com\n \nEmail Subject Line Setup\n\nPrefix to Use – Honor\nSubject Line – SHORT NOTICE –  James L. “Jim” McCoy \, Veteran\, USAF – Vietnam\,  Arlington\, Texas  – 05 Aug 2017\n\n\nSHORT NOTICE!\n\n\n\n\n\n \n\nMod Instructions:\nAbout 15 hours out….\n\n++++++++ Copy the Information above this line++++++++++\n\n \nHonor Mission\n\n*** DO NOT REPLY *** \nThis is an automated message sent to you because you have subscribed to this State’s Mission thread. For current details on this mission\, please follow the link below. \nJames L. “Jim” McCoy\, Veteran \nUSAF  – Vietnam\nArlington\, Texas – 05 Aug 2017\n \n\n\nABOUT THE MISSION:\nJames McCoy served in the Air Force for 10 years as a military police officer\, including 15 months in Vietnam. While in Vietnam\, he was responsible for airbase perimeter security and the operations of a mortar school. He left the service in 1978 at the rank of Captain. \nThe family of Mr James McCoy has invited the North Texas Patriot Guard Riders to stand a Flag Line at his memorial service in Arlington.\n\nPRIMARY STAGING DETAILS:  05 Aug 2017\n\nPrimary Staging Time:  1310 P.M.\nFirst Presbyterian Church\n1200 South Collins Street\nArlington\, Texas – 76010\nhttps://goo.gl/maps/vaM5ayv7KCS2  \n\nRide Captain:\nMark Littel\nleadscout1979@gmail.com\n(682) 251-1300\n\nSpecial Instructions:\nAfter the mission brief riders will stand a flag line in honor of our hero. Once the memorial service begins\, flags will be returned to the support vehicle\, furled and stowed. After debriefing\, riders will be dismissed.\n\nFlags & Water:\nFlags Will Be Provided\nLarge Bike Flags will NOT be needed.\nWater will be provided. \nSubmitted By:  M. B. Ingersoll\nPosition:  Ride Captain \n\nNote:\nYou do not have to own/ride a motorcycle or be a Veteran to join and membership is Free. The only requirement is RESPECT! To join\, simply go to www.PatriotGuard.org and click on Register. Membership is Free. \nTo subscribe to receive mission notices\, log into the National Site and click on the Mission Tab at the top. Select Upcoming Missions by State. Scroll to the state(s) you would like to receive notices for and click on the green check mark. Detailed instructions are also located in the FAQs on the site by clicking on the Quick Links Tab and selecting FAQs.
URL:https://www.patriotguard.org/mission/state-mission-request-for-05-aug-2017-from-texas-james-l-jim-mccoy/
CATEGORIES:Archive
END:VEVENT
END:VCALENDAR