BEGIN:VCALENDAR
VERSION:2.0
PRODID:-//Patriot Guard Riders - ECPv5.3.2.1//NONSGML v1.0//EN
CALSCALE:GREGORIAN
METHOD:PUBLISH
X-WR-CALNAME:Patriot Guard Riders
X-ORIGINAL-URL:https://www.patriotguard.org
X-WR-CALDESC:Events for Patriot Guard Riders
BEGIN:VTIMEZONE
TZID:America/New_York
BEGIN:DAYLIGHT
TZOFFSETFROM:-0500
TZOFFSETTO:-0400
TZNAME:EDT
DTSTART:20170312T070000
END:DAYLIGHT
BEGIN:STANDARD
TZOFFSETFROM:-0400
TZOFFSETTO:-0500
TZNAME:EST
DTSTART:20171105T060000
END:STANDARD
END:VTIMEZONE
BEGIN:VEVENT
DTSTART;TZID=America/New_York:20171004T082000
DTEND;TZID=America/New_York:20171004T102000
DTSTAMP:20210404T113646
CREATED:20171004T122000Z
LAST-MODIFIED:20191201T041330Z
UID:357857-1507105200-1507112400@www.patriotguard.org
SUMMARY:State Mission Request for 04 Oct 2017 from Illinois - Special Event Unaccompanied Veterans
DESCRIPTION:Submitted by: \n\nMember Name: David Gier\nPosition: Ride Captain\nCity\, State: Crestwood\, Illinois\nUser Name: Bike Dave\nEmail: davidbgier@sbcglobal.net\n\nEmail Subject Line Setup\n[HR][/HR]Prefix to Use – Memorial\nSubject Line – American Heroes –  Springfield\, Illinois  – 04 Oct 2017\n[HR][/HR] \n\nAmerican Heroes Group Mission!\n\nMod Instructions: \n\nks\n\n++++++++ Copy the Information above this line++++++++++ \n\nMemorial Mission\n*** DO NOT REPLY ***  \nAmerican Heroes\n\nSpringfield\, Illinois – 04 Oct 2017\n\n\n[HR][/HR]\nABOUT THE MISSION: \n\nThe Patriot Guard has again been invited to take part in the ceremony for Veterans that were interred without military honors. The ceremony will include folding of the US Flag\, a 3-round volley and the playing of “Taps”. A bell will toll as the name of each Veteran being honored is read aloud. We are privileged to join together with others that are involved in the special ceremony to honor these Great American Patriots and to show our respect and appreciation for each of these Veteran’s service to this Great Nation. This is a flag line only mission. \n\nDate: Wednesday\, 4 Oct 17\nTime: 09:00 hrs (09:00 am) \nStaging: 08:20 hrs (08:20 am)  On the roadway west of the interment shelter just south of the crossroad \nBriefing: 08:30 hrs (08:30 am)\n \n\nPRIMARY STAGING DETAILS:  04 Oct 2017\nPrimary Staging Time: 8:20 A.M. \n\nCamp Butler National Cemetery\n5063 Camp Butler Road\nSpringfield\, Illinois –\n\n\nRide Captain: \n\nASRC: Bruce Martin/w flag support (217) 629-7660\n\n\nSpecial Instructions: \n\nFlag line will put in place at approximately 08:45 hrs (08:45 am) until the end of the ceremony approximately 09:30 hrs (09:30 am)\n\n\nFlags & Water: \n\nFlags Will Be Provided\nLarge Bike Flags will NOT be needed.\nWater WILL NOT be provided\, please bring your own.\n\nSubmitted By: David Gier\nPosition: Ride Captain\n[HR][/HR]Note:\nYou do not have to own/ride a motorcycle or be a Veteran to join and membership is Free. The only requirement is RESPECT! To join\, simply go to www.PatriotGuard.org and click on Register. Membership is Free. \nTo subscribe to receive mission notices\, log into the National Site and click on the Mission Tab at the top. Select the Subscribe to Missions option.
URL:https://www.patriotguard.org/mission/state-mission-request-for-04-oct-2017-from-illinois-special-event-unaccompanied-veterans/
CATEGORIES:Archive
END:VEVENT
END:VCALENDAR