BEGIN:VCALENDAR
VERSION:2.0
PRODID:-//Patriot Guard Riders - ECPv5.3.2.1//NONSGML v1.0//EN
CALSCALE:GREGORIAN
METHOD:PUBLISH
X-WR-CALNAME:Patriot Guard Riders
X-ORIGINAL-URL:https://www.patriotguard.org
X-WR-CALDESC:Events for Patriot Guard Riders
BEGIN:VTIMEZONE
TZID:America/New_York
BEGIN:DAYLIGHT
TZOFFSETFROM:-0500
TZOFFSETTO:-0400
TZNAME:EDT
DTSTART:20170312T070000
END:DAYLIGHT
BEGIN:STANDARD
TZOFFSETFROM:-0400
TZOFFSETTO:-0500
TZNAME:EST
DTSTART:20171105T060000
END:STANDARD
END:VTIMEZONE
BEGIN:VEVENT
DTSTART;TZID=America/New_York:20171004T081500
DTEND;TZID=America/New_York:20171004T101500
DTSTAMP:20210405T201642
CREATED:20171004T121500Z
LAST-MODIFIED:20191201T041342Z
UID:357940-1507104900-1507112100@www.patriotguard.org
SUMMARY:State Mission Request for 04 Oct 2017 from Florida - SSgt Baxter Home Dedication
DESCRIPTION:Submitted by: \n\nMember Name: Ray Doyle\nPosition: Assistant State Captain\nCity\, State: Crestview\, Florida\nUser Name: Talon Chief\nEmail: retonaharley@gmail.com\n\nEmail Subject Line Setup\n[HR][/HR]Prefix to Use – HOTH\nSubject Line –  SSgt Baxter Home Dedication  –  Pace\, Florida  – 04 Oct 2017\n[HR][/HR] \n\n\nMod Instructions: \n\n\n++++++++ Copy the Information above this line++++++++++ \n\nHOTH Mission\n*** DO NOT REPLY ***  \nSSgt Baxter Home Dedication\n\nPace\, Florida – 04 Oct 2017\n\n\n[HR][/HR]\nABOUT THE MISSION: \n\nBank of America in conjunction with Military Warriors Support Foundation have requested that the Patriot Guard stand in honor and welcome home Staff Sergeant Ricky Baxter. Staff Sergeant Ricky Baxter served as a combat medic from November 1994 – November 2008. \nPatriot Guard will escort the family from the staging area to their new home.\n \n\nPRIMARY STAGING DETAILS:  04 Oct 2017\nPrimary Staging Time: 0915 A.M. \n\nWhataburger\, 4983 US-90\nPace\, Florida –\n\n\nRide Captain: \n\nBryan Stiers\nBEStiers@msn.com\n757-288-5131\n\n\nSpecial Instructions: \n\n1000 – Safety briefing\n1015 – Kick Stands Up\n1030 – Arrive  5215 Catalina St Pace FL 32571 \nCAUTION: It is recommended that we wear long sleeve shirts\, long trousers\, long fingered gloves\, DOT approved helmets\, leather footwear covering the ankles and appropriate eye protection for all riders while riding with the Patriot Guard. \nUniform of the day will be RED Shirts.\n \n\nFlags & Water: \n\nFlags Will Be Provided\nIf you have large bike flags\, please bring them.\nWater will be provided.\n\nSubmitted By: Ray Doyle\nPosition: Assistant State Captain\n[HR][/HR]Note:\nYou do not have to own/ride a motorcycle or be a Veteran to join and membership is Free. The only requirement is RESPECT! To join\, simply go to www.PatriotGuard.org and click on Register. Membership is Free. \nTo subscribe to receive mission notices\, log into the National Site and click on the Mission Tab at the top. Select the Subscribe to Missions option.
URL:https://www.patriotguard.org/mission/state-mission-request-for-04-oct-2017-from-florida-ssgt-baxter-home-dedication/
CATEGORIES:Archive
END:VEVENT
END:VCALENDAR