BEGIN:VCALENDAR
VERSION:2.0
PRODID:-//Patriot Guard Riders - ECPv5.3.2.1//NONSGML v1.0//EN
CALSCALE:GREGORIAN
METHOD:PUBLISH
X-WR-CALNAME:Patriot Guard Riders
X-ORIGINAL-URL:https://www.patriotguard.org
X-WR-CALDESC:Events for Patriot Guard Riders
BEGIN:VTIMEZONE
TZID:America/New_York
BEGIN:DAYLIGHT
TZOFFSETFROM:-0500
TZOFFSETTO:-0400
TZNAME:EDT
DTSTART:20170312T070000
END:DAYLIGHT
BEGIN:STANDARD
TZOFFSETFROM:-0400
TZOFFSETTO:-0500
TZNAME:EST
DTSTART:20171105T060000
END:STANDARD
END:VTIMEZONE
BEGIN:VEVENT
DTSTART;TZID=America/New_York:20171104T100000
DTEND;TZID=America/New_York:20171104T120000
DTSTAMP:20210403T095818
CREATED:20171104T140000Z
LAST-MODIFIED:20191201T040933Z
UID:355811-1509789600-1509796800@www.patriotguard.org
SUMMARY:State Mission Request for 04 Nov 2017 from New York - Fall Fest Kickoff to Veterans Week
DESCRIPTION:Submitted by: \n\nMember Name: Ray Sestak\nPosition: Ride Captain\nCity\, State: Glenmont\, New York\nUser Name: PGRNYMods\nEmail: pgrnymod@gmail.com\n\nEmail Subject Line Setup\n[HR][/HR]Prefix to Use – HOTH\nSubject Line – SHORT NOTICE –  Fall Fest Kickoff to Veterans Week \, Veteran –  Elma\, New York  – 04 Nov 2017\n[HR][/HR] \n\nSHORT NOTICE!\n\nMod Instructions: \n\n\n++++++++ Copy the Information above this line++++++++++ \n\nHOTH Mission\n*** DO NOT REPLY ***  \nFall Fest Kickoff to Veterans Week\, Veteran\n\nElma\, New York – 04 Nov 2017\n\n\n[HR][/HR]\nABOUT THE MISSION: \n\nWe have been invited to participate in a very special event. As part of the Made In America Store’s Fall Fest\, there will be an Iroquois Foundation “4-Miler Salutes Veterans” race. At the Finish Line\, two local Marine Corps Veterans who earned Purple Hearts 60 years apart – one during the Battle of Iwo Jima\, the other during Operation Iraqi Freedom – will meet for the first time. There will be a special presentation of a Patriot Plaque to the OIF Veteran\, and a gift to the WWII Veteran. There will a birthday cake to celebrate the upcoming 242nd Birthday of the USMC on 10 November\, and a kickoff to Veterans’ Day celebrations. OF SPECIAL NOTE: The Iroquois Foundation designates Buffalo Niagara Honor Flight as the recipient charity. The Fall Fest 2017 runs from 9:30 AM-2:00 PM\, with many Veteran-owned vendors.\nNOTE: The Requester\, Dorothy\, is a BN Honor Flight volunteer and will be at the Honor Flight Send-Off that morning.\n\n\nPRIMARY STAGING DETAILS:  04 Nov 2017\nPrimary Staging Time: 10:00 A.M. \n\nMade In America Store\n1000 West Maple Court\nElma\, New York – 14059\n\n\nRide Captain: \n\nDon Higgins\ngladiator6988@hotmail.com\n\n\nSpecial Instructions: \n\nSPECIAL PARKING INSTRUCTIONS: Please access the store parking lot thru the Northeast Collision entrance off Maple Road. A driveway in the back\, on the right\, has access to West Maple Court\, go up the driveway next to Aurora Optometric\, this will put you close to the store’s side entrance. This way we will avoid the Finish Line of the race\, the timekeepers and the runners. Please advise the Volunteer Firefighters directing traffic that you are with PGR.\nPlease arrive on time with a clean 3×5 American Flag or USMC flag\, and dress for the weather.\nPlease do whatever you’re able to help support and witness this historic event\, as the brotherhood of the US Marine Corps transcends six decades of service and sacrifice.\n\n\nFlags & Water: \n\nFlags Will NOT Be Provided\, Please Bring Your Own.\nIf you have large bike flags\, please bring them.\nWater WILL NOT be provided\, please bring your own.\n\nSubmitted By: Ray Sestak\nPosition: Ride Captain\n[HR][/HR]Note:\nYou do not have to own/ride a motorcycle or be a Veteran to join and membership is Free. The only requirement is RESPECT! To join\, simply go to www.PatriotGuard.org and click on Register. Membership is Free. \nTo subscribe to receive mission notices\, log into the National Site and click on the Mission Tab at the top. Select the Subscribe to Missions option.
URL:https://www.patriotguard.org/mission/state-mission-request-for-04-nov-2017-from-new-york-fall-fest-kickoff-to-veterans-week/
CATEGORIES:Archive
END:VEVENT
END:VCALENDAR