BEGIN:VCALENDAR
VERSION:2.0
PRODID:-//Patriot Guard Riders - ECPv5.3.2.1//NONSGML v1.0//EN
CALSCALE:GREGORIAN
METHOD:PUBLISH
X-WR-CALNAME:Patriot Guard Riders
X-ORIGINAL-URL:https://www.patriotguard.org
X-WR-CALDESC:Events for Patriot Guard Riders
BEGIN:VTIMEZONE
TZID:America/New_York
BEGIN:DAYLIGHT
TZOFFSETFROM:-0500
TZOFFSETTO:-0400
TZNAME:EDT
DTSTART:20170312T070000
END:DAYLIGHT
BEGIN:STANDARD
TZOFFSETFROM:-0400
TZOFFSETTO:-0500
TZNAME:EST
DTSTART:20171105T060000
END:STANDARD
END:VTIMEZONE
BEGIN:VEVENT
DTSTART;TZID=America/New_York:20171104T090000
DTEND;TZID=America/New_York:20171104T110000
DTSTAMP:20210404T175055
CREATED:20171104T130000Z
LAST-MODIFIED:20191201T040922Z
UID:355735-1509786000-1509793200@www.patriotguard.org
SUMMARY:State Mission Request for 04 Nov 2017 from New York - Alfred C. Lippold
DESCRIPTION:Submitted by: \n\nMember Name: Ray Sestak\nPosition: Ride Captain\nCity\, State: Glenmont\, New York\nUser Name: PGRNYMods\nEmail: pgrnymod@gmail.com\n\nEmail Subject Line Setup\n[HR][/HR]Prefix to Use – Honor\nSubject Line – SHORT NOTICE –  Alfred C. Lippold \, Veteran\, USA – Korea\,  Attica\, New York  – 04 Nov 2017\n[HR][/HR] \n\nSHORT NOTICE!\n\nMod Instructions: \n\n\n++++++++ Copy the Information above this line++++++++++ \n\nHonor Mission\n*** DO NOT REPLY ***  \nAlfred C. Lippold\, Veteran\nUSA  – Korea\nAttica\, New York – 04 Nov 2017\n\n\n[HR][/HR]\nABOUT THE MISSION: \n\nWe have been requested to stand in Honor of the Korean War Service of Alfred C. Lippold of Attica\, who passed away on November 1st. Mr. Lippold served from 1951-1953 with Company C\, 14th Engineer Combat Battalion\, US Army Corps of Engineers\, including 14-1/2 months in Korea. His MOS was 1729\, and he oversaw a bridge and road construction unit. Mr. Lippold was Honorably Discharged on 4 July 1953 with the rank of Sergeant\, and earned the following awards: National Defense Service Medal; Korean Service Medal w/2 Bronze Service Stars; United Nations Service Medal (Korea.)\nObituary: http://www.marleyfuneralhome.com/obituaries/Alfred-Chuck-Lippold?obId=2687634#/obituaryInfo\n\n\nPRIMARY STAGING DETAILS:  04 Nov 2017\nPrimary Staging Time: 9:00 A.M. \n\nSt. Joachim & Anne Parish\n50 East Avenue\nAttica\, New York – 14011\nhttp://mapq.st/2sbuiXk\n\n\nRide Captain: \n\nKen Lyons\nkandrlyons@inbox.com\n\n\nSpecial Instructions: \n\nFlag Line for arrival of family and friends.\nMass of Christian Burial at 10:00 A.M.\nFollowed by Dignified Escort to St. Vincent’s Cemetery in Attica\, for Burial with Military Honors.\nPlease arrive on time with a clean 3×5 American Flag or US Army flag\, dress for the weather\, and ensure your large bike flags are properly placed and securely attached.\nPlease do whatever you’re able to help Honor the Korean War Service of Alfred Lippold and to support his loving family.\n\n\nFlags & Water: \n\nFlags Will NOT Be Provided\, Please Bring Your Own.\nIf you have large bike flags\, please bring them.\nWater WILL NOT be provided\, please bring your own.\n\nSubmitted By: Ray Sestak\nPosition: Ride Captain\n[HR][/HR]Note:\nYou do not have to own/ride a motorcycle or be a Veteran to join and membership is Free. The only requirement is RESPECT! To join\, simply go to www.PatriotGuard.org and click on Register. Membership is Free. \nTo subscribe to receive mission notices\, log into the National Site and click on the Mission Tab at the top. Select the Subscribe to Missions option.
URL:https://www.patriotguard.org/mission/state-mission-request-for-04-nov-2017-from-new-york-alfred-c-lippold/
CATEGORIES:Archive
END:VEVENT
END:VCALENDAR