BEGIN:VCALENDAR
VERSION:2.0
PRODID:-//Patriot Guard Riders - ECPv5.3.2.1//NONSGML v1.0//EN
CALSCALE:GREGORIAN
METHOD:PUBLISH
X-WR-CALNAME:Patriot Guard Riders
X-ORIGINAL-URL:https://www.patriotguard.org
X-WR-CALDESC:Events for Patriot Guard Riders
BEGIN:VTIMEZONE
TZID:America/New_York
BEGIN:DAYLIGHT
TZOFFSETFROM:-0500
TZOFFSETTO:-0400
TZNAME:EDT
DTSTART:20170312T070000
END:DAYLIGHT
BEGIN:STANDARD
TZOFFSETFROM:-0400
TZOFFSETTO:-0500
TZNAME:EST
DTSTART:20171105T060000
END:STANDARD
END:VTIMEZONE
BEGIN:VEVENT
DTSTART;TZID=America/New_York:20170204T113000
DTEND;TZID=America/New_York:20170204T133000
DTSTAMP:20210404T132243
CREATED:20170204T163000Z
LAST-MODIFIED:20191201T044346Z
UID:373048-1486207800-1486215000@www.patriotguard.org
SUMMARY:State Mission Request for 04 Feb 2017 from Iowa - Dennis K Smith
DESCRIPTION:Submitted by:\nMember Name:   Jim Clark\nPosition:   Assistant State Captain\nCity\, State:   Des Moines\, Iowa\nUser Name:   Jimmarine\nEmail:   Jim@clarkglass.com\n \nEmail Subject Line Setup\n\nPrefix to Use – Honor\nSubject Line – SHORT NOTICE –  Dennis K Smith \, Veteran\, USA \, ANG – Vietnam\,  Mapleton\, Iowa  – 04 Feb 2017\n\n\nSHORT NOTICE!\nSTATEWIDE REQUIRED!\n\n\n\n\n \n\nMod Instructions:\n\n\n++++++++ Copy the Information above this line++++++++++\n\n \nHonor Mission\n\n*** DO NOT REPLY *** \nThis is an automated message sent to you because you have subscribed to this State’s Mission thread. For current details on this mission\, please follow the link below. \nDennis K Smith\, Veteran \nUSA ANG  – Vietnam\nMapleton\, Iowa – 04 Feb 2017\n \n\n\nABOUT THE MISSION:\nHe enlisted in the U. S. Army at the age of 17 and served two tours in Vietnam from 1969 to 1971 with Troop B\, 3rd Squadron\, 5th Cavalry 9th Infantry Division as an armor crewman\, receiving the Purple Heart and Bronze Star among other medals. He later served for a time with the Iowa National Guard in Mapleton\, Iowa\n\nPRIMARY STAGING DETAILS:  04 Feb 2017\n\nPrimary Staging Time:  11:30 A.M.\nSt. John’s United Methodist Church\n212 South 7th Street\nMapleton\, Iowa –\nhttps://goo.gl/maps/KmyfHzisANT2  \n\nRide Captain:\nJack Kenkel\njkia@fmctc.com\n712-579-8040\n\nSpecial Instructions:\nBriefing 11:45 AM\nFlag line 12:00 noon to 1:00 PM\nLuncheon to follow the service.\nGraveside services will follow at 3:30 P.M. in Grant Township Cemetery\, rural Ticonic\, Iowa. Military Honors will be provided by the Grimsley-Thayer American Legion Post #502 of Castana\, Iowa.\n\nFlags & Water:\nFlags Will Be Provided\nLarge Bike Flags will NOT be needed.\nWater WILL NOT be provided\, please bring your own. \nSubmitted By:  Jim Clark\nPosition:  Assistant State Captain \n\nNote:\nYou do not have to own/ride a motorcycle or be a Veteran to join and membership is Free. The only requirement is RESPECT! To join\, simply go to Patriot Guard website and click on Register. Membership is Free. \nTo subscribe to receive mission notices\, log into the National Site and click on the Mission Tab at the top. Select Upcoming Missions by State. Scroll to the state(s) you would like to receive notices for and click on the green check mark. Detailed instructions are also located in the FAQs on the site by clicking on the Quick Links Tab and selecting FAQs.
URL:https://www.patriotguard.org/mission/state-mission-request-for-04-feb-2017-from-iowa-dennis-k-smith/
CATEGORIES:Archive
END:VEVENT
END:VCALENDAR