BEGIN:VCALENDAR
VERSION:2.0
PRODID:-//Patriot Guard Riders - ECPv5.3.2.1//NONSGML v1.0//EN
CALSCALE:GREGORIAN
METHOD:PUBLISH
X-WR-CALNAME:Patriot Guard Riders
X-ORIGINAL-URL:https://www.patriotguard.org
X-WR-CALDESC:Events for Patriot Guard Riders
BEGIN:VTIMEZONE
TZID:America/New_York
BEGIN:DAYLIGHT
TZOFFSETFROM:-0500
TZOFFSETTO:-0400
TZNAME:EDT
DTSTART:20170312T070000
END:DAYLIGHT
BEGIN:STANDARD
TZOFFSETFROM:-0400
TZOFFSETTO:-0500
TZNAME:EST
DTSTART:20171105T060000
END:STANDARD
END:VTIMEZONE
BEGIN:VEVENT
DTSTART;TZID=America/New_York:20170204T120000
DTEND;TZID=America/New_York:20170204T140000
DTSTAMP:20210405T221522
CREATED:20170204T170000Z
LAST-MODIFIED:20191201T044347Z
UID:373054-1486209600-1486216800@www.patriotguard.org
SUMMARY:State Mission Request for 04 Feb 2017 from Alabama - CW4 Charles G. Taylor
DESCRIPTION:Submitted by:\nMember Name:   John Cooper\nPosition:   Ride Captain\nCity\, State:   Huntsville\, Alabama\nUser Name:   John Cooper\nEmail:   pgrcoop@gmail.com\n \nEmail Subject Line Setup\n\nPrefix to Use – Honor\nSubject Line –   CW4 Charles G. Taylor \, Retired\, USA – WoT\,  Gadsden\, Alabama  – 04 Feb 2017\n\n\n\nSTATEWIDE REQUIRED!\n\n\n\n\n \n\nMod Instructions:\n\n\n++++++++ Copy the Information above this line++++++++++\n\n \nHonor Mission\n\n*** DO NOT REPLY *** \nThis is an automated message sent to you because you have subscribed to this State’s Mission thread. For current details on this mission\, please follow the link below. \nCW4 Charles G. Taylor\, Retired \nUSA  – WoT\nGadsden\, Alabama – 04 Feb 2017\n \n\n\nABOUT THE MISSION:\nThe family of CW4 Charlie Taylor has asked the Patriot Guard to honor their loved one by standing a flag line at his graveside service.\nWe will be honored to do so.\nCW4 Taylor stood for us…..now is the time to stand for him.\n\nPRIMARY STAGING DETAILS:  04 Feb 2017\n\nPrimary Staging Time:  12:00 P.M.\nCrestwood Memorial Cemetery\nVeterans Section\n2209 E. Broad St.\nGadsden\, Alabama – 35903\n  \n\nRide Captain:\nBrian McCurley  RCIC\nbrianmac868@gmail.com\n205-901-2117\n\nSpecial Instructions:\n\n\nFlags & Water:\nFlags Will Be Provided\nLarge Bike Flags will NOT be needed.\nWater WILL NOT be provided\, please bring your own. \nSubmitted By:  John Cooper\nPosition:  Ride Captain \n\nNote:\nYou do not have to own/ride a motorcycle or be a Veteran to join and membership is Free. The only requirement is RESPECT! To join\, simply go to Patriot Guard website and click on Register. Membership is Free. \nTo subscribe to receive mission notices\, log into the National Site and click on the Mission Tab at the top. Select Upcoming Missions by State. Scroll to the state(s) you would like to receive notices for and click on the green check mark. Detailed instructions are also located in the FAQs on the site by clicking on the Quick Links Tab and selecting FAQs.
URL:https://www.patriotguard.org/mission/state-mission-request-for-04-feb-2017-from-alabama-cw4-charles-g-taylor/
LOCATION:Member Lists
CATEGORIES:Archive
END:VEVENT
END:VCALENDAR