BEGIN:VCALENDAR
VERSION:2.0
PRODID:-//Patriot Guard Riders - ECPv5.3.2.1//NONSGML v1.0//EN
CALSCALE:GREGORIAN
METHOD:PUBLISH
X-WR-CALNAME:Patriot Guard Riders
X-ORIGINAL-URL:https://www.patriotguard.org
X-WR-CALDESC:Events for Patriot Guard Riders
BEGIN:VTIMEZONE
TZID:America/New_York
BEGIN:DAYLIGHT
TZOFFSETFROM:-0500
TZOFFSETTO:-0400
TZNAME:EDT
DTSTART:20170312T070000
END:DAYLIGHT
BEGIN:STANDARD
TZOFFSETFROM:-0400
TZOFFSETTO:-0500
TZNAME:EST
DTSTART:20171105T060000
END:STANDARD
END:VTIMEZONE
BEGIN:VEVENT
DTSTART;TZID=America/New_York:20170804T103000
DTEND;TZID=America/New_York:20170804T123000
DTSTAMP:20210402T040720
CREATED:20170804T143000Z
LAST-MODIFIED:20191201T042151Z
UID:362122-1501842600-1501849800@www.patriotguard.org
SUMMARY:State Mission Request for 04 Aug 2017 from West Virginia - Welcome Home Ceremony
DESCRIPTION:Submitted by:\nMember Name:   Doug Geary\nPosition:   Ride Captain\nCity\, State:   Morgantown\, West Virginia\nUser Name:   douggeary\nEmail:   dougandjanegeary@yahoo.com\n \nEmail Subject Line Setup\n\nPrefix to Use – HOTH\nSubject Line –   Welcome Home Ceremony \, Active Duty\, Retired\, KIA\, POW/MIA\, PGR\, Veteran\, USA\, USN\, USMC\, USCG\, USAF \, ANG\, ARNG\, USAR\, USAFR\, USCGR\, USMCR\, USNR \, ANC\, WAAC\, WAC\, USNNC\, SPAR\, WASP\, WAVES\, USCNC\, USMCWR \, EMS/EMT\, Fire\, LEO – WWII\, Korea\, Vietnam\, GW/ODS\, WoT\, Lebanon/Grenada\, Panama\,  Clarksburg\, West Virginia  – 04 Aug 2017\n\n\n\n\n\n\n\n\n \n\nMod Instructions:\n\n\n++++++++ Copy the Information above this line++++++++++\n\n \nHOTH Mission\n\n*** DO NOT REPLY *** \nThis is an automated message sent to you because you have subscribed to this State’s Mission thread. For current details on this mission\, please follow the link below. \nWelcome Home Ceremony\, Active Duty\, Retired\, KIA\, POW/MIA\, PGR\, Veteran \nUSA\, USN\, USMC\, USCG\, USAF ANG\, ARNG\, USAR\, USAFR\, USCGR\, USMCR\, USNR ANC\, WAAC\, WAC\, USNNC\, SPAR\, WASP\, WAVES\, USCNC\, USMCWR EMS/EMT\, Fire\, LEO  – WWII\, Korea\, Vietnam\, GW/ODS\, WoT\, Lebanon/Grenada\, Panama\nClarksburg\, West Virginia – 04 Aug 2017\n \n\n\nABOUT THE MISSION:\nA “Welcome Home” ceremony will be held for all veterans\, their friends and families\, at the Louis A Johnson\, VA Medical Center\, 1 Medical Center Drive\, Clarksburg\, WV 26301\,on August 4\, 2017. \nHarrison County Honor Guard will conduct the opening ceremony and the WV PGR has been invited to participate with a flag line. \nRCIC for event will be: Boonie Jarvis (dolittle202@gmail.com) \nBriefing at 11:30 at the VA Park (adjacent to the Hospital parking lot) \nThis is an ‘outdoor’ event\, dress according to the weather \n3 X 5 flags will not be provided \nWater is available at the event \nSpecial parking are for all motorcycles on site.\n\nPRIMARY STAGING DETAILS:  04 Aug 2017\n\nPrimary Staging Time:  1130 A.M.\nVA Park which is adjacent to the Hospital parking lot.\nClarksburg\, West Virginia –\n  \n\nRide Captain:\nBoonie Jarvis with email contact of  dolittle202@gmail.com\n\nSpecial Instructions:\n\n\nFlags & Water:\nFlags Will NOT Be Provided\, Please Bring Your Own.\nLarge Bike Flags will NOT be needed.\nWater will be provided. \nSubmitted By:  Doug Geary\nPosition:  Ride Captain \n\nNote:\nYou do not have to own/ride a motorcycle or be a Veteran to join and membership is Free. The only requirement is RESPECT! To join\, simply go to www.PatriotGuard.org and click on Register. Membership is Free. \nTo subscribe to receive mission notices\, log into the National Site and click on the Mission Tab at the top. Select Upcoming Missions by State. Scroll to the state(s) you would like to receive notices for and click on the green check mark. Detailed instructions are also located in the FAQs on the site by clicking on the Quick Links Tab and selecting FAQs.
URL:https://www.patriotguard.org/mission/state-mission-request-for-04-aug-2017-from-west-virginia-welcome-home-ceremony/
CATEGORIES:Archive
END:VEVENT
END:VCALENDAR