BEGIN:VCALENDAR
VERSION:2.0
PRODID:-//Patriot Guard Riders - ECPv5.3.2.1//NONSGML v1.0//EN
CALSCALE:GREGORIAN
METHOD:PUBLISH
X-WR-CALNAME:Patriot Guard Riders
X-ORIGINAL-URL:https://www.patriotguard.org
X-WR-CALDESC:Events for Patriot Guard Riders
BEGIN:VTIMEZONE
TZID:America/New_York
BEGIN:DAYLIGHT
TZOFFSETFROM:-0500
TZOFFSETTO:-0400
TZNAME:EDT
DTSTART:20170312T070000
END:DAYLIGHT
BEGIN:STANDARD
TZOFFSETFROM:-0400
TZOFFSETTO:-0500
TZNAME:EST
DTSTART:20171105T060000
END:STANDARD
END:VTIMEZONE
BEGIN:VEVENT
DTSTART;TZID=America/New_York:20171003T084500
DTEND;TZID=America/New_York:20171003T104500
DTSTAMP:20210403T120703
CREATED:20171003T124500Z
LAST-MODIFIED:20191201T041347Z
UID:357983-1507020300-1507027500@www.patriotguard.org
SUMMARY:State Mission Request for 03 Oct 2017 from Missouri - Joseph Luna
DESCRIPTION:Submitted by: \n\nMember Name: Denny Eads\nPosition: Ride Captain\nCity\, State: St. Louis\, Missouri\nUser Name: stldutchman\nEmail: stldutchman@sbcglobal.net\n\nEmail Subject Line Setup\n[HR][/HR]Prefix to Use – Honor\nSubject Line –  Joseph Luna \, Veteran\, USA – WWII\,  St. Louis\, Missouri  – 03 Oct 2017\n[HR][/HR] \n\n\nMod Instructions: \n\nPlease post. Thank you.\n\n++++++++ Copy the Information above this line++++++++++ \n\nHonor Mission\n*** DO NOT REPLY ***  \nJoseph Luna\, Veteran\nUSA  – WWII\nSt. Louis\, Missouri – 03 Oct 2017\n\n\n[HR][/HR]\nABOUT THE MISSION: \n\nWe have been invited by the family of Joseph Luna\, a member of America’s Greatest Generation\, to escort him to his funeral Mass and to provide an honor escort to Jefferson Barracks National Cemetery following his mass. Mr. Luna served in the Army from 1943 to 1946 with the 1140th Combat Engineer Group.\n\n\nPRIMARY STAGING DETAILS:  03 Oct 2017\nPrimary Staging Time: 8:45 A.M. \n\nKutis South County Chapel\n5255 Lemay Ferry Rd.\nSt. Louis\, Missouri – 63129\n\n\nRide Captain: \n\nRC /With Flags\nDenny Dutchman Eads\n314-277-2821\n\n\nSpecial Instructions: \n\nRide Meeting: 8:45 AM\n9:00 AM depart for St. Mark Catholic Church\nJefferson Barracks slot: 11:00 AM\n\n\nFlags & Water: \n\nFlags Will Be Provided\nIf you have large bike flags\, please bring them.\nWater will be provided.\n\nSubmitted By: Denny Eads\nPosition: Ride Captain\n[HR][/HR]Note:\nYou do not have to own/ride a motorcycle or be a Veteran to join and membership is Free. The only requirement is RESPECT! To join\, simply go to www.PatriotGuard.org and click on Register. Membership is Free. \nTo subscribe to receive mission notices\, log into the National Site and click on the Mission Tab at the top. Select the Subscribe to Missions option.
URL:https://www.patriotguard.org/mission/state-mission-request-for-03-oct-2017-from-missouri-joseph-luna/
CATEGORIES:Archive
END:VEVENT
END:VCALENDAR