BEGIN:VCALENDAR
VERSION:2.0
PRODID:-//Patriot Guard Riders - ECPv5.3.2.1//NONSGML v1.0//EN
CALSCALE:GREGORIAN
METHOD:PUBLISH
X-WR-CALNAME:Patriot Guard Riders
X-ORIGINAL-URL:https://www.patriotguard.org
X-WR-CALDESC:Events for Patriot Guard Riders
BEGIN:VTIMEZONE
TZID:America/New_York
BEGIN:DAYLIGHT
TZOFFSETFROM:-0500
TZOFFSETTO:-0400
TZNAME:EDT
DTSTART:20170312T070000
END:DAYLIGHT
BEGIN:STANDARD
TZOFFSETFROM:-0400
TZOFFSETTO:-0500
TZNAME:EST
DTSTART:20171105T060000
END:STANDARD
END:VTIMEZONE
BEGIN:VEVENT
DTSTART;TZID=America/New_York:20171003T093000
DTEND;TZID=America/New_York:20171003T113000
DTSTAMP:20210403T120517
CREATED:20171003T133000Z
LAST-MODIFIED:20191201T041340Z
UID:357930-1507023000-1507030200@www.patriotguard.org
SUMMARY:State Mission Request for 03 Oct 2017 from Mississippi - US Marine Korean  Donald Johsen Sr *(82)
DESCRIPTION:Submitted by: \n\nMember Name: Sandie Schlett\nPosition: Assistant State Captain\nCity\, State: Biloxi\, Mississippi\nUser Name: SandieSchlett\nEmail: pgrgulfcoastsandie@gmail.com\n\nEmail Subject Line Setup\n[HR][/HR]Prefix to Use – Honor\nSubject Line –  US Marine Korean  Donald Johsen Sr *(82) \, Veteran\, USMC – Korea\,  Ocean Springs\, Mississippi  – 03 Oct 2017\n[HR][/HR] \n\n\nMod Instructions: \n\n\n++++++++ Copy the Information above this line++++++++++ \n\nHonor Mission\n*** DO NOT REPLY ***  \nUS Marine Korean  Donald Johsen Sr *(82)\, Veteran\nUSMC  – Korea\nOcean Springs\, Mississippi – 03 Oct 2017\n\n\n[HR][/HR]\nABOUT THE MISSION: \n\nHONOR MISSION\nTuesday 3 October 2017 \nUS Marine Korean War Veteran\nDonald Johnsen Sr *(82)\nTuesday 3 Oct 2017\nOcean Springs\, *MS \nWe are sad to report the death of US Marine **Korean War Veteran Donald Johnsen (86). * \nMr Johnsen proudly served in the US Marines and was awarded the Korean Service Medal with 1 star\, *and the U.N. Medal. \nESCORT\nKSU approximately 10 am the\nPatriot Guard Riders will escort to\nBiloxi National Cemetery \nCommittal Shelter\n400 Veterans Ave\nBiloxi\, *MS \nThe Patriot Guard will provide a silent flag line for the 11 am Committal Service. \n\n*Large motorcycle flags will not be needed as we will be taking alternative route due to Cruising the Coast \nNote:\nYou do not have to own/ride a motorcycle or be a Veteran to join and membership is Free. The only requirement is RESPECT! To join\, simply go to Patriot Guard website and click on Register. Membership is Free. \nTo subscribe to receive mission notices\, log into the National Site and click on the Mission Tab at the top. Select Upcoming Missions by State. Scroll to the state(s) you would like to receive notices for and click on the green check mark. Detailed instructions are also located in the FAQs on the site by clicking on the Quick Links Tab and selecting FAQs.\n \n\nPRIMARY STAGING DETAILS:  03 Oct 2017\nPrimary Staging Time: 9:30 A.M. \n\nSouth Mississippi Funeral Services\n6631 Washington Ave\nOcean Springs\, Mississippi –\n\n\nRide Captain: \n\nRide Captain Bob Harwood\nSr Ride Captain\n228-243-5446\n\n\nSpecial Instructions: \n\n\n\nFlags & Water: \n\nFlags Will Be Provided\nLarge Bike Flags will NOT be needed.\nWater WILL NOT be provided\, please bring your own.\n\nSubmitted By: Sandie Schlett\nPosition: Assistant State Captain\n[HR][/HR]Note:\nYou do not have to own/ride a motorcycle or be a Veteran to join and membership is Free. The only requirement is RESPECT! To join\, simply go to www.PatriotGuard.org and click on Register. Membership is Free. \nTo subscribe to receive mission notices\, log into the National Site and click on the Mission Tab at the top. Select the Subscribe to Missions option.
URL:https://www.patriotguard.org/mission/state-mission-request-for-03-oct-2017-from-mississippi-us-marine-korean-donald-johsen-sr-82/
CATEGORIES:Archive
END:VEVENT
END:VCALENDAR