BEGIN:VCALENDAR
VERSION:2.0
PRODID:-//Patriot Guard Riders - ECPv5.3.2.1//NONSGML v1.0//EN
CALSCALE:GREGORIAN
METHOD:PUBLISH
X-WR-CALNAME:Patriot Guard Riders
X-ORIGINAL-URL:https://www.patriotguard.org
X-WR-CALDESC:Events for Patriot Guard Riders
BEGIN:VTIMEZONE
TZID:America/New_York
BEGIN:DAYLIGHT
TZOFFSETFROM:-0500
TZOFFSETTO:-0400
TZNAME:EDT
DTSTART:20170312T070000
END:DAYLIGHT
BEGIN:STANDARD
TZOFFSETFROM:-0400
TZOFFSETTO:-0500
TZNAME:EST
DTSTART:20171105T060000
END:STANDARD
END:VTIMEZONE
BEGIN:VEVENT
DTSTART;TZID=America/New_York:20171103T100000
DTEND;TZID=America/New_York:20171103T120000
DTSTAMP:20210403T004919
CREATED:20171103T140000Z
LAST-MODIFIED:20191201T040947Z
UID:355916-1509703200-1509710400@www.patriotguard.org
SUMMARY:State Mission Request for 03 Nov 2017 from Nevada - Johnie Lee Malaer
DESCRIPTION:Submitted by: \n\nMember Name: Dean Shuff\nPosition: Assistant State Captain\nCity\, State: Reno\, Nevada\nUser Name: deanshuff\nEmail: deanshuff06@charter.net\n\nEmail Subject Line Setup\n[HR][/HR]Prefix to Use – Honor\nSubject Line –  Johnie Lee Malaer \, Veteran\, USN  –  Fernley\, Nevada  – 03 Nov 2017\n[HR][/HR] \n\n\nMod Instructions: \n\n\n++++++++ Copy the Information above this line++++++++++ \n\nHonor Mission\n*** DO NOT REPLY ***  \nJohnie Lee Malaer\, Veteran\nUSN\nFernley\, Nevada – 03 Nov 2017\n\n\n[HR][/HR]\nABOUT THE MISSION: \n\nUSN Airman Johnie Lee Malaer\, honorably served his country from 1961 to 1963.\nHe served aboard the USS Yorktown.\n\n\nPRIMARY STAGING DETAILS:  03 Nov 2017\nPrimary Staging Time: 10:00 A.M. \n\nNorthern Nevada Veterans’ Memorial Cemetery\nFernley\, Nevada – 89408\n\n\nRide Captain: \n\nBill Drummond\nwilldrum50@gmail.com\n775-276-1847\n\n\nSpecial Instructions: \n\n\n\nFlags & Water: \n\nFlags Will NOT Be Provided\, Please Bring Your Own.\nLarge Bike Flags will NOT be needed.\nWater WILL NOT be provided\, please bring your own.\n\nSubmitted By: Dean Shuff\nPosition: Assistant State Captain\n[HR][/HR]Note:\nYou do not have to own/ride a motorcycle or be a Veteran to join and membership is Free. The only requirement is RESPECT! To join\, simply go to www.PatriotGuard.org and click on Register. Membership is Free. \nTo subscribe to receive mission notices\, log into the National Site and click on the Mission Tab at the top. Select the Subscribe to Missions option.
URL:https://www.patriotguard.org/mission/state-mission-request-for-03-nov-2017-from-nevada-johnie-lee-malaer/
CATEGORIES:Archive
END:VEVENT
END:VCALENDAR