BEGIN:VCALENDAR
VERSION:2.0
PRODID:-//Patriot Guard Riders - ECPv5.3.2.1//NONSGML v1.0//EN
CALSCALE:GREGORIAN
METHOD:PUBLISH
X-WR-CALNAME:Patriot Guard Riders
X-ORIGINAL-URL:https://www.patriotguard.org
X-WR-CALDESC:Events for Patriot Guard Riders
BEGIN:VTIMEZONE
TZID:America/New_York
BEGIN:DAYLIGHT
TZOFFSETFROM:-0500
TZOFFSETTO:-0400
TZNAME:EDT
DTSTART:20170312T070000
END:DAYLIGHT
BEGIN:STANDARD
TZOFFSETFROM:-0400
TZOFFSETTO:-0500
TZNAME:EST
DTSTART:20171105T060000
END:STANDARD
END:VTIMEZONE
BEGIN:VEVENT
DTSTART;TZID=America/New_York:20171103T062000
DTEND;TZID=America/New_York:20171103T082000
DTSTAMP:20210406T024726
CREATED:20171103T102000Z
LAST-MODIFIED:20191201T040956Z
UID:355975-1509690000-1509697200@www.patriotguard.org
SUMMARY:State Mission Request for 03 Nov 2017 from Alabama - HOTH Mission – Veteran’s Day Program
DESCRIPTION:Submitted by: \n\nMember Name: Richard Ullo\nPosition: Ride Captain\nCity\, State: Spanish Fort\, Alabama\nUser Name: rrullo\nEmail: rrullo2@bellsouth.net\n\nEmail Subject Line Setup\n[HR][/HR]Prefix to Use – HOTH\nSubject Line –  HOTH Mission – Veteran’s Day Program \, Active Duty\, Retired\, KIA\, POW/MIA\, PGR\, Veteran\, USA\, USN\, USMC\, USCG\, USAF \, ANG\, ARNG\, USAR\, USAFR\, USCGR\, USMCR\, USNR \, ANC\, WAAC\, WAC\, USNNC\, SPAR\, WASP\, WAVES\, USCNC\, USMCWR – WWII\, Korea\, Vietnam\, GW/ODS\, WoT\, Lebanon/Grenada\, Panama\,  Stapleton\, Alabama  – 03 Nov 2017\n[HR][/HR] \n\n\nMod Instructions: \n\nPlease post to Alabama\n\n++++++++ Copy the Information above this line++++++++++ \n\nHOTH Mission\n*** DO NOT REPLY ***  \nHOTH Mission – Veteran’s Day Program\, Active Duty\, Retired\, KIA\, POW/MIA\, PGR\, Veteran\nUSA\, USN\, USMC\, USCG\, USAF ANG\, ARNG\, USAR\, USAFR\, USCGR\, USMCR\, USNR ANC\, WAAC\, WAC\, USNNC\, SPAR\, WASP\, WAVES\, USCNC\, USMCWR  – WWII\, Korea\, Vietnam\, GW/ODS\, WoT\, Lebanon/Grenada\, Panama\nStapleton\, Alabama – 03 Nov 2017\n\n\n[HR][/HR]\nABOUT THE MISSION: \n\nWe have been invited to attend the Annual Veteran’s Day Program at Spanish Fort Middle School. Please come to support our local veterans and teach our young people the importance of doing the same. We will begin by escorting Veterans from the WF Green Veterans Home in Bay Minette\, AL to Spanish Fort Middle School at 33899 Jimmy Faulkner\, Dr.\, Spanish Fort\, AL. We will stand a flag line for part of the program. All veterans in attendance will be honored. We will not be escorting the Veterans Home bus back to Bay Minette. \nAdditional information: This program is being coordinated by one of our own PGR’s children\, Jennifer McCrary (Tom Maynard’s daughter). The school has spent the week teaching the children about veterans which has included showing them a video about the History of the PGR\, as well as a writing contest to be judged by the local American Legion. We would love to have great attendance for this program.\n \n\nPRIMARY STAGING DETAILS:  03 Nov 2017\nPrimary Staging Time: 0720 A.M. \n\nTom Thumb\, US 31 at AL 59\nStapleton\, Alabama – 36578\n\n\nRide Captain: \n\nEd “Juju” Lessard\, (251) 978-6215\, chromedome43@hotmail.com\n\n\nSpecial Instructions: \n\n\n\nFlags & Water: \n\nFlags Will Be Provided\nIf you have large bike flags\, please bring them.\nWater WILL NOT be provided\, please bring your own.\n\n[HR][/HR]STAGING #2 DETAILS: 03 Nov\, 2017\nStaging #2 Time: 0800 A.M. \n\nWF Green Veterans Home\n300 Faulkner Dr\,\nBay Minette\, Alabama – 36507\n\n\nRide Captain: \n\nEd “Juju” Lessard\, (251) 978-6215\, chromedome43@hotmail.com\n\n\nSpecial Instructions: \n\nKSU 8:15\nN. Mobile Riders may stage here first\nThere will be a LEO escort from this location\n\n\nFlags & Water: \n\nFlags Will Be Provided\nLarge Bike Flags will be needed\nWater WILL NOT be provided\, please bring your own.\n\n\nSubmitted By: Richard Ullo\nPosition: Ride Captain\n[HR][/HR]Note:\nYou do not have to own/ride a motorcycle or be a Veteran to join and membership is Free. The only requirement is RESPECT! To join\, simply go to www.PatriotGuard.org and click on Register. Membership is Free. \nTo subscribe to receive mission notices\, log into the National Site and click on the Mission Tab at the top. Select the Subscribe to Missions option.
URL:https://www.patriotguard.org/mission/state-mission-request-for-03-nov-2017-from-alabama-hoth-mission-veterans-day-program/
CATEGORIES:Archive
END:VEVENT
END:VCALENDAR