BEGIN:VCALENDAR
VERSION:2.0
PRODID:-//Patriot Guard Riders - ECPv5.3.2.1//NONSGML v1.0//EN
CALSCALE:GREGORIAN
METHOD:PUBLISH
X-WR-CALNAME:Patriot Guard Riders
X-ORIGINAL-URL:https://www.patriotguard.org
X-WR-CALDESC:Events for Patriot Guard Riders
BEGIN:VTIMEZONE
TZID:America/New_York
BEGIN:DAYLIGHT
TZOFFSETFROM:-0500
TZOFFSETTO:-0400
TZNAME:EDT
DTSTART:20170312T070000
END:DAYLIGHT
BEGIN:STANDARD
TZOFFSETFROM:-0400
TZOFFSETTO:-0500
TZNAME:EST
DTSTART:20171105T060000
END:STANDARD
END:VTIMEZONE
BEGIN:VEVENT
DTSTART;TZID=America/New_York:20170303T154500
DTEND;TZID=America/New_York:20170303T174500
DTSTAMP:20210403T050839
CREATED:20170303T204500Z
LAST-MODIFIED:20191201T044042Z
UID:371461-1488555900-1488563100@www.patriotguard.org
SUMMARY:State Mission Request for 03 Mar 2017 from Texas - Alexander Manukyan
DESCRIPTION:Submitted by:\nMember Name:   Dan Mathys\nPosition:   Ride Captain\nCity\, State:   Arlington\, Texas\nUser Name:   dpmath\nEmail:   pgrdan1@gmail.com\n \nEmail Subject Line Setup\n\nPrefix to Use – Honor\nSubject Line – SHORT NOTICE –  Alexander Manukyan \, Veteran\, USMC – WoT\,  Dallas\, Texas  – 03 Mar 2017\n\n\nSHORT NOTICE!\n\n\n\n\n\n \n\nMod Instructions:\n\n\n++++++++ Copy the Information above this line++++++++++\n\n \nHonor Mission\n\n*** DO NOT REPLY *** \nThis is an automated message sent to you because you have subscribed to this State’s Mission thread. For current details on this mission\, please follow the link below. \nAlexander Manukyan\, Veteran \nUSMC  – WoT\nDallas\, Texas – 03 Mar 2017\n \n\n\nABOUT THE MISSION:\nVisitation\, Procession\, Interment Service \nThe family of Mr. Alexander Manukyan has asked the Patriot Guard Riders to honor his memory and service to our Country by standing a Flag Line at his visitation\, ride with him one last time and standing again at his interment service\n\nPRIMARY STAGING DETAILS:  03 Mar 2017\n\nPrimary Staging Time:  1245 P.M.\nJeeter and Son Funeral Home\n4830 West Illinois Ave.\nDallas\, Texas – 75211\n  \n\nRide Captain:\nWendy Ingersoll\ncalifbabe55@yahoo.com\n(817) 991-9021\n\nSpecial Instructions:\nDue to a very early family viewing\, the flags will be set up\, but the Flag Line will not form until two hours later. After the Mission Brief\, the Riders will take the Flag Line until the end of the public visitation. \nProcession Information:\nLEO Escort Provided\nCages Are Allowed in Procession \nWhen directed\, the Riders will return the flags to the support vehicle\, receive the Safety Briefing and prepare to ride in the procession. Riders not participating in the procession will proceed to the cemetery and assist in setting up flags there.\n\nFlags & Water:\nFlags Will Be Provided\nIf you have large bike flags\, please bring them.\nWater will be provided. \n\nSTAGING #2 DETAILS:  03 Mar\, 2017\n\n Staging #2 Time:  1330 P.M.\nDallas-Fort Worth National Cemetery\n2000 Mountain Creek Parkway\nDallas\, Texas – 75211\n  \n\nRide Captain:\nRick Crabb\nrandjcrabb@juno.com\n(910) 330-9861\n\nSpecial Instructions:\nAfter the Mission Brief\, four designated honor bikes will stage in the designated lane and escort the procession to the committal shelter. The remainder of the Riders will proceed to the committal shelter\, establish the Flag Line and prepare to receive the family and friends of Mr. Manukyan. When directed the Riders will return the flags to storage\, be debriefed and dismissed. \nRiders who attend the Hudgins Mission will have plenty of time to participate in the Manukyan procession\, should they desire to do both Missions\n\nFlags & Water:\nFlags Will Be Provided\nLarge Bike Flags will NOT be needed\nWater will be provided. \nSubmitted By:  Dan Mathys\nPosition:  Ride Captain \n\nNote:\nYou do not have to own/ride a motorcycle or be a Veteran to join and membership is Free. The only requirement is RESPECT! To join\, simply go to Patriot Guard website and click on Register. Membership is Free. \nTo subscribe to receive mission notices\, log into the National Site and click on the Mission Tab at the top. Select Upcoming Missions by State. Scroll to the state(s) you would like to receive notices for and click on the green check mark. Detailed instructions are also located in the FAQs on the site by clicking on the Quick Links Tab and selecting FAQs.
URL:https://www.patriotguard.org/mission/state-mission-request-for-03-mar-2017-from-texas-alexander-manukyan/
CATEGORIES:Archive
END:VEVENT
END:VCALENDAR