BEGIN:VCALENDAR
VERSION:2.0
PRODID:-//Patriot Guard Riders - ECPv5.3.2.1//NONSGML v1.0//EN
CALSCALE:GREGORIAN
METHOD:PUBLISH
X-WR-CALNAME:Patriot Guard Riders
X-ORIGINAL-URL:https://www.patriotguard.org
X-WR-CALDESC:Events for Patriot Guard Riders
BEGIN:VTIMEZONE
TZID:America/New_York
BEGIN:DAYLIGHT
TZOFFSETFROM:-0500
TZOFFSETTO:-0400
TZNAME:EDT
DTSTART:20170312T070000
END:DAYLIGHT
BEGIN:STANDARD
TZOFFSETFROM:-0400
TZOFFSETTO:-0500
TZNAME:EST
DTSTART:20171105T060000
END:STANDARD
END:VTIMEZONE
BEGIN:VEVENT
DTSTART;TZID=America/New_York:20170303T151500
DTEND;TZID=America/New_York:20170303T171500
DTSTAMP:20210404T134315
CREATED:20170303T201500Z
LAST-MODIFIED:20191201T044024Z
UID:371304-1488554100-1488561300@www.patriotguard.org
SUMMARY:State Mission Request for 03 Mar 2017 from Missouri - Fay M. Farnsworth
DESCRIPTION:Submitted by:\nMember Name:   Richard Maxwell\nPosition:   Ride Captain\nCity\, State:   Knob Noster\, Missouri\nUser Name:   rmax55\nEmail:   rmax55@att.net\n \nEmail Subject Line Setup\n\nPrefix to Use – Memorial\nSubject Line – SHORT NOTICE –  Fay M. Farnsworth \, Retired\, USA – WWII\,  Holden\, Missouri  – 03 Mar 2017\n\n\nSHORT NOTICE!\nSTATEWIDE REQUIRED!\n\n\n\n\n \n\nMod Instructions:\n\n\n++++++++ Copy the Information above this line++++++++++\n\n \nMemorial Mission\n\n*** DO NOT REPLY *** \nThis is an automated message sent to you because you have subscribed to this State’s Mission thread. For current details on this mission\, please follow the link below. \nFay M. Farnsworth\, Retired \nUSA  – WWII\nHolden\, Missouri – 03 Mar 2017\n \n\n\nABOUT THE MISSION:\nFay served in the United States Army during World War II where he received the Purple Heart Medal with 4 Stars\n\nPRIMARY STAGING DETAILS:  03 Mar 2017\n\nPrimary Staging Time:  1215 P.M.\nFirst Christian Church\n301 South Main Street\nHolden\, Missouri – 6040\n  \n\nRide Captain:\nRichard A. Maxwell\nrmax55@att.net\n660-909-4888\n\nSpecial Instructions:\nEscort will be about 10 miles and 4 of which will be on gravel.  (Your might want to bring your own Kick Stand Plates)  Weather high is 68 with winds gusting up to 19 MPH\n\nFlags & Water:\nFlags Will Be Provided\nIf you have large bike flags\, please bring them.\nWater will be provided. \n\nSTAGING #2 DETAILS:  03 Mar\, 2017\n\n Staging #2 Time:  1230 P.M.\nRide Briefing \nFirst Christian Church\n301 South Main Street\nHolden\, Missouri – 64040\n  \n\nRide Captain:\nRichard Maxwell\nrmax55@att.net\n660-909-4888\n\nSpecial Instructions:\n\n\nFlags & Water:\nFlags Will Be Provided\nLarge Bike Flags will be needed\nWater will be provided. \nSubmitted By:  Richard Maxwell\nPosition:  Ride Captain \n\nNote:\nYou do not have to own/ride a motorcycle or be a Veteran to join and membership is Free. The only requirement is RESPECT! To join\, simply go to Patriot Guard website and click on Register. Membership is Free. \nTo subscribe to receive mission notices\, log into the National Site and click on the Mission Tab at the top. Select Upcoming Missions by State. Scroll to the state(s) you would like to receive notices for and click on the green check mark. Detailed instructions are also located in the FAQs on the site by clicking on the Quick Links Tab and selecting FAQs.
URL:https://www.patriotguard.org/mission/state-mission-request-for-03-mar-2017-from-missouri-fay-m-farnsworth/
CATEGORIES:Archive
END:VEVENT
END:VCALENDAR