BEGIN:VCALENDAR
VERSION:2.0
PRODID:-//Patriot Guard Riders - ECPv5.3.2.1//NONSGML v1.0//EN
CALSCALE:GREGORIAN
METHOD:PUBLISH
X-WR-CALNAME:Patriot Guard Riders
X-ORIGINAL-URL:https://www.patriotguard.org
X-WR-CALDESC:Events for Patriot Guard Riders
BEGIN:VTIMEZONE
TZID:America/New_York
BEGIN:DAYLIGHT
TZOFFSETFROM:-0500
TZOFFSETTO:-0400
TZNAME:EDT
DTSTART:20170312T070000
END:DAYLIGHT
BEGIN:STANDARD
TZOFFSETFROM:-0400
TZOFFSETTO:-0500
TZNAME:EST
DTSTART:20171105T060000
END:STANDARD
END:VTIMEZONE
BEGIN:VEVENT
DTSTART;TZID=America/New_York:20170603T150000
DTEND;TZID=America/New_York:20170603T170000
DTSTAMP:20210402T040808
CREATED:20170603T190000Z
LAST-MODIFIED:20191201T042817Z
UID:365385-1496502000-1496509200@www.patriotguard.org
SUMMARY:State Mission Request for 03 Jun 2017 from West Virginia - Lt. Aaron Crook
DESCRIPTION:Submitted by:\nMember Name:   Joe Cumblidge\nPosition:   State Captain\nCity\, State:   Parkersburg\, West Virginia\nUser Name:   ultraclassic\nEmail:   wvugo2001@suddenlink.net\n \nEmail Subject Line Setup\n\nPrefix to Use – Honor\nSubject Line – SHORT NOTICE –  Lt. Aaron Crook \, Veteran\, USMC \, LEO  –  MULTI-CITY\, West Virginia  – 03 Jun 2017\n\n\nSHORT NOTICE!\n\nMULTI-CITY! See Mod Instructions for Details\n\n\n\n \n\nMod Instructions:\nPost in WV and VA\n\n++++++++ Copy the Information above this line++++++++++\n\n \nHonor Mission\n\n*** DO NOT REPLY *** \nThis is an automated message sent to you because you have subscribed to this State’s Mission thread. For current details on this mission\, please follow the link below. \nLt. Aaron Crook\, Veteran \nUSMC LEO \nMULTI-CITY\, West Virginia – 03 Jun 2017\n \n\n\nABOUT THE MISSION:\nThe Patriot Guard Riders have been requested to provide escort and stand in silent Honor and Respect for Lt. Aaron Crook\, Bluefield\,\, WV LEO and USMC Veteran for his final services and interment on Saturday\, 03 Jun 17.  Lt Crook was tragically killed while in the performance of his duties on Tuesday\, 30 May. He is a 9 year Veteran of the Bluefield PD.\n\nPRIMARY STAGING DETAILS:  03 Jun 2017\n\nPrimary Staging Time:  1200 P.M.\nBrush Fork Armory\n2915 Old Bramwell Rd\nBluefield\, West Virginia – 24701\nhttp://tinyurl.com/y8uldlzg  \n\nRide Captain:\nRide Captain assignment is currently pending.\n\nSpecial Instructions:\nMission briefing: 1215\nKSU: At the conclusion of services\, approximately 1230. \nAt the conclusion of services\, we will be providing escort to the cemetery located in Hinton\, WV.  This is a distance of approximately 45 miles so please ensure you have plenty of fuel. \nUpon arrival\, we will establish and maintain a flag line until the conclusion of graveside services. \nIf your bike is capable of flying large flags\, please ensure they are securely mounted.  Escort will be on secondary roads. \nElements of the WV State Police will be providing escort to the cemetery. \nWeather forecast for Saturday is for temperatures in the low 80’s with 100% chance of sunshine.  Please dress and travel accordingly. \nIf at all possible\, won’t you join with us as we say “Thank You” and “God Speed” to one who gave so much of his life in not only serving his Country but to his community as well.\n\nFlags & Water:\nFlags Will NOT Be Provided\, Please Bring Your Own.\nIf you have large bike flags\, please bring them.\nWater WILL NOT be provided\, please bring your own. \nSubmitted By:  Joe Cumblidge\nPosition:  State Captain \n\nNote:\nYou do not have to own/ride a motorcycle or be a Veteran to join and membership is Free. The only requirement is RESPECT! To join\, simply go to www.PatriotGuard.org and click on Register. Membership is Free. \nTo subscribe to receive mission notices\, log into the National Site and click on the Mission Tab at the top. Select Upcoming Missions by State. Scroll to the state(s) you would like to receive notices for and click on the green check mark. Detailed instructions are also located in the FAQs on the site by clicking on the Quick Links Tab and selecting FAQs.
URL:https://www.patriotguard.org/mission/state-mission-request-for-03-jun-2017-from-west-virginia-lt-aaron-crook/
LOCATION:Shane Edward Gledhill
CATEGORIES:Archive
END:VEVENT
END:VCALENDAR