BEGIN:VCALENDAR
VERSION:2.0
PRODID:-//Patriot Guard Riders - ECPv5.3.2.1//NONSGML v1.0//EN
CALSCALE:GREGORIAN
METHOD:PUBLISH
X-WR-CALNAME:Patriot Guard Riders
X-ORIGINAL-URL:https://www.patriotguard.org
X-WR-CALDESC:Events for Patriot Guard Riders
BEGIN:VTIMEZONE
TZID:America/New_York
BEGIN:DAYLIGHT
TZOFFSETFROM:-0500
TZOFFSETTO:-0400
TZNAME:EDT
DTSTART:20170312T070000
END:DAYLIGHT
BEGIN:STANDARD
TZOFFSETFROM:-0400
TZOFFSETTO:-0500
TZNAME:EST
DTSTART:20171105T060000
END:STANDARD
END:VTIMEZONE
BEGIN:VEVENT
DTSTART;TZID=America/New_York:20170203T101000
DTEND;TZID=America/New_York:20170203T121000
DTSTAMP:20210405T223108
CREATED:20170203T151000Z
LAST-MODIFIED:20191201T044400Z
UID:373162-1486116600-1486123800@www.patriotguard.org
SUMMARY:State Mission Request for 03 Feb 2017 from Oregon - Carl S. Titus
DESCRIPTION:Submitted by:\nMember Name:   Chris Keller\nPosition:   Assistant State Captain\nCity\, State:   Milwaukie\, Oregon\nUser Name:   Bikinbabe\nEmail:   bikinbabe@gmail.com\n \nEmail Subject Line Setup\n\nPrefix to Use – Honor\nSubject Line –   Carl S. Titus \, Veteran\, USA \, ARNG – WoT\,  Roseburg\, Oregon  – 03 Feb 2017\n\n\n\nSTATEWIDE REQUIRED!\n\n\n\n\n \n\nMod Instructions:\n\n\n++++++++ Copy the Information above this line++++++++++\n\n \nHonor Mission\n\n*** DO NOT REPLY *** \nThis is an automated message sent to you because you have subscribed to this State’s Mission thread. For current details on this mission\, please follow the link below. \nCarl S. Titus\, Veteran \nUSA ARNG  – WoT\nRoseburg\, Oregon – 03 Feb 2017\n \n\n\nABOUT THE MISSION:\nLadies and Gentlemen of the Patriot Guard Riders\, we have been requested to stand for Army/NG Veteran SPC Carl S. Titus\, 28.  He served in the GWOT\, and continued with the Army National Guard.  Please join us Friday as we help support his family\, pay our respects\, and honor his service to our nation.\n\nPRIMARY STAGING DETAILS:  03 Feb 2017\n\nPrimary Staging Time:  10:10 A.M.\nRoseburg National Cemetery Annex — South Entrance of the VAHCS off West Harvard\, Roseburg Oregon\nRoseburg\, Oregon –\n  \n\nRide Captain:\nSparky/Terry Mooney – linda.mooney@earthlink.net\n\nSpecial Instructions:\nBriefing: 10:15 am \nFlag line Set: 10:30 am \nService Begins:  11:00 am\n\nFlags & Water:\nFlags Will Be Provided\nIf you have large bike flags\, please bring them.\nWater WILL NOT be provided\, please bring your own. \nSubmitted By:  Chris Keller\nPosition:  Assistant State Captain \n\nNote:\nYou do not have to own/ride a motorcycle or be a Veteran to join and membership is Free. The only requirement is RESPECT! To join\, simply go to Patriot Guard website and click on Register. Membership is Free. \nTo subscribe to receive mission notices\, log into the National Site and click on the Mission Tab at the top. Select Upcoming Missions by State. Scroll to the state(s) you would like to receive notices for and click on the green check mark. Detailed instructions are also located in the FAQs on the site by clicking on the Quick Links Tab and selecting FAQs.
URL:https://www.patriotguard.org/mission/state-mission-request-for-03-feb-2017-from-oregon-carl-s-titus/
CATEGORIES:Archive
END:VEVENT
END:VCALENDAR