BEGIN:VCALENDAR
VERSION:2.0
PRODID:-//Patriot Guard Riders - ECPv5.3.2.1//NONSGML v1.0//EN
CALSCALE:GREGORIAN
METHOD:PUBLISH
X-WR-CALNAME:Patriot Guard Riders
X-ORIGINAL-URL:https://www.patriotguard.org
X-WR-CALDESC:Events for Patriot Guard Riders
BEGIN:VTIMEZONE
TZID:America/New_York
BEGIN:DAYLIGHT
TZOFFSETFROM:-0500
TZOFFSETTO:-0400
TZNAME:EDT
DTSTART:20170312T070000
END:DAYLIGHT
BEGIN:STANDARD
TZOFFSETFROM:-0400
TZOFFSETTO:-0500
TZNAME:EST
DTSTART:20171105T060000
END:STANDARD
END:VTIMEZONE
BEGIN:VEVENT
DTSTART;TZID=America/New_York:20170203T100000
DTEND;TZID=America/New_York:20170203T120000
DTSTAMP:20210404T133210
CREATED:20170203T150000Z
LAST-MODIFIED:20191201T044417Z
UID:373312-1486116000-1486123200@www.patriotguard.org
SUMMARY:State Mission Request for 03 Feb 2017 from Iowa - Joseph Colacecchi Jr\, 62
DESCRIPTION:Submitted by:\nMember Name:   Steve Cox\nPosition:   State Captain\nCity\, State:   Ankeny\, Iowa\nUser Name:   52sdc\nEmail:   sdc4098@yahoo.com\n \nEmail Subject Line Setup\n\nPrefix to Use – Honor\nSubject Line –   Joseph Colacecchi Jr\, 62 \, Veteran\, USAF  –  MULTI-CITY\, Iowa  – 03 Feb 2017\n\n\n\n\nMULTI-CITY! See Mod Instructions for Details\n\n\n\n \n\nMod Instructions:\n\n\n++++++++ Copy the Information above this line++++++++++\n\n \nHonor Mission\n\n*** DO NOT REPLY *** \nThis is an automated message sent to you because you have subscribed to this State’s Mission thread. For current details on this mission\, please follow the link below. \nJoseph Colacecchi Jr\, 62\, Veteran \nUSAF \nMULTI-CITY\, Iowa – 03 Feb 2017\n \n\n\nABOUT THE MISSION:\nThe family of veteran Joseph Colacecchi has asked the Patriot Guard to stand in honor of his service to our great country. He served in the US Air Force.\n\nPRIMARY STAGING DETAILS:  03 Feb 2017\n\nPrimary Staging Time:  10:00 A.M.\nCaldwell Parrish Funeral Home\n8201 Hickman\nUrbandale\, Iowa – 50322\n  \n\nRide Captain:\nBob Lohrman\nrclohrmanjr@gmail.com\n515-491-0817\n\nSpecial Instructions:\nBriefing at 10:20 AM.\nFlag line at 10:30 AM.\nService at 11:30 AM.\n\nFlags & Water:\nFlags Will Be Provided\nLarge Bike Flags will NOT be needed.\nWater WILL NOT be provided\, please bring your own. \n\nSTAGING #2 DETAILS:  03 Feb\, 2017\n\n Staging #2 Time:  12:00 P.M.\nCaldwell Parrish Funeral Home\n8201 Hickman\nUrbandale\, Iowa – 50322\n  \n\nRide Captain:\nBob Lohrman\nrclohrmanjr@gmail.com\n515-491-0817\n\nSpecial Instructions:\nStaging time determined by length of funeral service (expected to be short). Escort to Iowa Veterans Cemetery in Van Meter leaves immediately after funeral – 12:30 PM appointment.\n\nFlags & Water:\nFlags Will Be Provided\nLarge Bike Flags will NOT be needed\nWater WILL NOT be provided\, please bring your own. \nSubmitted By:  Steve Cox\nPosition:  State Captain \n\nNote:\nYou do not have to own/ride a motorcycle or be a Veteran to join and membership is Free. The only requirement is RESPECT! To join\, simply go to Patriot Guard website and click on Register. Membership is Free. \nTo subscribe to receive mission notices\, log into the National Site and click on the Mission Tab at the top. Select Upcoming Missions by State. Scroll to the state(s) you would like to receive notices for and click on the green check mark. Detailed instructions are also located in the FAQs on the site by clicking on the Quick Links Tab and selecting FAQs.
URL:https://www.patriotguard.org/mission/state-mission-request-for-03-feb-2017-from-iowa-joseph-colacecchi-jr-62/
LOCATION:Robert “V” Harvey
CATEGORIES:Archive
END:VEVENT
END:VCALENDAR