BEGIN:VCALENDAR
VERSION:2.0
PRODID:-//Patriot Guard Riders - ECPv5.3.2.1//NONSGML v1.0//EN
CALSCALE:GREGORIAN
METHOD:PUBLISH
X-WR-CALNAME:Patriot Guard Riders
X-ORIGINAL-URL:https://www.patriotguard.org
X-WR-CALDESC:Events for Patriot Guard Riders
BEGIN:VTIMEZONE
TZID:America/New_York
BEGIN:DAYLIGHT
TZOFFSETFROM:-0500
TZOFFSETTO:-0400
TZNAME:EDT
DTSTART:20170312T070000
END:DAYLIGHT
BEGIN:STANDARD
TZOFFSETFROM:-0400
TZOFFSETTO:-0500
TZNAME:EST
DTSTART:20171105T060000
END:STANDARD
END:VTIMEZONE
BEGIN:VEVENT
DTSTART;TZID=America/New_York:20171002T093000
DTEND;TZID=America/New_York:20171002T113000
DTSTAMP:20210404T114423
CREATED:20171002T133000Z
LAST-MODIFIED:20191201T041350Z
UID:358006-1506936600-1506943800@www.patriotguard.org
SUMMARY:State Mission Request for 02 Oct 2017 from Illinois - George Smith
DESCRIPTION:Submitted by: \n\nMember Name: Bridget Krupa\nPosition: Ride Captain\nCity\, State: Oak Lawn\, Illinois\nUser Name: Krupab1\nEmail: Bridget.krupa@gmail.com\n\nEmail Subject Line Setup\n[HR][/HR]Prefix to Use – Honor\nSubject Line –  George Smith \, Veteran\, USA  –  MULTI-CITY\, MULTI-STATE  – 02 Oct 2017\n[HR][/HR] \n\nMULTI-CITY! See Mod Instructions for Details\nMULTI-STATE! See Mod Instructions for Details\n\nMod Instructions: \n\nAt the conclusion of the service we will escort family and friends to Jefferson Barracks National Cemetery for George’s interment.* Appointment is 12:30pm.\n\n++++++++ Copy the Information above this line++++++++++ \n\nHonor Mission\n*** DO NOT REPLY ***  \nGeorge Smith\, Veteran\nUSA\nMULTI-CITY\, MULTI-STATE – 02 Oct 2017\n\n\n[HR][/HR]\nABOUT THE MISSION: \n\nThe family of George Smith has requested that the Patriot Guard provide an escort to the final resting place of their loved one in honor of his service to this Great Nation.* Georges served with the US Army from 1958-’62 and attained the rank of Sgt (E-5).* He was stationed in Germany and Ft Hood\, TX during his active duty before his honorable discharge.* George will be laid to rest in the hallowed grounds of Jefferson Barracks National Cemetery.* We thank you for your faithful service to our country\, George.\n\n\nPRIMARY STAGING DETAILS:  02 Oct 2017\nPrimary Staging Time: 9:30 A.M. \n\nMarks Mortuary\n633 E Lorene Ave\nWood River\, Illinois –\nhttps://www.google.com/maps/place/633+E+Lorena+Ave\,+Wood+River\,+IL+62095/@38.8616865\,-90.0885815\,17z\n\n\nRide Captain: \n\nRC* Joe Biro (618-558-6911)\nRC* Dave Kirkwood\n****** (flags & water support)\n\n\nSpecial Instructions: \n\n\n\nFlags & Water: \n\nFlags Will Be Provided\nIf you have large bike flags\, please bring them.\nWater will be provided.\n\nSubmitted By: Bridget Krupa\nPosition: Ride Captain\n[HR][/HR]Note:\nYou do not have to own/ride a motorcycle or be a Veteran to join and membership is Free. The only requirement is RESPECT! To join\, simply go to www.PatriotGuard.org and click on Register. Membership is Free. \nTo subscribe to receive mission notices\, log into the National Site and click on the Mission Tab at the top. Select the Subscribe to Missions option.
URL:https://www.patriotguard.org/mission/state-mission-request-for-02-oct-2017-from-illinois-george-smith/
CATEGORIES:Archive
END:VEVENT
END:VCALENDAR