BEGIN:VCALENDAR
VERSION:2.0
PRODID:-//Patriot Guard Riders - ECPv5.3.2.1//NONSGML v1.0//EN
CALSCALE:GREGORIAN
METHOD:PUBLISH
X-WR-CALNAME:Patriot Guard Riders
X-ORIGINAL-URL:https://www.patriotguard.org
X-WR-CALDESC:Events for Patriot Guard Riders
BEGIN:VTIMEZONE
TZID:America/New_York
BEGIN:DAYLIGHT
TZOFFSETFROM:-0500
TZOFFSETTO:-0400
TZNAME:EDT
DTSTART:20170312T070000
END:DAYLIGHT
BEGIN:STANDARD
TZOFFSETFROM:-0400
TZOFFSETTO:-0500
TZNAME:EST
DTSTART:20171105T060000
END:STANDARD
END:VTIMEZONE
BEGIN:VEVENT
DTSTART;TZID=America/New_York:20171102T084500
DTEND;TZID=America/New_York:20171102T104500
DTSTAMP:20210401T185435
CREATED:20171102T124500Z
LAST-MODIFIED:20191201T040937Z
UID:355838-1509612300-1509619500@www.patriotguard.org
SUMMARY:State Mission Request for 02 Nov 2017 from Texas - JERRY D BOBBITT
DESCRIPTION:Submitted by: \n\nMember Name: Ted Waldron\nPosition: Ride Captain\nCity\, State: Glen Rose\, Texas\nUser Name: Ted43\nEmail: ted43@flash.net\n\nEmail Subject Line Setup\n[HR][/HR]Prefix to Use – Honor\nSubject Line – SHORT NOTICE –  JERRY D BOBBITT \, Veteran\, USA – Vietnam\,  Dallas\, Texas  – 02 Nov 2017\n[HR][/HR] \n\nSHORT NOTICE!\n\nMod Instructions: \n\n\n++++++++ Copy the Information above this line++++++++++ \n\nHonor Mission\n*** DO NOT REPLY ***  \nJERRY D BOBBITT\, Veteran\nUSA  – Vietnam\nDallas\, Texas – 02 Nov 2017\n\n\n[HR][/HR]\nABOUT THE MISSION: \n\nEntered the Army at 17 and served 9 years\, 5 months\, 14 days with the 49th Armored Division. \nThe family of SP5 Bobbitt has asked the Patriot Guard to stand a flag line at his inurnment service at DFW National Cemetery.\n \n\nPRIMARY STAGING DETAILS:  02 Nov 2017\nPrimary Staging Time: 0945 A.M. \n\nDallas-Fort Worth National Cemetery\n2000 Mountain Creek Parkway\nDallas\, Texas – 75211\nhttps://goo.gl/maps/94Rky7spSoz\n\n\nRide Captain: \n\nKen Hammock\nKen2003HDRK@gmail.com\n918-289-4749\n\n\nSpecial Instructions: \n\nThe PGR will stage at the Information Center at DFW National Cemetery. After the briefing\, Honor Bikes will be selected. Remaining riders will proceed to the assigned Committal Shelter\, set the flags and await the arrival of the procession. Riders will stand tall and silent during the inurnment service. After the service\, the flags will be returned to the storage locker and riders will be debriefed and dismissed.\n\n\nFlags & Water: \n\nFlags Will Be Provided\nIf you have large bike flags\, please bring them.\nWater will be provided.\n\nSubmitted By: Ted Waldron\nPosition: Ride Captain\n[HR][/HR]Note:\nYou do not have to own/ride a motorcycle or be a Veteran to join and membership is Free. The only requirement is RESPECT! To join\, simply go to www.PatriotGuard.org and click on Register. Membership is Free. \nTo subscribe to receive mission notices\, log into the National Site and click on the Mission Tab at the top. Select the Subscribe to Missions option.
URL:https://www.patriotguard.org/mission/state-mission-request-for-02-nov-2017-from-texas-jerry-d-bobbitt/
CATEGORIES:Archive
END:VEVENT
END:VCALENDAR