BEGIN:VCALENDAR
VERSION:2.0
PRODID:-//Patriot Guard Riders - ECPv5.3.2.1//NONSGML v1.0//EN
CALSCALE:GREGORIAN
METHOD:PUBLISH
X-WR-CALNAME:Patriot Guard Riders
X-ORIGINAL-URL:https://www.patriotguard.org
X-WR-CALDESC:Events for Patriot Guard Riders
BEGIN:VTIMEZONE
TZID:America/New_York
BEGIN:DAYLIGHT
TZOFFSETFROM:-0500
TZOFFSETTO:-0400
TZNAME:EDT
DTSTART:20170312T070000
END:DAYLIGHT
BEGIN:STANDARD
TZOFFSETFROM:-0400
TZOFFSETTO:-0500
TZNAME:EST
DTSTART:20171105T060000
END:STANDARD
END:VTIMEZONE
BEGIN:VEVENT
DTSTART;TZID=America/New_York:20171102T091500
DTEND;TZID=America/New_York:20171102T111500
DTSTAMP:20210406T023554
CREATED:20171102T131500Z
LAST-MODIFIED:20191201T041006Z
UID:356065-1509614100-1509621300@www.patriotguard.org
SUMMARY:State Mission Request for 02 Nov 2017 from New York - Ellen E. McKnight
DESCRIPTION:Submitted by: \n\nMember Name: Ray Sestak\nPosition: Ride Captain\nCity\, State: Glenmont\, New York\nUser Name: PGRNYMods\nEmail: pgrnymod@gmail.com\n\nEmail Subject Line Setup\n[HR][/HR]Prefix to Use – Honor\nSubject Line –  Ellen E. McKnight \, Veteran\, USA – WWII\,  Castleton-on-Hudson\, New York  – 02 Nov 2017\n[HR][/HR]Mod Instructions:++++++++ Copy the Information above this line++++++++++ \n\nHonor Mission\n*** DO NOT REPLY ***  \nEllen E. McKnight\, Veteran\nUSA  – WWII\nCastleton-on-Hudson\, New York – 02 Nov 2017\n\n\n[HR][/HR]\nABOUT THE MISSION: \n\nThe family of Ms. Ellen Elizabeth McKnight has requested Patriot Guard Rider participation in her funeral services. \nMs. McKnight\, 98\, passed away on Friday\, October 27\, 2017. Born in Castleton-on-Hudson\, she was a graduate of Castleton High School\, Class of 1937 and St. Luke’s Hospital School of Nursing in New York City\, graduating in 1940. \nMs. McKnight enlisted in the US Army Nurses Corps in 1943\, serving one year and 6 months overseas. She was Honorable discharged in August of 1950\, at the rank of 1st Lieutenant. For her service\, she was awarded the WWII Victory Medal\, American Defense Medal\, American Campaign Medal and WWII Lapel Button. \nAfter her military service\, Ms. McKnight worked as a registered nurse and retired as the school nurse at Maple Hill High School. She was a communicant of Trinity Luthern Church\, and member of the Castleton VFW Post 7337. \nThe Patriot Guard Riders are proud to have the opportunity to stand for and render dignity\, honor and respect for the life and service of Ms. Ellen E. McKnight\, “Greatest Generation” hero.\n \n\nPRIMARY STAGING DETAILS:  02 Nov 2017\nPrimary Staging Time: 09:15 A.M. \n\nRay Funeral Home\n59 Seaman Avenue\nCastleton-on-Hudson\, New York – 12033\nhttps://goo.gl/maps/1jFJirn89g82\n\n\nRide Captain: \n\nRay Sestak\nrayspgrny@gmail.com\n518-669-3358\n\n\nSpecial Instructions: \n\nStaging at the funeral home with flag line for the arrival of family and guests. Riders will escort to the church for memorial services with flag line during dignified transfer: \nTrinity Luthern Church\n68 Green Avenue\nCastleton-on-Hudson\, NY 12033\n\n\nFlags & Water: \n\nFlags Will NOT Be Provided\, Please Bring Your Own.\nIf you have large bike flags\, please bring them.\nWater WILL NOT be provided\, please bring your own.\n\nSubmitted By: Ray Sestak\nPosition: Ride Captain\n[HR][/HR]Note:\nYou do not have to own/ride a motorcycle or be a Veteran to join and membership is Free. The only requirement is RESPECT! To join\, simply go to www.PatriotGuard.org and click on Register. Membership is Free. \nTo subscribe to receive mission notices\, log into the National Site and click on the Mission Tab at the top. Select the Subscribe to Missions option.
URL:https://www.patriotguard.org/mission/state-mission-request-for-02-nov-2017-from-new-york-ellen-e-mcknight/
CATEGORIES:Archive
END:VEVENT
END:VCALENDAR