BEGIN:VCALENDAR
VERSION:2.0
PRODID:-//Patriot Guard Riders - ECPv5.3.2.1//NONSGML v1.0//EN
CALSCALE:GREGORIAN
METHOD:PUBLISH
X-WR-CALNAME:Patriot Guard Riders
X-ORIGINAL-URL:https://www.patriotguard.org
X-WR-CALDESC:Events for Patriot Guard Riders
BEGIN:VTIMEZONE
TZID:America/New_York
BEGIN:DAYLIGHT
TZOFFSETFROM:-0500
TZOFFSETTO:-0400
TZNAME:EDT
DTSTART:20170312T070000
END:DAYLIGHT
BEGIN:STANDARD
TZOFFSETFROM:-0400
TZOFFSETTO:-0500
TZNAME:EST
DTSTART:20171105T060000
END:STANDARD
END:VTIMEZONE
BEGIN:VEVENT
DTSTART;TZID=America/New_York:20171102T100000
DTEND;TZID=America/New_York:20171102T120000
DTSTAMP:20210404T120844
CREATED:20171102T140000Z
LAST-MODIFIED:20191201T041010Z
UID:356098-1509616800-1509624000@www.patriotguard.org
SUMMARY:State Mission Request for 02 Nov 2017 from Arizona - Daniel Drew
DESCRIPTION:Submitted by: \n\nMember Name: Bill Wooster\nPosition: Ride Captain\nCity\, State: Madison\, South Dakota\nUser Name: Bill3825\nEmail: pgrhoth@gmail.com\n\nEmail Subject Line Setup\n[HR][/HR]Prefix to Use – Honor\nSubject Line –  Daniel Drew\, USA\, Korea\, 2 November 2017 \, Veteran\, USA – Korea\,  Glendale\, Arizona  – 02 Nov 2017\n[HR][/HR] \n\n\nMod Instructions: \n\n\n++++++++ Copy the Information above this line++++++++++ \n\nHonor Mission\n*** DO NOT REPLY ***  \nDaniel Drew\, USA\, Korea\, 2 November 2017\, Veteran\nUSA  – Korea\nGlendale\, Arizona – 02 Nov 2017\n\n\n[HR][/HR]\nABOUT THE MISSION: \n\nThe Family of Daniel Elmer Drew has requested the Patriot Guard Riders escort him to his Military Honors and stand a flag line to honor his service to his Country.  With respect and dignity\, it shall be our honor to do so.\nBorn in Michigan\, Daniel Drew was married to his loving wife for over 50 years.  He served his Country proudly with a tour in Korea as a combat engineer\, attaining the rank of E5.  Discharged in 1965\, he was the recipient of numerous medals.\nDan was everyone’s best friend\, always being there for others to help in any way he could.  He was a long time employee of AT&T and Lucent.\n\n\nPRIMARY STAGING DETAILS:  02 Nov 2017\nPrimary Staging Time: 10:00 A.M. \n\nChapel of the Chimes\, 7924 N. 59th Ave.\nGlendale\, Arizona – 85301\n\n\nRide Captain: \n\nRide Captain:\nBill Wooster\npgrhoth@gmail.com\n480-747-7091 \nFlag Support TBD\n \n\nSpecial Instructions: \n\nBriefing at 10:15 a.m.  Flag line begins at approximately 10:35 a.m. at entrance\, prior to service.\nRoad Guards will escort procession with KSU at 12:00\, to National for 1:00 p.m. Military Honors.\nFamily has requested the Patriot Guard Riders to be Pallbearers\, and we shall be honored to do so.\n\n\nFlags & Water: \n\nFlags Will Be Provided\nIf you have large bike flags\, please bring them.\nWater will be provided.\n\n[HR][/HR]STAGING #2 DETAILS: 02 Nov\, 2017\nStaging #2 Time: 12:30 P.M. \n\nNational Memorial Cemetery of Arizona\n23029 N. Cave Creek Rd\nPhoenix\, Arizona – 85024\n\n\nRide Captain: \n\n\n\nSpecial Instructions: \n\nMeet with Flag Support at Visitors Center\, proceed to designated shelter at 12:45 to await arrival of procession for 1:00 p.m. Military Honors.\n\n\nFlags & Water: \n\nFlags Will Be Provided\nLarge Bike Flags will NOT be needed\nWater will be provided.\n\n\nSubmitted By: Bill Wooster\nPosition: Ride Captain\n[HR][/HR]Note:\nYou do not have to own/ride a motorcycle or be a Veteran to join and membership is Free. The only requirement is RESPECT! To join\, simply go to www.PatriotGuard.org and click on Register. Membership is Free. \nTo subscribe to receive mission notices\, log into the National Site and click on the Mission Tab at the top. Select the Subscribe to Missions option.
URL:https://www.patriotguard.org/mission/state-mission-request-for-02-nov-2017-from-arizona-daniel-drew/
CATEGORIES:Archive
END:VEVENT
END:VCALENDAR