BEGIN:VCALENDAR
VERSION:2.0
PRODID:-//Patriot Guard Riders - ECPv5.3.2.1//NONSGML v1.0//EN
CALSCALE:GREGORIAN
METHOD:PUBLISH
X-WR-CALNAME:Patriot Guard Riders
X-ORIGINAL-URL:https://www.patriotguard.org
X-WR-CALDESC:Events for Patriot Guard Riders
BEGIN:VTIMEZONE
TZID:America/New_York
BEGIN:DAYLIGHT
TZOFFSETFROM:-0500
TZOFFSETTO:-0400
TZNAME:EDT
DTSTART:20170312T070000
END:DAYLIGHT
BEGIN:STANDARD
TZOFFSETFROM:-0400
TZOFFSETTO:-0500
TZNAME:EST
DTSTART:20171105T060000
END:STANDARD
END:VTIMEZONE
BEGIN:VEVENT
DTSTART;TZID=America/New_York:20170302T123000
DTEND;TZID=America/New_York:20170302T143000
DTSTAMP:20210405T230046
CREATED:20170302T173000Z
LAST-MODIFIED:20191201T044046Z
UID:371495-1488457800-1488465000@www.patriotguard.org
SUMMARY:State Mission Request for 02 Mar 2017 from Washington - William A Rizzo
DESCRIPTION:Submitted by:\nMember Name:   Dennis Ochs\nPosition:   Ride Captain\nCity\, State:   Cheney\, Washington\nUser Name:   dennisochs\nEmail:   newapgr@comcast.net\n \nEmail Subject Line Setup\n\nPrefix to Use – Honor\nSubject Line – SHORT NOTICE –  William A Rizzo \, Veteran\, USA – Vietnam\,  Medical Lake\, Washington  – 02 Mar 2017\n\n\nSHORT NOTICE!\nSTATEWIDE REQUIRED!\n\n\n\n\n \n\nMod Instructions:\n\n\n++++++++ Copy the Information above this line++++++++++\n\n \nHonor Mission\n\n*** DO NOT REPLY *** \nThis is an automated message sent to you because you have subscribed to this State’s Mission thread. For current details on this mission\, please follow the link below. \nWilliam A Rizzo\, Veteran \nUSA  – Vietnam\nMedical Lake\, Washington – 02 Mar 2017\n \n\n\nABOUT THE MISSION:\nSP4 William Rizzo served with the 82nd Airborne Division during the Vietnam War. He was awarded 3 Bronze Stars and 2 Purple Hearts for his actions in combat.\n\nPRIMARY STAGING DETAILS:  02 Mar 2017\n\nPrimary Staging Time:  12:30 P.M.\nDenny’s Harvest Foods\, 215 HWY 902\nMedical Lake\, Washington – 99022\n  \n\nRide Captain:\nBob”WingNut”McCarthy\npgrwingnut@gmail.com\n(509) 850-7723\n\nSpecial Instructions:\n12:50PM: Briefing\n1:00PM: KSU\n1:15:PM: Flag Line in Place\n\nFlags & Water:\nFlags Will Be Provided\nLarge Bike Flags will NOT be needed.\nWater will be provided. \nSubmitted By:  Dennis Ochs\nPosition:  Ride Captain \n\nNote:\nYou do not have to own/ride a motorcycle or be a Veteran to join and membership is Free. The only requirement is RESPECT! To join\, simply go to Patriot Guard website and click on Register. Membership is Free. \nTo subscribe to receive mission notices\, log into the National Site and click on the Mission Tab at the top. Select Upcoming Missions by State. Scroll to the state(s) you would like to receive notices for and click on the green check mark. Detailed instructions are also located in the FAQs on the site by clicking on the Quick Links Tab and selecting FAQs.
URL:https://www.patriotguard.org/mission/state-mission-request-for-02-mar-2017-from-washington-william-a-rizzo/
CATEGORIES:Archive
END:VEVENT
END:VCALENDAR