BEGIN:VCALENDAR
VERSION:2.0
PRODID:-//Patriot Guard Riders - ECPv5.3.2.1//NONSGML v1.0//EN
CALSCALE:GREGORIAN
METHOD:PUBLISH
X-WR-CALNAME:Patriot Guard Riders
X-ORIGINAL-URL:https://www.patriotguard.org
X-WR-CALDESC:Events for Patriot Guard Riders
BEGIN:VTIMEZONE
TZID:America/New_York
BEGIN:DAYLIGHT
TZOFFSETFROM:-0500
TZOFFSETTO:-0400
TZNAME:EDT
DTSTART:20170312T070000
END:DAYLIGHT
BEGIN:STANDARD
TZOFFSETFROM:-0400
TZOFFSETTO:-0500
TZNAME:EST
DTSTART:20171105T060000
END:STANDARD
END:VTIMEZONE
BEGIN:VEVENT
DTSTART;TZID=America/New_York:20170302T170000
DTEND;TZID=America/New_York:20170302T190000
DTSTAMP:20210404T163848
CREATED:20170302T220000Z
LAST-MODIFIED:20191201T044043Z
UID:371464-1488474000-1488481200@www.patriotguard.org
SUMMARY:State Mission Request for 02 Mar 2017 from Texas - Donnie Hart
DESCRIPTION:Submitted by:\nMember Name:   Dan Mathys\nPosition:   Ride Captain\nCity\, State:   Arlington\, Texas\nUser Name:   dpmath\nEmail:   pgrdan1@gmail.com\n \nEmail Subject Line Setup\n\nPrefix to Use – Honor\nSubject Line – SHORT NOTICE –  Donnie Hart \, Veteran –  MULTI-CITY\, Texas  – 02 Mar 2017\n\n\nSHORT NOTICE!\n\nMULTI-CITY! See Mod Instructions for Details\n\n\n\n \n\nMod Instructions:\n\n\n++++++++ Copy the Information above this line++++++++++\n\n \nHonor Mission\n\n*** DO NOT REPLY *** \nThis is an automated message sent to you because you have subscribed to this State’s Mission thread. For current details on this mission\, please follow the link below. \nDonnie Hart\, Veteran \n\nMULTI-CITY\, Texas – 02 Mar 2017\n \n\n\nABOUT THE MISSION:\nWe will honor SP5 Donnie Hart at both his funeral service and his interment service.\n\nPRIMARY STAGING DETAILS:  02 Mar 2017\n\nPrimary Staging Time:  1400 P.M.\nOwens and Brumley Funeral Home\n1317 NInth Street\nWichita Falls\, Texas – 76301\n  \n\nRide Captain:\nMike Johnson\nweldermike@aol.com\n(940) 224-2872\n\nSpecial Instructions:\nUpon arrival at the funeral home we will place static flags around the parking lot and front of the funeral home. We will then have a short briefing and prepare to stand an honor line at the entrance for the arrival of the friends and family of Mr. Hart. \nProcession Information:\nNO LEO Escort Provided\nCages Are Allowed in Procession \nWe will have a selected number of honor bikes accompany the procession from Wichita Falls to the cemetery. The funeral home will block traffic for us to leave the parking lot. Once we are on the street\, it is a straight shot up I-44 to Burkburnett. There will be two traffic signals and one stop sign between the funeral home and the cemetery. The rest is four lane expressway with no turns or exits until we take off in Burkburnett. The cemetery is one block off of I-44.\n\nFlags & Water:\nFlags Will Be Provided\nIf you have large bike flags\, please bring them.\nWater will be provided. \n\nSTAGING #2 DETAILS:  02 Mar\, 2017\n\n Staging #2 Time:  1515 P.M.\nBurkburnett Memorial Cemetery\n1030 Sheppard Road\nBurkburnett\, Texas – 76354\n  \n\nRide Captain:\nBarbara Johnson\nbrbjo@aol.com\n(940) 642-5324\n\nSpecial Instructions:\nOnce the funeral service at the funeral home is underway we will furl and stow our flags and make way to the cemetery where we will again place static flags around the grave site for the interment service. Once the service is complete we will again stow our flags\, have a short debrief and be dismissed. \nAlso please note that the in position and service start times are approximate. They actual times will depend on the length of the funeral service and the time it takes the procession to travel the 12 miles from the funeral home to the cemetery.\n\nFlags & Water:\nFlags Will Be Provided\nLarge Bike Flags will NOT be needed\nWater will be provided. \nSubmitted By:  Dan Mathys\nPosition:  Ride Captain \n\nNote:\nYou do not have to own/ride a motorcycle or be a Veteran to join and membership is Free. The only requirement is RESPECT! To join\, simply go to Patriot Guard website and click on Register. Membership is Free. \nTo subscribe to receive mission notices\, log into the National Site and click on the Mission Tab at the top. Select Upcoming Missions by State. Scroll to the state(s) you would like to receive notices for and click on the green check mark. Detailed instructions are also located in the FAQs on the site by clicking on the Quick Links Tab and selecting FAQs.
URL:https://www.patriotguard.org/mission/state-mission-request-for-02-mar-2017-from-texas-donnie-hart/
LOCATION:Domingo Rodriguez
CATEGORIES:Archive
END:VEVENT
END:VCALENDAR