BEGIN:VCALENDAR
VERSION:2.0
PRODID:-//Patriot Guard Riders - ECPv5.3.2.1//NONSGML v1.0//EN
CALSCALE:GREGORIAN
METHOD:PUBLISH
X-WR-CALNAME:Patriot Guard Riders
X-ORIGINAL-URL:https://www.patriotguard.org
X-WR-CALDESC:Events for Patriot Guard Riders
BEGIN:VTIMEZONE
TZID:America/New_York
BEGIN:DAYLIGHT
TZOFFSETFROM:-0500
TZOFFSETTO:-0400
TZNAME:EDT
DTSTART:20170312T070000
END:DAYLIGHT
BEGIN:STANDARD
TZOFFSETFROM:-0400
TZOFFSETTO:-0500
TZNAME:EST
DTSTART:20171105T060000
END:STANDARD
END:VTIMEZONE
BEGIN:VEVENT
DTSTART;TZID=America/New_York:20170302T203000
DTEND;TZID=America/New_York:20170302T223000
DTSTAMP:20210402T002306
CREATED:20170303T013000Z
LAST-MODIFIED:20191201T044047Z
UID:371502-1488486600-1488493800@www.patriotguard.org
SUMMARY:State Mission Request for 02 Mar 2017 from Tennessee - Charles W. Umberger\, 81
DESCRIPTION:Submitted by:\nMember Name:   David Westhorp\nPosition:   State Captain\nCity\, State:   White House\, Tennessee\nUser Name:   redtag\nEmail:   dcwathome@comcast.net\n \nEmail Subject Line Setup\n\nPrefix to Use – Honor\nSubject Line – SHORT NOTICE –  Charles W. Umberger\, 81 \, PGR\, Veteran\, USMCR  –  Nashville\, Tennessee  – 02 Mar 2017\n\n\nSHORT NOTICE!\nSTATEWIDE REQUIRED!\n\n\n\n\n \n\nMod Instructions:\n\n\n++++++++ Copy the Information above this line++++++++++\n\n \nHonor Mission\n\n*** DO NOT REPLY *** \nThis is an automated message sent to you because you have subscribed to this State’s Mission thread. For current details on this mission\, please follow the link below. \nCharles W. Umberger\, 81\, PGR\, Veteran \nUSMCR \nNashville\, Tennessee – 02 Mar 2017\n \n\n\nABOUT THE MISSION:\nCharles was a member of PGR almost from the  beginning and brought water\, tools\, friendship and honor to the flag line. He was sorely missed when he retired from the flag line a few years ago. Charles was very active in Masonic organizations as well and his Memorial Service will be held at West Nashville Phoenix Lodge #131\, F&AM.\n\nPRIMARY STAGING DETAILS:  02 Mar 2017\n\nPrimary Staging Time:  8:30 P.M.\nPhoenix Lodge\n4607 Sloan Rd.\nNashville\, Tennessee – 37209\n  \n\nRide Captain:\nAldo Calabrese\n(615) 430-4756\n\nSpecial Instructions:\n\n\nFlags & Water:\nFlags Will Be Provided\nLarge Bike Flags will NOT be needed.\nWater WILL NOT be provided\, please bring your own. \nSubmitted By:  David Westhorp\nPosition:  State Captain \n\nNote:\nYou do not have to own/ride a motorcycle or be a Veteran to join and membership is Free. The only requirement is RESPECT! To join\, simply go to Patriot Guard website and click on Register. Membership is Free. \nTo subscribe to receive mission notices\, log into the National Site and click on the Mission Tab at the top. Select Upcoming Missions by State. Scroll to the state(s) you would like to receive notices for and click on the green check mark. Detailed instructions are also located in the FAQs on the site by clicking on the Quick Links Tab and selecting FAQs.
URL:https://www.patriotguard.org/mission/state-mission-request-for-02-mar-2017-from-tennessee-charles-w-umberger-81/
CATEGORIES:Archive
END:VEVENT
END:VCALENDAR