BEGIN:VCALENDAR
VERSION:2.0
PRODID:-//Patriot Guard Riders - ECPv5.3.2.1//NONSGML v1.0//EN
CALSCALE:GREGORIAN
METHOD:PUBLISH
X-WR-CALNAME:Patriot Guard Riders
X-ORIGINAL-URL:https://www.patriotguard.org
X-WR-CALDESC:Events for Patriot Guard Riders
BEGIN:VTIMEZONE
TZID:America/New_York
BEGIN:DAYLIGHT
TZOFFSETFROM:-0500
TZOFFSETTO:-0400
TZNAME:EDT
DTSTART:20170312T070000
END:DAYLIGHT
BEGIN:STANDARD
TZOFFSETFROM:-0400
TZOFFSETTO:-0500
TZNAME:EST
DTSTART:20171105T060000
END:STANDARD
END:VTIMEZONE
BEGIN:VEVENT
DTSTART;TZID=America/New_York:20170302T101500
DTEND;TZID=America/New_York:20170302T121500
DTSTAMP:20210403T051843
CREATED:20170302T151500Z
LAST-MODIFIED:20191201T044054Z
UID:371566-1488449700-1488456900@www.patriotguard.org
SUMMARY:State Mission Request for 02 Mar 2017 from Michigan - Ricky Allen McBride
DESCRIPTION:Submitted by:\nMember Name:   Alan Niemeyer\nPosition:   State Captain\nCity\, State:   Alto\, Michigan\nUser Name:   Niemo\nEmail:   Aniemeyer@percormfg.com\n \nEmail Subject Line Setup\n\nPrefix to Use – Honor\nSubject Line – SHORT NOTICE –  Ricky Allen McBride \, Veteran\, USA  –  MULTI-CITY\, Michigan  – 02 Mar 2017\n\n\nSHORT NOTICE!\nSTATEWIDE REQUIRED!\nMULTI-CITY! See Mod Instructions for Details\n\n\n\n \n\nMod Instructions:\n\n\n++++++++ Copy the Information above this line++++++++++\n\n \nHonor Mission\n\n*** DO NOT REPLY *** \nThis is an automated message sent to you because you have subscribed to this State’s Mission thread. For current details on this mission\, please follow the link below. \nRicky Allen McBride\, Veteran \nUSA \nMULTI-CITY\, Michigan – 02 Mar 2017\n \n\n\nABOUT THE MISSION:\nThe Family of Ricky McBride have invited the Patriot Guard Riders to Stand in Honor of his Service to our Country. Ricky enjoyed Golf and working with computers. \nObituary: http://obits.mlive.com/obituaries/jackson/obituary.aspx?n=ricky-allen-mcbride&pid=184251577&fhid=16571\n\nPRIMARY STAGING DETAILS:  02 Mar 2017\n\nPrimary Staging Time:  10:15 A.M.\nArthur Day Funeral Home\n820 5th St.\nMichigan Center\, Michigan – 49254\nhttps://www.mapquest.com/us/mi/michigan-center/49254-1208/820-5th-st-42.224689\,-84.326906  \n\nRide Captain:\nTBD \nFor information contact Gig\n(517) 462-8143\n\nSpecial Instructions:\nStaging: 10:15 am\nBriefing: 10:30 am\nF/L Following Briefing\nService: 11:00 am \nThis Mission will include an escort to Fort Custer National Cemetery in Augusta \nAnyone wishing to just go to Fort Custer are welcome to Stage just past the bathrooms on the Main Dr and wait for the escort.\nThe Escort will be at Highway speed for those riding please make sure Flags are squared away and secure.\n\nFlags & Water:\nFlags Will NOT Be Provided\, Please Bring Your Own.\nIf you have large bike flags\, please bring them.\nWater WILL NOT be provided\, please bring your own. \n\nSTAGING #2 DETAILS:  02 Mar\, 2017\n\n Staging #2 Time:  2:10 P.M.\nFort Custer National Cemetery\n15501 Dickman Rd\nAugusta\, Michigan – 49012\nhttp://mapq.st/2ljxGHB  \n\nRide Captain:\nTBD \nFor information contact Gig\n(517) 462-8143\n\nSpecial Instructions:\nAnyone wishing to just go to Fort Custer are welcome to Stage just past the bathrooms on the Main Dr and wait for the escort.\n\nFlags & Water:\nFlags Will NOT Be Provided\, Please Bring Your Own.\nLarge Bike Flags will NOT be needed\nWater WILL NOT be provided\, please bring your own. \nSubmitted By:  Alan Niemeyer\nPosition:  State Captain \n\nNote:\nYou do not have to own/ride a motorcycle or be a Veteran to join and membership is Free. The only requirement is RESPECT! To join\, simply go to Patriot Guard website and click on Register. Membership is Free. \nTo subscribe to receive mission notices\, log into the National Site and click on the Mission Tab at the top. Select Upcoming Missions by State. Scroll to the state(s) you would like to receive notices for and click on the green check mark. Detailed instructions are also located in the FAQs on the site by clicking on the Quick Links Tab and selecting FAQs.
URL:https://www.patriotguard.org/mission/state-mission-request-for-02-mar-2017-from-michigan-ricky-allen-mcbride/
END:VEVENT
END:VCALENDAR