BEGIN:VCALENDAR
VERSION:2.0
PRODID:-//Patriot Guard Riders - ECPv5.3.2.1//NONSGML v1.0//EN
CALSCALE:GREGORIAN
METHOD:PUBLISH
X-WR-CALNAME:Patriot Guard Riders
X-ORIGINAL-URL:https://www.patriotguard.org
X-WR-CALDESC:Events for Patriot Guard Riders
BEGIN:VTIMEZONE
TZID:America/New_York
BEGIN:DAYLIGHT
TZOFFSETFROM:-0500
TZOFFSETTO:-0400
TZNAME:EDT
DTSTART:20170312T070000
END:DAYLIGHT
BEGIN:STANDARD
TZOFFSETFROM:-0400
TZOFFSETTO:-0500
TZNAME:EST
DTSTART:20171105T060000
END:STANDARD
END:VTIMEZONE
BEGIN:VEVENT
DTSTART;TZID=America/New_York:20170602T081500
DTEND;TZID=America/New_York:20170602T101500
DTSTAMP:20210405T214317
CREATED:20170602T121500Z
LAST-MODIFIED:20191201T042829Z
UID:365502-1496391300-1496398500@www.patriotguard.org
SUMMARY:State Mission Request for 02 Jun 2017 from Illinois - PFC Richard E “Rick” Bellgardt II
DESCRIPTION:Submitted by:\nMember Name:   David Gier\nPosition:   Ride Captain\nCity\, State:   Crestwood\, Illinois\nUser Name:   Bike Dave\nEmail:   davidbgier@sbcglobal.net\n \nEmail Subject Line Setup\n\nPrefix to Use – Honor\nSubject Line –   PFC Richard E “Rick” Bellgardt II \, Veteran\, USA – Vietnam\,  MULTI-CITY\, Illinois  – 02 Jun 2017\n\n\n\n\nMULTI-CITY! See Mod Instructions for Details\n\nGRAPHIC ATTACHED! Validate Source Provided.\n\n \n\nMod Instructions:\nplease\n\n++++++++ Copy the Information above this line++++++++++\n\n \nHonor Mission\n\n*** DO NOT REPLY *** \nThis is an automated message sent to you because you have subscribed to this State’s Mission thread. For current details on this mission\, please follow the link below. \nPFC Richard E “Rick” Bellgardt II\, Veteran \nUSA  – Vietnam\nMULTI-CITY\, Illinois – 02 Jun 2017\n \n\n\nABOUT THE MISSION:\nThe family of Pfc. Bellgardt has asked that the Patriot Guard be involved with his funeral and burial on Friday the 2nd of June.  He served in the US Army in Vietnam with the 82nd Airborne. Among the awards that he received were the National Defense Medal\, Combat Infantryman Badge\, Vietnam Campaign Medal\, Army Commendation Medal\, Bronze Star w/device Medal and the Vietnam Service Medal and the Bronze Star. He is credited with saving many lives there. He was a member of the local VFW and served as quartermaster of the unit. Let us show up and acknowledge what he did for this great country. After the service\, we will escort him and family and friends to the cemetery where military honors will be accorded.\n\nPRIMARY STAGING DETAILS:  02 Jun 2017\n\nPrimary Staging Time:  8:15 A.M.\nOaks Funeral Home\n1201 E. Irving Park Rd.\nItasca\, Illinois –\n  \n\nRide Captain:\nRC: Bob “Harry” Harrison 708-601-9247\n\nSpecial Instructions:\nSTAGE/BRIEF:\n0815 hrs \nCOMMITTAL:\nMt. Emblem Cemetery\n520 E. Grand Ave.\nElmhurst\, IL\n\nFlags & Water:\nFlags Will Be Provided\nIf you have large bike flags\, please bring them.\nWater WILL NOT be provided\, please bring your own. \nSubmitted By:  David Gier\nPosition:  Ride Captain\nGraphic Source:\n\nNote:\nYou do not have to own/ride a motorcycle or be a Veteran to join and membership is Free. The only requirement is RESPECT! To join\, simply go to www.PatriotGuard.org and click on Register. Membership is Free. \nTo subscribe to receive mission notices\, log into the National Site and click on the Mission Tab at the top. Select Upcoming Missions by State. Scroll to the state(s) you would like to receive notices for and click on the green check mark. Detailed instructions are also located in the FAQs on the site by clicking on the Quick Links Tab and selecting FAQs.
URL:https://www.patriotguard.org/mission/state-mission-request-for-02-jun-2017-from-illinois-pfc-richard-e-rick-bellgardt-ii/
LOCATION:Tim Harton Graves
CATEGORIES:Archive
END:VEVENT
END:VCALENDAR