BEGIN:VCALENDAR
VERSION:2.0
PRODID:-//Patriot Guard Riders - ECPv5.3.2.1//NONSGML v1.0//EN
CALSCALE:GREGORIAN
METHOD:PUBLISH
X-WR-CALNAME:Patriot Guard Riders
X-ORIGINAL-URL:https://www.patriotguard.org
X-WR-CALDESC:Events for Patriot Guard Riders
BEGIN:VTIMEZONE
TZID:America/New_York
BEGIN:DAYLIGHT
TZOFFSETFROM:-0500
TZOFFSETTO:-0400
TZNAME:EDT
DTSTART:20170312T070000
END:DAYLIGHT
BEGIN:STANDARD
TZOFFSETFROM:-0400
TZOFFSETTO:-0500
TZNAME:EST
DTSTART:20171105T060000
END:STANDARD
END:VTIMEZONE
BEGIN:VEVENT
DTSTART;TZID=America/New_York:20170901T110000
DTEND;TZID=America/New_York:20170901T130000
DTSTAMP:20210401T162635
CREATED:20170901T150000Z
LAST-MODIFIED:20191201T041736Z
UID:359965-1504263600-1504270800@www.patriotguard.org
SUMMARY:State Mission Request for 01 Sep 2017 from New York - Saverio DeLaurentis
DESCRIPTION:Submitted by: \n\nMember Name: Ray Sestak\nPosition: Ride Captain\nCity\, State: Glenmont\, New York\nUser Name: PGRNYMods\nEmail: pgrnymod@gmail.com\n\nEmail Subject Line Setup\n[HR][/HR]Prefix to Use – Honor\nSubject Line – SHORT NOTICE –  Saverio DeLaurentis \, Veteran\, USN – Vietnam\,  Wading River\, New York  – 01 Sep 2017\n[HR][/HR] \n\nSHORT NOTICE!\n\nMod Instructions: \n\n\n++++++++ Copy the Information above this line++++++++++ \n\nHonor Mission\n*** DO NOT REPLY ***  \nSaverio DeLaurentis\, Veteran\nUSN  – Vietnam\nWading River\, New York – 01 Sep 2017\n\n\n[HR][/HR]\nABOUT THE MISSION: \n\nUS Navy Vietnam Veteran Saverio DeLaurentis has no known family. The Ministry of Consolation for St Anthony is requesting we stand for this veteran as his family. No Veteran should be buried alone so we will be his family as he is laid to rest among the hero’s at Calverton.\n\n\nPRIMARY STAGING DETAILS:  01 Sep 2017\nPrimary Staging Time: 11:00 A.M. \n\nCalverton National Cemetery\nWading River\, New York –\n\n\nRide Captain: \n\nJohn Fenech\njfenech27@gmail.com\n631-793-0096\n\n\nSpecial Instructions: \n\nFront Entrance to Calverton National Cemetery\n\n\nFlags & Water: \n\nFlags Will Be Provided\nLarge Bike Flags will NOT be needed.\nWater WILL NOT be provided\, please bring your own.\n\nSubmitted By: Ray Sestak\nPosition: Ride Captain\n[HR][/HR]Note:\nYou do not have to own/ride a motorcycle or be a Veteran to join and membership is Free. The only requirement is RESPECT! To join\, simply go to www.PatriotGuard.org and click on Register. Membership is Free. \nTo subscribe to receive mission notices\, log into the National Site and click on the Mission Tab at the top. Select the Subscribe to Missions option.
URL:https://www.patriotguard.org/mission/state-mission-request-for-01-sep-2017-from-new-york-saverio-delaurentis/
END:VEVENT
END:VCALENDAR