BEGIN:VCALENDAR
VERSION:2.0
PRODID:-//Patriot Guard Riders - ECPv5.3.2.1//NONSGML v1.0//EN
CALSCALE:GREGORIAN
METHOD:PUBLISH
X-WR-CALNAME:Patriot Guard Riders
X-ORIGINAL-URL:https://www.patriotguard.org
X-WR-CALDESC:Events for Patriot Guard Riders
BEGIN:VTIMEZONE
TZID:America/New_York
BEGIN:DAYLIGHT
TZOFFSETFROM:-0500
TZOFFSETTO:-0400
TZNAME:EDT
DTSTART:20170312T070000
END:DAYLIGHT
BEGIN:STANDARD
TZOFFSETFROM:-0400
TZOFFSETTO:-0500
TZNAME:EST
DTSTART:20171105T060000
END:STANDARD
END:VTIMEZONE
BEGIN:VEVENT
DTSTART;TZID=America/New_York:20171101T123000
DTEND;TZID=America/New_York:20171101T143000
DTSTAMP:20210405T210743
CREATED:20171101T163000Z
LAST-MODIFIED:20191201T041037Z
UID:356366-1509539400-1509546600@www.patriotguard.org
SUMMARY:State Mission Request for 01 Nov 2017 from Washington - Colonel Donald E. Good
DESCRIPTION:****************************************\n\nMemorial\nDonald E. Good\, Veteran\, USAAC\, USAF – WWII\,  Maple Valley\, Washington  – 01 Nov 2017 \n\nColonel Donald E. Good\, Veteran\nUSAAC\, USAF  – WWII\nMaple Valley\, Washington – 01 Nov 2017\n\n\n[HR][/HR]\nABOUT THE MISSION: \n\nLadies and gentlemen of the Patriot Guard Riders \nWe have been invited to honor Colonel Donald E. Good\, USAAC/USAF who   flew with the Grim Reapers in the Pacific Theater during WWII. Colonel   Good served 27 years and flew B25 and A20 aircraft. He was shot down   near Australia during WWII. Later\, Colonel Good served at the Pentagon   with General Curtis Lemay. After his years of military service\, he   worked for Boeing on the B1 Bomber and Cruise Missile programs. After   retiring from Boeing\, Donald became a Junior High teacher to give back   to the Country he so loved. He was an avid fly fisherman and the second   worst motorcycle driver after Evil Knievel. \nPlease join us in honoring another of the Greatest Generation.\n \n\nPRIMARY STAGING DETAILS:  01 Nov 2017\nPrimary Staging Time: 12:30 P.M. \n\nMcDonalds\n23225 Maple Valley/Black Diamond Rd.\nMaple Valley\, Washington – 98038\n\n\nRide Captain: \n\nSabrina “Mother Hen” Brown \nsabrinacbrown@hotmail.com\n206-369-1434\n\n\nSpecial Instructions: \n\n12:15 – RC’s arrive\n12:30 – Riders arrive and sign in\n12:45 – Ride Brief\n13:00 – KSU for Tahoma National Cemetery\n13:15 – Arrive Tahoma set up Flag line\n13:30 – Service starts\n13:45 – De-Brief and dismiss\n\n\nFlags & Water: \n\nFlags Will Be Provided\nLarge Bike Flags will NOT be needed.\nWater will be provided.\n\n\nSubmitted By: Doug Shepard\nPosition: Ride Captain\n[HR][/HR]Note:\nYou do not have to own/ride a motorcycle or be a Veteran to join and membership is Free. The only requirement is RESPECT! To join\, simply go to www.PatriotGuard.org and click on Register. Membership is Free. \nTo subscribe to receive mission notices\, log into the National Site and click on the Mission Tab at the top. Select the Subscribe to Missions option. \n#######################################\n \nSubmitted by: \n\nMember Name: Doug Shepard\nPosition: Ride Captain\nCity\, State: Woodinville\, Washington\nUser Name: Dougsh\nEmail: Dougsh@hotmail.com\n\nEmail Subject Line Setup\n[HR][/HR]Prefix to Use – Memorial\nSubject Line –  Colonel Donald E. Good \, Veteran\, USAF – WWII\,  Maple Valley\, Washington  – 01 Nov 2017\n[HR][/HR]Mod Instructions:++++++++ Copy the Information above this line++++++++++ \n\nMemorial Mission\n*** DO NOT REPLY ***  \nColonel Donald E. Good\, Veteran\nUSAF  – WWII\nMaple Valley\, Washington – 01 Nov 2017\n\n\n[HR][/HR]\nABOUT THE MISSION: \n\nLadies and gentlemen of the Patriot Guard Riders \nWe have been invited to honor Colonel Donald E. Good\, USAAC/USAF who flew with the Grim Reapers in the Pacific Theatre during WW2. Colonel Good served 27 years and flew B25 and A20 aircraft. He was shot down near Australia during WW2. Later\, Colonel Good served at the Pentagon with General Curtis Lemay. After his years of military service\, he worked for Boeing on the B1 Bomber and Cruise Missile programs. After retiring from Boeing\, Donald became a Junior High teacher to give back to the Country he so loved. He was an avid fly fisherman and the second worst motorcycle driver after Evil Knievel. \nPlease join us in honoring another of the Greatest Generation.\n \n\nPRIMARY STAGING DETAILS:  01 Nov 2017\nPrimary Staging Time: 1230 P.M. \n\nMcDonalds\n23225 Maple Valley/Black Diamond Rd.\nMaple Valley\, Washington – 98038\n\n\nRide Captain: \n\nRCIT—Dean Thiem dftcars198@comcast.net 360-969-1755\nPrimary RC– Sabrina “Mother Hen” Brown\, sabrinacbrown@hotmail.com 206-369-1434\nSV – Veronica Port\n\n\nSpecial Instructions: \n\n12:15 – RC’s arrive\n12:30 – Riders arrive and sign in\n12:45 – Ride Brief\n13:00 – KSU for Tahoma National Cemetery\n13:15 – Arrive Tahoma set up Flag line\n13:30 – Service starts\n13:45 – De-Brief and dismiss \nPlease check the weather. There is no shame in riding in a Cage.\n \n\nFlags & Water: \n\nFlags Will Be Provided\nLarge Bike Flags will NOT be needed.\nWater will be provided.\n\n\nSubmitted By: Doug Shepard\nPosition: Ride Captain\n[HR][/HR]Note:\nYou do not have to own/ride a motorcycle or be a Veteran to join and membership is Free. The only requirement is RESPECT! To join\, simply go to www.PatriotGuard.org and click on Register. Membership is Free. \nTo subscribe to receive mission notices\, log into the National Site and click on the Mission Tab at the top. Select the Subscribe to Missions option.
URL:https://www.patriotguard.org/mission/state-mission-request-for-01-nov-2017-from-washington-colonel-donald-e-good/
CATEGORIES:Archive
END:VEVENT
END:VCALENDAR