BEGIN:VCALENDAR
VERSION:2.0
PRODID:-//Patriot Guard Riders - ECPv5.3.2.1//NONSGML v1.0//EN
CALSCALE:GREGORIAN
METHOD:PUBLISH
X-WR-CALNAME:Patriot Guard Riders
X-ORIGINAL-URL:https://www.patriotguard.org
X-WR-CALDESC:Events for Patriot Guard Riders
BEGIN:VTIMEZONE
TZID:America/New_York
BEGIN:DAYLIGHT
TZOFFSETFROM:-0500
TZOFFSETTO:-0400
TZNAME:EDT
DTSTART:20170312T070000
END:DAYLIGHT
BEGIN:STANDARD
TZOFFSETFROM:-0400
TZOFFSETTO:-0500
TZNAME:EST
DTSTART:20171105T060000
END:STANDARD
END:VTIMEZONE
BEGIN:VEVENT
DTSTART;TZID=America/New_York:20170501T103000
DTEND;TZID=America/New_York:20170501T123000
DTSTAMP:20210401T213124
CREATED:20170501T143000Z
LAST-MODIFIED:20191201T043317Z
UID:367791-1493634600-1493641800@www.patriotguard.org
SUMMARY:State Mission Request for 01 May 2017 from Alabama - LTC Clarence Duckworth
DESCRIPTION:Submitted by:\nMember Name:   Russ Padgett\nPosition:   Ride Captain\nCity\, State:   Mulga\, Alabama\nUser Name:   Skinny72\nEmail:   russdon@aol.com\n \nEmail Subject Line Setup\n\nPrefix to Use – Honor\nSubject Line – SHORT NOTICE –  LTC Clarence Duckworth \, Retired\, USA – Vietnam\,  MULTI-CITY\, Alabama  – 01 May 2017\n\n\nSHORT NOTICE!\n\nMULTI-CITY! See Mod Instructions for Details\n\n\n\n \n\nMod Instructions:\n\n\n++++++++ Copy the Information above this line++++++++++\n\n \nHonor Mission\n\n*** DO NOT REPLY *** \nThis is an automated message sent to you because you have subscribed to this State’s Mission thread. For current details on this mission\, please follow the link below. \nLTC Clarence Duckworth\, Retired \nUSA  – Vietnam\nMULTI-CITY\, Alabama – 01 May 2017\n \n\n\nABOUT THE MISSION:\nThe family of LTC Duckworth asked the Patriot Guard to stand and ride in honor of their hero. LTC Duckworth stood many years as a Rangr and Helicopter pilot and we will be honored to stand and ride for him.\n\nPRIMARY STAGING DETAILS:  01 May 2017\n\nPrimary Staging Time:  10:30 A.M.\nParker Memorial Dearmanville\n4229 US Highway 78\nAnniston\, Al 36207\nAnniston\, Alabama – 36207\nhttps://www.bing.com/maps/default.aspx?rtp=adr.~pos.33.6209030151367_-85.7493896484375_4229+Us+Highw  \n\nRide Captain:\nEddy Chapin (Victory Eddy)\n205-475-1058\neddybugn@bellsouth.net\n\nSpecial Instructions:\nStage at 10:30 AM for 11:00 Service which will be approximately 1 hour then escort to the Alabama National Cemetery.\nNo LEO. Hwy speeds so no large bike flags.\n\nFlags & Water:\nFlags Will Be Provided\nLarge Bike Flags will NOT be needed.\nWater WILL NOT be provided\, please bring your own. \n\nSTAGING #2 DETAILS:  01 May\, 2017\n\n Staging #2 Time:  2:30 P.M.\nAlabama National Cemetery\n3133 Highway 119\,\nMontevallo\, AL 35115\nMontevallo\, Alabama – 35115\nhttps://www.bing.com/maps?&ty=18&q=Alabama%20National%20Cemetery%20Montevallo%20AL&ss=ypid.YN21x4012  \n\nRide Captain:\nEddy Chapin (Victory Eddy)\n205-475-1058\neddybugn@bellsouth.net\n\nSpecial Instructions:\n2:30 staging for 2:45 appointment\n\nFlags & Water:\nFlags Will Be Provided\nLarge Bike Flags will be needed\nWater WILL NOT be provided\, please bring your own. \nSubmitted By:  Russ Padgett\nPosition:  Ride Captain \n\nNote:\nYou do not have to own/ride a motorcycle or be a Veteran to join and membership is Free. The only requirement is RESPECT! To join\, simply go to www.PatriotGuard.org and click on Register. Membership is Free. \nTo subscribe to receive mission notices\, log into the National Site and click on the Mission Tab at the top. Select Upcoming Missions by State. Scroll to the state(s) you would like to receive notices for and click on the green check mark. Detailed instructions are also located in the FAQs on the site by clicking on the Quick Links Tab and selecting FAQs.
URL:https://www.patriotguard.org/mission/state-mission-request-for-01-may-2017-from-alabama-ltc-clarence-duckworth/
CATEGORIES:Archive
END:VEVENT
END:VCALENDAR