BEGIN:VCALENDAR
VERSION:2.0
PRODID:-//Patriot Guard Riders - ECPv5.3.2.1//NONSGML v1.0//EN
CALSCALE:GREGORIAN
METHOD:PUBLISH
X-WR-CALNAME:Patriot Guard Riders
X-ORIGINAL-URL:https://www.patriotguard.org
X-WR-CALDESC:Events for Patriot Guard Riders
BEGIN:VTIMEZONE
TZID:America/New_York
BEGIN:DAYLIGHT
TZOFFSETFROM:-0500
TZOFFSETTO:-0400
TZNAME:EDT
DTSTART:20170312T070000
END:DAYLIGHT
BEGIN:STANDARD
TZOFFSETFROM:-0400
TZOFFSETTO:-0500
TZNAME:EST
DTSTART:20171105T060000
END:STANDARD
END:VTIMEZONE
BEGIN:VEVENT
DTSTART;TZID=America/New_York:20170601T123000
DTEND;TZID=America/New_York:20170601T143000
DTSTAMP:20210403T012344
CREATED:20170601T163000Z
LAST-MODIFIED:20191201T042845Z
UID:365643-1496320200-1496327400@www.patriotguard.org
SUMMARY:State Mission Request for 01 Jun 2017 from Louisiana - Alvin Hatten\, SST\, Veteran
DESCRIPTION:Submitted by:\nMember Name:   terry simmons\nPosition:   Ride Captain\nCity\, State:   Winnsboro\, Louisiana\nUser Name:   DX51173\nEmail:   terbek@bellsouth.net\n \nEmail Subject Line Setup\n\nPrefix to Use – Honor\nSubject Line –   Alvin Hatten\, SST\, Veteran \, Retired\, Veteran\, USA \, ARNG – Vietnam\, GW/ODS\,  Winnsboro\, Louisiana  – 01 Jun 2017\n\n\n\n\n\n\n\n\n \n\nMod Instructions:\n\n\n++++++++ Copy the Information above this line++++++++++\n\n \nHonor Mission\n\n*** DO NOT REPLY *** \nThis is an automated message sent to you because you have subscribed to this State’s Mission thread. For current details on this mission\, please follow the link below. \nAlvin Hatten\, SST\, Veteran\, Retired\, Veteran \nUSA ARNG  – Vietnam\, GW/ODS\nWinnsboro\, Louisiana – 01 Jun 2017\n \n\n\nABOUT THE MISSION:\nThe Family of Alvin Hatten has requested the Patriot Guard to stand in Honor of their loved one. Mr. Hatten served in Vietnam and Desert Storm. He had 22 years service\, 5 in the US Army and 17 in the ARNG. He was a past Commander of the VFW Post 3155 and past District Commander of VFW District 11.\n\nPRIMARY STAGING DETAILS:  01 Jun 2017\n\nPrimary Staging Time:  12:30 P.M.\nTemple Baptist Church\n287 Taylor Ave\nWinnsboro\, Louisiana – 71295\n  \n\nRide Captain:\nTerry “Pops” Simmons\nterbek@bellsouth.net\n318-282-1692\n\nSpecial Instructions:\nWe will stage at 12:30 to place flags on rebar. We will prepare and stand in Flag Line at 1:00. Services begin at 2:00. Following the services\, we will escort approximately 3 miles to Joe Hatten Cemetary\, 800 Hwy 130.\n\nFlags & Water:\nFlags Will Be Provided\nIf you have large bike flags\, please bring them.\nWater will be provided. \nSubmitted By:  terry simmons\nPosition:  Ride Captain \n\nNote:\nYou do not have to own/ride a motorcycle or be a Veteran to join and membership is Free. The only requirement is RESPECT! To join\, simply go to www.PatriotGuard.org and click on Register. Membership is Free. \nTo subscribe to receive mission notices\, log into the National Site and click on the Mission Tab at the top. Select Upcoming Missions by State. Scroll to the state(s) you would like to receive notices for and click on the green check mark. Detailed instructions are also located in the FAQs on the site by clicking on the Quick Links Tab and selecting FAQs.
URL:https://www.patriotguard.org/mission/state-mission-request-for-01-jun-2017-from-louisiana-alvin-hatten-sst-veteran/
CATEGORIES:Archive
END:VEVENT
END:VCALENDAR