BEGIN:VCALENDAR
VERSION:2.0
PRODID:-//Patriot Guard Riders - ECPv5.3.2.1//NONSGML v1.0//EN
CALSCALE:GREGORIAN
METHOD:PUBLISH
X-WR-CALNAME:Patriot Guard Riders
X-ORIGINAL-URL:https://www.patriotguard.org
X-WR-CALDESC:Events for Patriot Guard Riders
BEGIN:VTIMEZONE
TZID:America/New_York
BEGIN:DAYLIGHT
TZOFFSETFROM:-0500
TZOFFSETTO:-0400
TZNAME:EDT
DTSTART:20170312T070000
END:DAYLIGHT
BEGIN:STANDARD
TZOFFSETFROM:-0400
TZOFFSETTO:-0500
TZNAME:EST
DTSTART:20171105T060000
END:STANDARD
END:VTIMEZONE
BEGIN:VEVENT
DTSTART;TZID=America/New_York:20170201T124500
DTEND;TZID=America/New_York:20170201T144500
DTSTAMP:20210406T014545
CREATED:20170201T174500Z
LAST-MODIFIED:20191201T044413Z
UID:373278-1485953100-1485960300@www.patriotguard.org
SUMMARY:State Mission Request for 01 Feb 2017 from Oklahoma - Loren D. Love
DESCRIPTION:Submitted by:\nMember Name:   Ronnie Smith\nPosition:   Ride Captain\nCity\, State:   Durant\, Oklahoma\nUser Name:   Chief49\nEmail:   r_ssmith@yahoo.com\n \nEmail Subject Line Setup\n\nPrefix to Use – Honor\nSubject Line – SHORT NOTICE –  Loren D. Love \, Veteran\, USA – Korea\,  Calera\, Oklahoma  – 01 Feb 2017\n\n\nSHORT NOTICE!\nSTATEWIDE REQUIRED!\n\n\n\n\n \n\nMod Instructions:\n\n\n++++++++ Copy the Information above this line++++++++++\n\n \nHonor Mission\n\n*** DO NOT REPLY *** \nThis is an automated message sent to you because you have subscribed to this State’s Mission thread. For current details on this mission\, please follow the link below. \nLoren D. Love\, Veteran \nUSA  – Korea\nCalera\, Oklahoma – 01 Feb 2017\n \n\n\nABOUT THE MISSION:\nThe family of Loren Love USA\, Korea Veteran has asked the Patriot Guard Riders to stand a Flag Line at his Funeral Service to be held on Wednesday 1 Feb 2017 in Calera\, OK. Services will be held at the New Life Assembly of God Church 1003 N. 3rd Calera\, OK at 2:00pm. We will escort the hero to Garden of Memories Cemetery for interment. The Chickasaw Honor Guard has been requested to conduct Military Honors.\n\nPRIMARY STAGING DETAILS:  01 Feb 2017\n\nPrimary Staging Time:  12:45 P.M.\nNew Life Assembly of God\n1003 N. 3rd\nCalera\, Oklahoma – 74730\n  \n\nRide Captain:\nJamie “Bloodhound” Stclair\nacornerd@cherokeetel.com\n\nSpecial Instructions:\nMANDATORY BRIEFING: 1:15pm \nYOU MUST ATTEND THE BRIEFING TO RIDE IN THE ESCORT. \nIf you have large bike flags\, please bring them. \nFLAG LINE: 1:30pm \nWEATHER: Temp Low 44 High 65 (Mostly sunny) Please dress accordingly Hydrate\n\nFlags & Water:\nFlags Will Be Provided\nIf you have large bike flags\, please bring them.\nWater WILL NOT be provided\, please bring your own. \nSubmitted By:  Ronnie Smith\nPosition:  Ride Captain \n\nNote:\nYou do not have to own/ride a motorcycle or be a Veteran to join and membership is Free. The only requirement is RESPECT! To join\, simply go to Patriot Guard website and click on Register. Membership is Free. \nTo subscribe to receive mission notices\, log into the National Site and click on the Mission Tab at the top. Select Upcoming Missions by State. Scroll to the state(s) you would like to receive notices for and click on the green check mark. Detailed instructions are also located in the FAQs on the site by clicking on the Quick Links Tab and selecting FAQs.
URL:https://www.patriotguard.org/mission/state-mission-request-for-01-feb-2017-from-oklahoma-loren-d-love/
CATEGORIES:Archive
END:VEVENT
END:VCALENDAR