BEGIN:VCALENDAR
VERSION:2.0
PRODID:-//Patriot Guard Riders - ECPv5.3.2.1//NONSGML v1.0//EN
CALSCALE:GREGORIAN
METHOD:PUBLISH
X-WR-CALNAME:Patriot Guard Riders
X-ORIGINAL-URL:https://www.patriotguard.org
X-WR-CALDESC:Events for Patriot Guard Riders
BEGIN:VTIMEZONE
TZID:America/New_York
BEGIN:DAYLIGHT
TZOFFSETFROM:-0500
TZOFFSETTO:-0400
TZNAME:EDT
DTSTART:20170312T070000
END:DAYLIGHT
BEGIN:STANDARD
TZOFFSETFROM:-0400
TZOFFSETTO:-0500
TZNAME:EST
DTSTART:20171105T060000
END:STANDARD
END:VTIMEZONE
BEGIN:VEVENT
DTSTART;TZID=America/New_York:20170401T151500
DTEND;TZID=America/New_York:20170401T171500
DTSTAMP:20210404T195017
CREATED:20170401T191500Z
LAST-MODIFIED:20191201T043750Z
UID:370020-1491059700-1491066900@www.patriotguard.org
SUMMARY:State Mission Request for 01 Apr 2017 from Oklahoma - Deborah D. Simpson
DESCRIPTION:Submitted by:\nMember Name:   Jay Clark\nPosition:   Ride Captain\nCity\, State:   Geary\, Oklahoma\nUser Name:   jclark\nEmail:   jaybo_pgr@yahoo.com\n \nEmail Subject Line Setup\n\nPrefix to Use – Honor\nSubject Line –   Deborah D. Simpson \, Veteran\, USAF  –  Elk Cty\, Oklahoma  – 01 Apr 2017\n\n\n\nSTATEWIDE REQUIRED!\n\n\n\n\n \n\nMod Instructions:\n\n\n++++++++ Copy the Information above this line++++++++++\n\n \nHonor Mission\n\n*** DO NOT REPLY *** \nThis is an automated message sent to you because you have subscribed to this State’s Mission thread. For current details on this mission\, please follow the link below. \nDeborah D. Simpson\, Veteran \nUSAF \nElk Cty\, Oklahoma – 01 Apr 2017\n \n\n\nABOUT THE MISSION:\nThe family of A1C Deborah D. Simpson\, USAF\, Vietnam ERA veteran has requested the PGR to provide a Flagline at the memorial service to be held at the Buffalo Cemetery\, Sweetwater\, OK at 1400.  The Hero will be escorted from the Staging are to Buffalo Cemetery for the service. \nThe PGR has been asked to provide Military Honors for our Fallen American Hero.  We will be folding the flag as well as playing Taps.\n\nPRIMARY STAGING DETAILS:  01 Apr 2017\n\nPrimary Staging Time:  1215 P.M.\nHutches\n5100 W. 3rd St.\nElk Cty\, Oklahoma – 73044\n  \n\nRide Captain:\nASC Jay Clark\nJaybo_pgr@yahoo.com \nHonorary RC\nChris Carpenter (Husband)\n\nSpecial Instructions:\n1245 Briefing\n1300 KSU\nRiders must attend briefing if riding in the 30 miles escort\n\nFlags & Water:\nFlags Will Be Provided\nIf you have large bike flags\, please bring them.\nWater will be provided. \nSubmitted By:  Jay Clark\nPosition:  Ride Captain \n\nNote:\nYou do not have to own/ride a motorcycle or be a Veteran to join and membership is Free. The only requirement is RESPECT! To join\, simply go to Patriot Guard website and click on Register. Membership is Free. \nTo subscribe to receive mission notices\, log into the National Site and click on the Mission Tab at the top. Select Upcoming Missions by State. Scroll to the state(s) you would like to receive notices for and click on the green check mark. Detailed instructions are also located in the FAQs on the site by clicking on the Quick Links Tab and selecting FAQs.
URL:https://www.patriotguard.org/mission/state-mission-request-for-01-apr-2017-from-oklahoma-deborah-d-simpson/
LOCATION:Kathy Diehl
CATEGORIES:Archive
END:VEVENT
END:VCALENDAR