BEGIN:VCALENDAR
VERSION:2.0
PRODID:-//Patriot Guard Riders - ECPv5.3.2.1//NONSGML v1.0//EN
CALSCALE:GREGORIAN
METHOD:PUBLISH
X-WR-CALNAME:Patriot Guard Riders
X-ORIGINAL-URL:https://www.patriotguard.org
X-WR-CALDESC:Events for Patriot Guard Riders
BEGIN:VTIMEZONE
TZID:America/New_York
BEGIN:DAYLIGHT
TZOFFSETFROM:-0500
TZOFFSETTO:-0400
TZNAME:EDT
DTSTART:20170312T070000
END:DAYLIGHT
BEGIN:STANDARD
TZOFFSETFROM:-0400
TZOFFSETTO:-0500
TZNAME:EST
DTSTART:20171105T060000
END:STANDARD
END:VTIMEZONE
BEGIN:VEVENT
DTSTART;TZID=America/New_York:20170401T110000
DTEND;TZID=America/New_York:20170401T130000
DTSTAMP:20210403T090340
CREATED:20170401T150000Z
LAST-MODIFIED:20191201T043715Z
UID:369728-1491044400-1491051600@www.patriotguard.org
SUMMARY:State Mission Request for 01 Apr 2017 from Kentucky - William Foster
DESCRIPTION:Submitted by:\nMember Name:   Dan Bondurant\nPosition:   Ride Captain\nCity\, State:   Mayfield\, Kentucky\nUser Name:   baja01\nEmail:   danbondurant@bellsouth.net\n \nEmail Subject Line Setup\n\nPrefix to Use – Honor\nSubject Line – SHORT NOTICE –  William Foster \, Veteran\, USA – WWII\,  Mayfield\, Kentucky  – 01 Apr 2017\n\n\nSHORT NOTICE!\nSTATEWIDE REQUIRED!\n\n\n\n\n \n\nMod Instructions:\n\n\n++++++++ Copy the Information above this line++++++++++\n\n \nHonor Mission\n\n*** DO NOT REPLY *** \nThis is an automated message sent to you because you have subscribed to this State’s Mission thread. For current details on this mission\, please follow the link below. \nWilliam Foster\, Veteran \nUSA  – WWII\nMayfield\, Kentucky – 01 Apr 2017\n \n\n\nABOUT THE MISSION:\nMr. Foster was a 100 year old Veteran with a rank of  PFC 10th Army 505 AAAB SH WW ll\n\nPRIMARY STAGING DETAILS:  01 Apr 2017\n\nPrimary Staging Time:  11:00 A.M.\nByrn Funeral Home\n1020 Paris Rd\nMayfield\, KY 42066\nMayfield\, Kentucky – 42066\n  \n\nRide Captain:\nTim Ingland will be the R/C for this Mission\ntingland@gmail.com\n\nSpecial Instructions:\nStaging at the Funeral Home\, We have been ask to do a Flag Line at the Funeral Home and Escort with Flag Line at the Cemetery.\nFuneral Service at 1:00\n\nFlags & Water:\nFlags Will Be Provided\nIf you have large bike flags\, please bring them.\nWater WILL NOT be provided\, please bring your own. \nSubmitted By:  Dan Bondurant\nPosition:  Ride Captain \n\nNote:\nYou do not have to own/ride a motorcycle or be a Veteran to join and membership is Free. The only requirement is RESPECT! To join\, simply go to Patriot Guard website and click on Register. Membership is Free. \nTo subscribe to receive mission notices\, log into the National Site and click on the Mission Tab at the top. Select Upcoming Missions by State. Scroll to the state(s) you would like to receive notices for and click on the green check mark. Detailed instructions are also located in the FAQs on the site by clicking on the Quick Links Tab and selecting FAQs.
URL:https://www.patriotguard.org/mission/state-mission-request-for-01-apr-2017-from-kentucky-william-foster/
CATEGORIES:Archive
END:VEVENT
END:VCALENDAR