BEGIN:VCALENDAR
VERSION:2.0
PRODID:-//Patriot Guard Riders - ECPv5.6.0//NONSGML v1.0//EN
CALSCALE:GREGORIAN
METHOD:PUBLISH
X-WR-CALNAME:Patriot Guard Riders
X-ORIGINAL-URL:https://www.patriotguard.org
X-WR-CALDESC:Events for Patriot Guard Riders
BEGIN:VTIMEZONE
TZID:America/New_York
BEGIN:DAYLIGHT
TZOFFSETFROM:-0500
TZOFFSETTO:-0400
TZNAME:EDT
DTSTART:20160313T070000
END:DAYLIGHT
BEGIN:STANDARD
TZOFFSETFROM:-0400
TZOFFSETTO:-0500
TZNAME:EST
DTSTART:20161106T060000
END:STANDARD
END:VTIMEZONE
BEGIN:VEVENT
DTSTART;TZID=America/New_York:20160827T090000
DTEND;TZID=America/New_York:20160827T110000
DTSTAMP:20210512T015850
CREATED:20160827T130000Z
LAST-MODIFIED:20191201T143317Z
UID:409649-1472288400-1472295600@www.patriotguard.org
SUMMARY:Starling Edward Powers\, 80\, USA(RET) / Williamsburg
DESCRIPTION:Starling Edward Powers\, 80\nUS Army Retired\nWilliamsburg\, KY\n27 AUG 16\n\n\n\nKentucky has lost another hero. \nWe have been invited by he family of Sergeant Starling Edward Powers\, age 80 of Williamsburg\, KY to stand in his honor. \nHe was retired from the United States Army 101st Airborne Division having served our country for over 33 years. \nHe served in the USMC in Korea and two tours of duty in Vietnam with the 1st Cavalry Division\, \nHe was a lifelong patriot and loved his country to the extent that he was willing to risk his life in battle.  It is now our honor to stand for this fallen hero.  The arrangements are as follows: \nThe funeral will be held:\nSaturday\, August 27\, 2016\nCrowley Funeral Home Chapel\n103 S 2nd St\nWilliamsburg\, KY \nwith burial at the Smith Cemerty in Nevisdale\, KY. \nStage at 11:45 a.m. at Croley Funeral Home and stake flags \n12:00 p.m.-1:00 p.m. – Stand Flag Line and briefing \n1:00 p.m.- Render Final Salute \nAt the conclusion of the service we will escort SGT Powers to his final resting place at the Smith Cemetary in Nevisdale.  Military Honors will be conducted by the Whitley County High School JROTC. \nRide Captains for the mission are: \nSenior Ride Captain:\nSteve Scruggs\n606-344-4198 \nRide Captain:\nJean Scruggs\n606-620-6430
URL:https://www.patriotguard.org/mission/starling-edward-powers-80-usaret-williamsburg/
CATEGORIES:Archive
END:VEVENT
END:VCALENDAR