BEGIN:VCALENDAR
VERSION:2.0
PRODID:-//Patriot Guard Riders - ECPv5.6.0//NONSGML v1.0//EN
CALSCALE:GREGORIAN
METHOD:PUBLISH
X-WR-CALNAME:Patriot Guard Riders
X-ORIGINAL-URL:https://www.patriotguard.org
X-WR-CALDESC:Events for Patriot Guard Riders
BEGIN:VTIMEZONE
TZID:America/New_York
BEGIN:DAYLIGHT
TZOFFSETFROM:-0500
TZOFFSETTO:-0400
TZNAME:EDT
DTSTART:20160313T070000
END:DAYLIGHT
BEGIN:STANDARD
TZOFFSETFROM:-0400
TZOFFSETTO:-0500
TZNAME:EST
DTSTART:20161106T060000
END:STANDARD
END:VTIMEZONE
BEGIN:VEVENT
DTSTART;TZID=America/New_York:20160817T090000
DTEND;TZID=America/New_York:20160817T110000
DTSTAMP:20210512T015657
CREATED:20160817T130000Z
LAST-MODIFIED:20191201T143539Z
UID:409872-1471424400-1471431600@www.patriotguard.org
SUMMARY:Stanley Strauss\, USA
DESCRIPTION:Stanley Strauss\nUS Army Vietnam Veteran\nNewtown\, PA\n17 AUG 2016\n\n\n\nThe family of Army Vietnam War Veteran Stanley Strauss has requested the Patriot Guard Riders stand to honor his service to our nation during his interment ceremony Wednesday\, August 17. \nStanley earned the Purple Heart during his service in Vietnam.  Stanley will be interred at Washington Crossing National Cemetery with full military honors.  Stanley Strauss is a patriot who served our country with honor and now it’s our turn to stand and honor him. \nINTERMENT:  Ceremony 1130 HRS \nWashington Crossing National Cemetery\n830 Highland Road\nNewtown\, PA  18940\nMAP:  https://goo.gl/maps/VXQv5 \nStage: 1100 HRS\, at the front entrance \nRCIC:\nDale McGinnis\npgrpa.vetrep.east@gmail.com\n717-887-4679
URL:https://www.patriotguard.org/mission/stanley-strauss-usa/
CATEGORIES:Archive
END:VEVENT
END:VCALENDAR